Workbook
Name _1__Common_Acronyms: General_Instructions!$A$2
Name _1__Explanation_of_Acceptable_EUM_Expenses: Equipment_FAQs!$A$2
Name _1__General: Eligibility_Summary!$A$2
Name _1__General_Guidance: Screening_Instructions!$A$2
Name _2__Deadlines: General_Instructions!$A$4
Name _2__Enrollment_Threshold: Screening_Instructions!$A$4
Name _2__Explanation_of_Unacceptable_EUM_Expenses: Equipment_FAQs!$A$4
Name _2__Program: Eligibility_Summary!$A$4
Name _2A._Applicant_Information__School_Districts_Only: '2A_District_Applicant_Info'!$B$1
Name _2A._Applicant_Information__School_Districts_Only: #REF!
Name _2B._Applicant_Information___State_Colleges_Only: '2B_StateCollege_Applicant_Info'!$B$1
Name _2B._Applicant_Information___State_Colleges_Only: #REF!
Name _3__Career_Clusters: Eligibility_Summary!$A$6
Name _3__Grant_Summary: General_Instructions!$A$6
Name _3__Software: Equipment_FAQs!$A$6
Name _4__Expenses: Eligibility_Summary!$A$8
Name _4__General_Examples_of_Acceptable_and_Unacceptable_Equipment_Requests_for_2024–25: Equipment_FAQs!$A$8
Name _4__Summary_of_Workbook_Contents: General_Instructions!$A$8
Name _5__Attention: General_Instructions!$A$10
Name _5__Specific_Equipment_Examples_—_Acceptable: Equipment_FAQs!$A$10
Name _6__Concept_Pitch_Proposal_Review: General_Instructions!$A$12
Name _6__Specific_Equipment_Examples_—_Acceptable__Continued: Equipment_FAQs!$A$12
Name _7__Instructions: General_Instructions!$A$14
Name _7__Specific_Equipment_Examples_—_Unacceptable: Equipment_FAQs!$A$14
Name _8__Resources: General_Instructions!$A$19
Name A__Name_of_Eligible_Recipient_Fiscal_Agent: #REF!
Name A_Line_Number: #REF!
Name A_Line_Number: #REF!
Name A_Line_Number: Table2[[#Headers],[A Line Number]]
Name Account_Title: #REF!
Name Account_Title: #REF!
Name Account_Title: Table2[[#Headers],[D Account Title]]
Name Account_Title_2: Table2[[#Headers],[D Account Title]]
Name ACCOUNT_TITLE_AND_NARRATIVE: #REF!
Name ALLOCATED_TO_THIS_PROJECT: #REF!
Name AMOUNT: #REF!
Name B__Project_Number__FDOE_Use_Only: #REF!
Name B_Function_Code: #REF!
Name B_Function_Code: #REF!
Name B_Function_Code: Table2[[#Headers],[B Function Code]]
Name C__TAPS_Number: #REF!
Name C_Object_Code: #REF!
Name C_Object_Code: #REF!
Name C_Object_Code: Table2[[#Headers],[C Object Code]]
Name Career_Cluster: Teach_Out_Programs!$E$3
Name Career_Cluster_2: Career_Clusters_District!$D$3
Name Career_Cluster_3: Career_Clusters_StateCollege!$D$3
Name Category: #REF!
Name Category: #REF!
Name Category: Table1619[[#Headers],[Category]]
Name Category_2: Table1619[[#Headers],[Category]]
Name CIP_Number: Teach_Out_Programs!$A$3
Name CIP_Number_20202: Teach_Out_Programs!$A$3
Name CIP_Number_Text: Career_Clusters_StateCollege!$A$3
Name D_Account_Title: #REF!
Name D_Account_Title: #REF!
Name D_Account_Title: Table2[[#Headers],[D Account Title]]
Name Description: #REF!
Name Description: #REF!
Name Description: Table2[[#Headers],[E Description]]

Sheet Title Page
A2: Career and Technical Education 2026–27 Equipment Upgrade and Modernization (EUM) Grant Project Concept Workbook, TAPS #27B143
A3: Governor Ron DeSantis
A4: Henry Mack, Ed.D. Commissioner of Education

Sheet General_Instructions
A1: Equipment Upgrade and Modernization (EUM) Grant Project Concept Workbook General Instructions
A2: 1)Common Acronyms
A3: • Career and Technical Education (CTE) • Classification of Instructional Program (CIP) • Comprehensive Local Needs Assessment (CLNA) • Division of Career and Adult Education (DCAE) • Florida Department of Education (FDOE) • Request for Application (RFA) • Program Improvement Plans (PIPs) • Standard Occupational Classification (SOC)
A4: 2)Deadline and Reminders
A5: • Complete this project concept workbook and submit it only by e-mail to the Florida Department Education at Perkins@fldoe.org by Friday August 28, 2026, at 5:00 PM (Eastern Time). Please include "EUM 2026–27" in the subject line. Early submissions are welcome. Late submissions will not be accepted. A maximum of two project concepts per agency may be submitted. • If a project concept is designated, at the discretion of FDOE leadership, to receive an award allocation, FDOE will notify agencies with RFA instructions at a later time. Refer to the EUM memo for details about the online tutorial. • For EUM, equipment must be purchased, received, installed, and used for the benefit of students by June 30, 2027. • No late submissions no amendments and no extensions are accepted. • When submitting a Project Concept, name your files in the following way: "Agency Number-Agency Name-<TAPs Number>-Short Program Title-PC#." For example, 999-SunshineCSD-27B143-Machinery-PC2. "SunshineCSD" would be for "Sunshine County School District." "PC2" means "Project Concept #2."
A6: 3)Grant Summary
A7: • The EUM Grant is an opportunity for Florida school districts and state colleges that have a current need for equipment upgrades and modernization for an established postsecondary CTE program. Funds will assist agencies in meeting industry standards, which will better equip students for job opportunities in high-demand fields. The EUM Grant seeks to meet needs not readily addressed by other funding sources. Only Perkins-fundable, postsecondary programs in certain career clusters are allowed. See the Eligibility Summary for details. • Funds are NOT intended for the creation of new programs or the expansion of programs. • EUM may supplement but may not supplant other funding sources. If unsure, contact your agency's finance office. • There is no longer a distinction between an "upgrade" and "modernization." • Efficiency, cost-effectiveness and impact are important elements of the EUM Grant. • Only two project concepts per agency (Florida school district or state college), each in a separate workbook and with a total of $75,000–$250,000 in expenses per project concept, may be submitted for FDOE consideration. • Agencies should focus on one "main" program when completing the project concept but may also list two additional, optional programs that will substantially benefit students. • The minimum enrollment threshold is ten students. See Screening Instructions for details. • Equipment must have a per-unit value of $5,000 with a useful lifespan of at least one year. There is a limited number of potential exceptions. See the Equipment Frequently Asked Questions (FAQs). • Reasonable shipping and non-construction installation costs are permitted. Materials and supplies, as well as services — for example training, certifications, instructional software and materials, extended warranties and service contracts — are generally not accepted. The Equipment FAQs clarify which expenses are acceptable. • Please read the Eligibility Requirements sheet in this workbook for additional guidance.
A8: 4)Summary of Workbook Contents
A9: • Please read the instructions before completing the workbook. • There are six instruction sheets: 1)New for 2026–27, 2)General Instructions, 3)Eligibility Requirements, 4)Equipment FAQs, 5)Screening Instructions for the Screening Questionnaire, and 6)Projected Equipment Instructions for the Projected Equipment Form. • There are four reference sheets to help you complete the forms: 1)A Quick Reference to help you find needs stated on your Perkins V Entitlement Grant application, 2)a Teach-Out Programs list of programs (school district and college) ineligible for EUM because they are scheduled for teach-out or deletion, 3)a Career Clusters reference for districts (postsecondary program numbers only) to identify how programs are classified and 4)a Career Clusters reference for state colleges (credit and clock hours). • There are four forms required for a complete project concept: 1)Screening Questionnaire, 2)Applicant Info (district or state college), 3)Postsecondary Questionnaire, and 4)Projected Equipment Form. IMPORTANT: The budget form is now its own workbook.
A10: 5)Attention
A11: Please note the following: • Do not spend EUM funds unless you receive an EUM Project Award Notification. • Refer to the Chancellor's EUM memo for webinar training details.
A12: 6)Project Concept Review
... A30: F) Please contact Perkins@fldoe.org with any questions about the EUM Grant.

Sheet Eligibility_Summary
A1: EUM Grant Eligibility Summary
A2: 1)General
A3: • Applicant must be a Florida school district or state college that has received a postsecondary Perkins grant allocation. • A Perkins V Entitlement Grant application for the current year must be marked received by FDOE, and all required PIPs (if applicable) must be approved prior to submitting an EUM project concept. • EUM funds must address needs identified in the CLNA process and reported in the Perkins V Entitlement Grant application. See the Quick Reference sheet in this workbook. • Project concepts must be submitted by e-mail to Perkins@fldoe.org by the deadline. Late submissions are not accepted. See General Instructions. No more than two project concepts per agency, each in a separate EUM workbook. • In the current program year, there is no distinction between "upgrading" and "modernization." • The agency will evaluate funding sources to ensure that the amount requested cannot be provided by another source. EUM funds may be used in conjunction with other funds, but may not used as a substitute funding source for items listed on the Perkins V Entitlement Grant application. In other words, the amount received from this grant may be combined with other sources, but it must supplement and not supplant. When in doubt, consult your agency's finance office. • The agency understands that the EUM grant is a one-time, non-recurring grant to be used for the upgrade or modernization of equipment for existing career and technical education programs. • The agency must research equipment availability through the vendor and ensure that it will be purchased, installed and available for use by students before June 30 of the current program year. • There will be no extensions for the use of grant funds after June 30 of the current program year. • Amendments will not be accepted. For concerns regarding the project concept, contact Perkins@fldoe.org during the review process.
A4: 2)Program
A5: • EUM is for established, Perkins-fundable, postsecondary programs only. The focus of this grant is maintaining industry standards for existing programs, not establishing new programs or expanding programs. Programs that had no enrollment prior to the current program year are ineligible. The program(s) funded with the EUM grant must be marked as "fundable" in the Perkins Entitlement Grant application for the current program year. • Agencies should focus on one "main" program when completing the project concept, but may list up to two additional EUM-eligible programs that would substantially benefit from the EUM Grant. Listing additional programs is optional. Enrollment in each listed program must be at least ten students. (See Screening Instructions for guidance.) • Programs that have been "scheduled for deletion or teach-out" are not eligible. Refer to the Teach-Out Programs sheet in this workbook.
A6: 3)Career Clusters
A7: • To be eligible, postsecondary programs must be within one of the clusters below. See the Career Clusters sheet appropriate for your agency in this workbook. This list was developed by balancing many factors, including the following: student and state-wide needs; jobs that are high demand high wage or high skill; and availability of other grant funding. Some clusters will receive priority consideration. Although it is not the only factor considered, certain clusters are a priority. However, no project concept, even for a priority cluster, is guaranteed to receive funding. • The eligible clusters are: • Agriculture, Food & Natural Resources • Architecture & Construction [Priority] • Arts, A/V Technology & Communication • Business, Management & Administration • Education & Training • Energy [Priority] • Information Technology • Manufacturing [Priority] • Law, Public Safety & Security • Transportation, Distribution & Logistics [Priority]
A8: 4)Expenses
A9: • The minimum request for each project concept is $75,000. The maximum request per project concept is $250,000. • See Equipment FAQs in this workbook for details.

Sheet Equipment_FAQs
A1: EUM Grant Equipment Frequently Asked Questions
A2: 1)Explanation of Acceptable EUM Expenses
A3: • EUM covers expenses for the 2026–27 program year. • Expenses must be reasonable, allowable and allocable to an identified need. • Object codes. Typically, district object codes for equipment are 64X (e.g., 641). For state colleges, they are typically 7XXXX (e.g., 71001). In certain cases, it may be appropriate to list multiple purchases on a single line item in the budget form. See the Projected Equipment Instructions in this workbook. If unsure, contact your agency's finance office, or contact the FDOE Grants Manager assigned to your Perkins Entitlement Grant. While other codes may be possible, it must be clear that they are for EUM-acceptable expenses. In the Postsecondary Questionnaire, please explain why lines in the budget forms (DOE101S, Projected Equipment Form) that are not classified under these codes should be approved. • The focus of EUM is Perkins-allowable capitalized equipment. These tangible Items have a projected value of $5,000 or more per unit, and have a useful life of one year or more. • "Minor equipment" items are generally no longer accepted for EUM. These are tangible items with a useful life at least one year and a projected value of less than $5,000. • Fixed capital expenses, such as land or buildings, are not permitted. However, vehicles used for CTE training are typically acceptable. See the Specific Examples — Acceptable, Continued section below. • Vehicles must be for instructional purposes only. If invited to submit an RFA, the grants manager may require a vehicle purchase form. • EUM requests should not include consumables, but reasonable shipping and Perkins-allowable (non-construction) installation costs may be listed. • In general, an item that is a basic part of a vendor bundle, or is a non-consumable necessary for the essential function of equipment, may be listed even if it has a value of under $5,000. For example, a $150 3-D AutoCAD mouse necessary to operate a $6,000 AutoCAD workstation would be acceptable. A $150 mouse alone would not. • In some cases, it may be acceptable if multiple items of minor equipment worth less than $5,000 must be combined to make one functional unit worth at least $5,000. In this case, please make clear they must be combined to form a functional unit. The cost must be reasonable. This is generally acceptable with a clear and direct explanation. • Note: Although a firefighter self-contained breathing system may require a $750 blue cylinder, a $300 mask and other components to make a functional unit, remember that for this year, the value per functional unit must be at least $5,000, and this cost must be reasonable.
A4: 2)Explanation of Unacceptable EUM Expenses
A5: • No administrative or indirect costs. • No personnel or travel expenses. • Various non-equipment purchases. See below for examples.
A6: 3)Software
A7: • An operating system or software license necessary for fundamental equipment function would be acceptable. For example, a robotic arm may require software licenses to operate. • Remember: EUM only covers expenses for the current program year. Software purchased for a fixed term (such as a one-year license or one-year subscription) must be pro-rated to June 30 of the current program year. • When making an equipment purchase, if the basic operating system or license will not meet needs, an upgrade may be purchased with the equipment. • The intent of EUM is not for curriculum software. If the software comes pre-loaded, or a vendor automatically includes this with a basic equipment purchase, this is typically acceptable provided that this is explained in the Postsecondary Questionnaire. Software not essential for the fundamental, functional operation of the equipment, such as curriculum software, that is available as an option or "add-on" purchase with equipment, or is available separately, is typically not accepted. • If in doubt, contact Perkins@fldoe.org. For specific guidance about pro-rated grants expenses, contact the FDOE Grants Manager assigned to your Perkins Entitlement Grant. Please ask before submitting a concept pitch proposal and allow time for a response.
A8: 4)General Examples of Acceptable and Unacceptable Equipment Requests
A9: Examples of Acceptable Expenses • Capitalized equipment. • Items required to make equipment function are generally accepted. This may include, for example, the purchase of fundamental software necessary for machinery to run for the program year (but not optional instructional software, textbooks or consumable printer supplies). See the Software section above. Another example is a controller necessary to operate a machine. • Reasonable installation costs that do not involve building improvements or construction. Examples of Unacceptable Expenses • Optional instructional software, instructor guides, software rental, student portals, curriculum subscriptions, or other curriculum materials. • Training or certifications. • Consultation fees or assessment registration fees. • Textbooks. • Generic office furniture or other Perkins-unallowable expenses. • Indirect or administrative costs. • Personnel costs. • Land, buildings or building improvements. No construction. No walk-in freezers or installation that requires construction on a building. • Livestock. • Supplies and consumables, such as copper wire used for instruction, refrigerant or raw materials for 3-D printers. • Service contracts. • Maintenance plans. • Extended warranties or services. This does not refer to basic warranties automatically included with purchase.
A10: 5)Specific Equipment Examples — Acceptable
A11: Examples of Acceptable Expenses • A robotic arm requires a patented software license to operate. In this case, the license is available for one year at a time. For some reason, the operating software license is not included with the purchase of the equipment. In this case, it is acceptable to purchase the license because it is fundamentally necessary for the equipment to function. However, because the license is valid only for a set period of time, the amount must be pro-rated to June 30. • As long all other criteria listed in the EUM instruction are followed, and the items below have a useful life of one year or more, the following would generally be acceptable expenses because they meet the definition of capitalized equipment: • A simulator worth $75,000. • Four machining centers that cost $20,000 per unit. • An ambulance costs $300,000. EUM may cover up to $250,000 of the cost. EUM may be combined with other funds, but may not replace (supplant) other existing sources of funding. Contact your finance office if unsure.
A12: 6)Specific Equipment Examples — Acceptable, Continued
... A17: • When providing a narrative/description of purchases on the budget and projected equipment forms, provide a clear description without being overly specific. • For example, instead of requesting "5 Polaris-North brand, 32GB, SSD auto-CAD computers," request "5 auto-CAD computers."

Sheet Screening_Instructions
A1: EUM Grant Screening Questionnaire Instructions
A2: 1)General Guidance
A3: • There are three sections: General eligibility check, enrollment threshold and needs and impact. Answer all questions. Remember to select the career cluster for the main program that will be most affected by this EUM Project Concept. Additional guidance on the enrollment threshold may be found below. • The "main program" is the FDOE-recognized CTE program that most benefits from the equipment used. Equipment must be used for instructional purposes. The "main program" is the focus of the EUM project concept. • It is permissible for equipment to be used, for instructional purposes, by other FDOE-recognized CTE programs. You may optionally list a maximum of two additional programs that will benefit from the equipment. List only programs that meet eligibility requirements (enrollment threshold, eligible career cluster). In your narrative responses, these additional programs may be discussed briefly as a minor factor. Focus on the main program. Be honest about which is your main program. • The enrollment data are one consideration during review. That said, EUM is more concerned with cost effectiveness than the total number of students, as long as the minimum enrollment threshold is met.
A4: 2)Enrollment Threshold
A5: • EUM is not for establishing new programs. In other words, programs must have had enrollment prior to the 2026–2027 program year. • The main program and optional additional programs must have had at least ten students enrolled in 2024–25 (or 2025–26 if that was the first year with enrolled students). This is part of the ongoing effort to ensure effective and efficient use of funds. Do not use 2026–27 enrollment numbers. Do not add multiple program years together to increase a program's enrollment. • Agencies must indicate the number of students enrolled on the Screening Questionnaire. Agencies report this data to FDOE. Due to reporting timeframes, the most recently reported data are from 2024–25. You must use the enrollment numbers from 2024–25 if the program had enrollment that year. • If a program had fewer than ten students in 2024–25, but at least ten students in 2025–26, you must receive permission prior to submitting the concept pitch proposal by e-mailing Perkins@fldoe.org. Allow processing time to consider the request. • If a 2025–26 enrollment number is used and is approximate, be able to explain efforts to arrive at an accurate number, if requested. Make a thorough and reasonable effort to arrive at an accurate number. Failure to do so may result in disqualification of the project concept.
A6: • On the Screening Questionnaire, list the number of students enrolled in the main program. This refers to all students, not just concentrators. Example: Advanced Manufacturing and Production Technology (34). • In your project concept you may optionally list up to two additional programs that will substantially benefit from the EUM grant. List the enrollment for each by program name. For example:, Advanced Composites (10). Do not include any programs that had fewer than ten students enrolled or are not within EUM-eligible clusters.

Sheet 1_Screening_Questionnaire
B1: 1. Screening Questionnaire
A2: Prompt Number | B2: General Eligibility Check | C2: Dropdown Menu/Character Count
A3: 1 | B3: Dropdown menu. Proof of CLNA and compliance for postsecondary funding.
B4: Have you submitted your postsecondary Perkins V Entitlement Grant (XXB005) application and submitted any required Program Improvement Plans?
A5: 2 | B5: Dropdown menu. Reserve Fund Check. Mark "yes" for all that apply. At least one must be marked as "yes." For items that do not apply, select "No," or leave blank if unsure. If you cannot mark at least one of these as "yes," then stop — this pitch does not qualify.
B6: Rural area
B7: High CTE Population
B8: High percentage of CTE population
B9: Agency has subpopulation performance gaps
A10: 3 | B10: Dropdown menu. Career Clusters. Determine one "main" program in this concept pitch proposal that will be the most affected by EUM funding. Then, use the attached, state-defined Career Clusters sheet to determine how the program is classified. Do not rely on local career cluster designations. If the program's cluster cannot be found on this dropdown list, you must write a pitch for a different program. Contact Perkins@fldoe.org with questions or concerns.
B11: Please select the career cluster of the main program. Do not forget this step.
B12: Enrollment Threshold. (See General Instructions for Additional Guidance.)
A13: 4 | B13: Write the name of your main program and list the number of students enrolled in the main program in 2024–25. For example: Aerospace Technology (50). Be able to document if requested. If 2024–25 data are unavailable, write that 2025–26 data were used, and provide as accurate a number as possible. Important: If fewer than ten students were enrolled, then stop — this project concept does not qualify.
A15: 5 | B15: If you list additional programs (up to two) on the Applicant Info form, write the program names and the number of students enrolled for each in 2024–2025, separated by program name in the space below. Be able to document if requested. If 2024–25 data are unavailable, write that 2025–26 data were used. Do not include any programs that had fewer than ten students enrolled. Write "N/A" if not applicable.
B18: FDOE Use only: Record the average number of students enrolled the main program and additional programs. This average must be at least ten.
B19: Needs and Impact
A20: 6 | B20: Drop-down menu. Select the main county served. For example, this may be your main campus.
A22: 7 | B22: Auto-populate. Workforce Development Area for the main county served.
B23: =INDEX(Lookup!H2:H68, MATCH(B21, Lookup!I2:I68, 0)) -> #N/A
A24: 8 | B24: List additional counties served. For example, this may be where you have additional campuses.
A26: 9 | B26: Describe how this project will support one or more goals in the State Board of Education's K–20 Strategic Plan. Please limit your response to a maximum of 4000 characters.
B27: http://www.fldoe.org/policy/state-board-of-edu/strategic-plan.stml
C28: =LEN(B28) -> 0
A29: 10 | B29: List each need of the CLNA, as stated in your Entitlement Grant application, that this grant would address. Include both the text and the location of the need as found on your Entitlement RFA by section, part, prompt and number. For example: Text (1-E-ii-1). Use the Quick Reference sheet to help. If N/A, then stop — this project concept does not qualify.
A31: 11 | B31: Describe the key purchases in a few words (e.g., "portable electrical learning system" or "robotic arm trainer and controller").
A33: 12 | B33: Briefly describe the equipment requested and what it does. Please limit your response to a maximum of about 2500 characters (character count to the right).
C34: =LEN(B34) -> 0
A35: 13 | B35: Summarize why this equipment upgrade or modernization is necessary. Include a short description of how the equipment will be used for instruction and the expected overall impact of an EUM grant award (for example, how it will prepare students to succeed in their fields). Please limit your response to a maximum of about 4000 characters (character count to the right).
C36: =LEN(B36) -> 0
A37: 14 | B37: Optional. Please explain if anything did not populate correctly above.

Sheet Quick_Reference
A1: Perkins V Entitlement Grant Program Narrative Prompts Quick Reference Yellow = Excel, Purple = PDF, Bold = Needs
A2: Sec. | B2: Part | C2: Prompt | D2: Description
A3: 1 | B3: A | C3: i–iii | D3: Process Description
A4: 1 | B4: B | D4: Stakeholder Consultation Table
A5: 1 | B5: C | C5: i | D5: SSQ Section of Worksheet
A6: 1 | B6: C | C6: ii | D6: SSQ Narrative Table(s) (For Secondary, Check Excel Workbook to See Whether Middle Grades Table Applies)
A7: 1 | B7: C | C7: iii | D7: List: SSQ High-Priority Needs
A8: 1 | B8: D | C8: i | D8: LMA Section of Worksheet
A9: 1 | B9: D | C9: ii | D9: Phase-Out Programs (Might Be N/A)
A10: 1 | B10: D | C10: iii | D10: Programs for Development (Might Be N/A)
A11: 1 | B11: E | C11: i | D11: Table: Identify High-Priority CTE Programs/Programs-of-Study Needs
A12: 1 | B12: E | C12: ii | D12: List: High-Priority CTE Programs/Programs-of-Study Needs
A13: 1 | B13: F | C13: i | D13: Table: Faculty and Staff
A14: 1 | B14: F | C14: ii | D14: List: High-Priority Faculty & Staff Needs
A15: 1 | B15: G | C15: i | D15: Table: Perkins Accountability Performance
A16: 1 | B16: G | C16: ii | D16: List: High-Priority Performance Needs
... A19: 1 | B19: I | C19: i | D19: List: Other High-Priority Needs
A20: 2 | B20: A | D20: Fundable-Programs Column of Worksheet (Response for Each Program)
A21: 2 | B21: B | D21: Program-of-Study Column of Worksheet
A22: 2 | B22: C | D22: Primary Program-of-Study Form
A23: 2 | B23: D | D23: List: Program of Study Advisory Council Members
A24: 2 | B24: E | D24: Info Dissemination
A25: 3 | B25: A | C25: i–iii | D25: Career-Exploration & Development Narrative
A26: 4 | B26: A | C26: i–ii | D26: Academic Continuous-Improvement Narrative
A27: 5 | B27: A | C27: i–iv | D27: Special-Populations Narrative
A28: 6 | B28: A | C28: i–ii | D28: Opportunities for Work-Based Learning Narrative
A29: 7 | B29: A | D29: Early Postsecondary-Credit Narrative
A30: 8 | B30: A | C30: i-ii | D30: CTE Personnel-Support Narrative
A31: 9 | B31: A | C31: - | D31: Special Population Performance Narrative
A32: 10 | B32: A | C32: - | D32: Accountability and Performance Narrative (Data Management)
A33: 11 | B33: A | C33: - | D33: Reading/Strategic-Imperatives Narrative
A34: 12 | B34: A | C34: - | D34: General Education Provisions Act (GEPA)
A35: Updated 02/26/25, JN | B35: Revised 4/23/2026 BH

Sheet 2A_District_Applicant_Info
B1: 2A. Applicant Information (School Districts Only)
A2: Prompt Number
A3: 1 | B3: Agency Name (Technical Colleges Must Submit Under a School District Name)
A5: 2 | B5: Physical Site Location for Equipment Upgrade or Modernization (Technical Colleges May Be Identified Here)
A7: 3 | B7: Primary Contact
A9: 4 | B9: Phone Number
A11: 5 | B11: Email Address
A13: 6 | B13: School Districts Only: Type the Postsecondary Program Code. List ONLY ONE Main program. Although many programs may be affected, identify the program that will most benefit. Use the attached Career Clusters sheet.
A15: 7 | B15: Program that Has Been Scheduled for Deletion or Is in Teach-out? (Auto-populates. If "yes," program does not qualify.)
B16: =IF($B14<>"", IF(COUNTIF(PSDag!$I:$I, ('2A_District_Applicant_Info'!$B14)),"Yes","No"),"")
A17: 9 | B17: Eligible Program Name (Auto-populates)
B18: =IF($B14<>"",INDEX(Career_D!$G:$G,MATCH($B14,Career_D!$I:$I,0),0),"")
A19: 9 | B19: Eligible Program Cluster (Auto-populates)
B20: =IF($B14<>"",INDEX(Career_D!$M:$M,MATCH($B14,Career_D!$I:$I,0),0),"")
A21: 10 | B21: Optional: Additional Programs. Type the Program Code, Program Name and Career Cluster in this format: "Code/Name/Cluster." You may list up to two additional programs, if any, that will be substantially affected by the purchase of this equipment (see instructions). If asked, you must be able to document how a program is substantially affected. Use the "Career Clusters" sheet to list only programs from EUM-eligible clusters.
A24: 11 | B24: Amount Requested (from $75,000 to $250,000). List only the total amount for this project concept.
A26: 12 | B26: Optional. Please add notes here if something above does not appear to populate correctly.

Sheet 2B_StateCollege_Applicant_Info
B1: 2B. Applicant Information (Florida College System (FCS) Institutions only
A2: Prompt Number
A3: 1 | B3: Agency Name (Technical Colleges: Use the District Applicant form 2A and Submit Under a District Name)
A5: 2 | B5: Physical Site Location for Equipment Upgrade or Modernization
A7: 3 | B7: Primary Contact
A9: 4 | B9: Phone Number
A11: 5 | B11: Email Address
A13: 6 | B13: State Colleges Only: Type the Postsecondary CIP Code. Enter ten digits. You must include the leading zero if applicable. (Do not change formatting from text to number, even if prompted by Excel, because this will break the auto-populate function.) Use the 2020 Code instead of the 2010 Code (even for agricultural programs on the "FDACS" list, which may have appeared under the 2010 number on the Perkins Entitlement CLNA and Budget Excel Workbook). List ONLY ONE main program. Although many programs may be affected, identify the program that will most benefit students. Use the attached Career Clusters sheet.
A15: 7 | B15: Program that Has Been Scheduled for Deletion or Is in Teach-out? (Auto-populates. If yes, program does not qualify.)
B16: =IF($B14<>"", IF(COUNTIF(PSDag!$D:$D, ('2B_StateCollege_Applicant_Info'!$B14)),"Yes","No"),"")
A17: 8 | B17: Eligible Program Name (Auto-populates)
B18: {=IF($B14<>"",INDEX(Career_FCS!$G:$G,MATCH($B14,Career_FCS!$D:$D,0),0),"")}
A19: 9 | B19: Eligible Program Cluster (Auto-populates)
B20: {=IF($B14<>"",INDEX(Career_FCS!$M:$M,MATCH($B14,Career_FCS!$D:$D,0),0),"")}
A21: 10 | B21: Additional Programs. Type the CIP Code, Program Name and Career Cluster in this format: "Code/Name/Cluster." You may list up to two additional programs, if any, that will be substantially affected by the purchase of this equipment (see instructions). If asked, you must be able to document how a program is substantially affected. Use the "Career Clusters" sheet to list only programs from EUM-eligible clusters.
A23: 11 | B23: Amount Requested (from $75,000 to $250,000). List only the total amount for this concept pitch proposal.
A25: 12 | B25: Optional. Please add notes here if something above does not appear to populate correctly.

Sheet Teach_Out_Programs
A1: Postsecondary Programs Scheduled for Teach-Out or Deletion (School District and FCS)
A2: Updated 07/30/26 based on the 7/27/26 Database. Programs in ineligible clusters have been excluded. If a program has been scheduled for teach-out or deletion, it is ineligible for EUM. If such a program is marked as "true" in the "Replaced" column, then check the "Replaces Old CIP" column to locate the new CIP. Contact Perkins@fldoe.org with questions. If needed, the Florida CIP-SOC Crosswalk (FL XWalk) is here: https://www.fldoe.org/academics/career-adult-edu/career-tech-edu/program-resources.stml
A3: CIP_Number_20202 | B3: FDOE_Program_Title | C3: Program_Type | D3: Postsecondary_Program_Number | E3: Career_Cluster | F3: NonTrad | G3: SOC_Code | H3: SOC_Title | I3: Teach_Out_Programs | J3: Year_Daggered | K3: Last_Reportable_Year | L3: Replaced | M3: Replacement | N3: Replaces_Old_CIP | O3: Perkins_Fundable
A4: 0450040804 | B4: Interior Decorating Services | C4: CAR | D4: V200600 | E4: Arts, A/V Technology & Communication | F4: X | G4: See (MCL) | H4: See current Master Credentials List (MCL) | I4: TRUE | J4: 25-26 | K4: 28-29 | L4: TRUE | M4: 0450040808 | O4: TRUE
A5: 0511100302 | B5: Applied Cybersecurity | C5: CAR | D5: Y100300 | E5: Information Technology | F5: F | G5: See (MCL) | H5: See current Master Credentials List (MCL) | I5: TRUE | J5: 26-27 | K5: 27-28 | L5: TRUE | M5: 0511100316 | O5: TRUE
A6: 0552030202 | B6: Accounting Operations | C6: CAR | D6: B070110 | E6: Business Management and Administration | F6: M | G6: See (MCL) | H6: See current Master Credentials List (MCL) | I6: TRUE | J6: 25-26 | K6: 27-28 | L6: TRUE | M6: 0552030207 | O6: TRUE
A7: 0552040103 | B7: Administrative Office Specialist | C7: CAR | D7: B070330 | E7: Business Management and Administration | F7: M | G7: See (MCL) | H7: See current Master Credentials List (MCL) | I7: TRUE | J7: 25-26 | K7: 27-28 | L7: TRUE | M7: 0552040104 | O7: TRUE
A8: 0609070208 | B8: Digital Media/Multimedia Design | C8: CAR | D8: K100200 | E8: Arts, A/V Technology & Communication | F8: X | G8: See (MCL) | H8: See current Master Credentials List (MCL) | I8: TRUE | J8: 26-27 | K8: 28-29 | L8: TRUE | M8: 0650010219 | O8: TRUE
A9: 0610010524 | B9: Digital Video Technology | C9: CAR | D9: K100400 | E9: Arts, A/V Technology & Communication | F9: F | G9: See (MCL) | H9: See current Master Credentials List (MCL) | I9: TRUE | J9: 26-27 | K9: 28-29 | L9: TRUE | M9: 0610010525 | N9: 0610010522 | O9: TRUE
A10: 0646010103 | B10: Brick and Block Masonry | C10: CAR | D10: I463112 | E10: Architecture & Construction | F10: F | G10: See (MCL) | H10: See current Master Credentials List (MCL) | I10: TRUE | J10: 25-26 | K10: 28-29 | L10: TRUE | M10: 0646010107 | O10: TRUE
A11: 0647060703 | B11: Aviation Airframe Mechanics | C11: CAR | D11: T640300 | E11: Transportation, Distribution & Logistics | F11: F | G11: See (MCL) | H11: See current Master Credentials List (MCL) | I11: TRUE | J11: 26-27 | K11: 28-29 | L11: TRUE | M11: 0647060705 | N11: 0647060700 | O11: TRUE
A12: 0647060801 | B12: Aviation Powerplant Mechanics | C12: CAR | D12: T640400 | E12: Transportation, Distribution & Logistics | F12: F | G12: See (MCL) | H12: See current Master Credentials List (MCL) | I12: TRUE | J12: 26-27 | K12: 28-29 | L12: TRUE | M12: 0647060802 | N12: 0647060800 | O12: TRUE
A13: 0648070303 | B13: Cabinetmaking | C13: CAR | D13: C410400 | E13: Architecture & Construction | F13: F | G13: See (MCL) | H13: See current Master Credentials List (MCL) | I13: TRUE | J13: 26-27 | K13: 27-28 | L13: FALSE | O13: TRUE
A14: 0650060211 | B14: Digital Cinema Production | C14: CAR | D14: K100100 | E14: Arts, A/V Technology & Communication | F14: F | G14: See (MCL) | H14: See current Master Credentials List (MCL) | I14: TRUE | J14: 26-27 | K14: 28-29 | L14: TRUE | M14: 0650060227 | O14: TRUE
A15: 0743010200 | B15: Correctional Officer (Traditional Correctional BRTP) | C15: CAR | D15: P430102 | E15: Law, Public Safety & Security | F15: F | G15: See (MCL) | H15: See current Master Credentials List (MCL) | I15: TRUE | J15: 25-26 | K15: 29-30 | L15: FALSE | M15: 0743010213 | O15: TRUE
A16: 0743010203 | B16: Crossover from Correctional Officer to Correctional Probation Officer | C16: CAR | D16: P430132 | E16: Law, Public Safety & Security | F16: F | G16: See (MCL) | H16: See current Master Credentials List (MCL) | I16: TRUE | J16: 25-26 | K16: 29-30 | L16: TRUE | M16: 0743010215 | O16: TRUE
A17: 0743010204 | B17: Crossover from Correctional Probation Officer to Correctional BRTP | C17: CAR | D17: P430142 | E17: Law, Public Safety & Security | F17: F | G17: See (MCL) | H17: See current Master Credentials List (MCL) | I17: TRUE | J17: 25-26 | K17: 29-30 | L17: TRUE | M17: 0743010216 | O17: TRUE
A18: 0743010205 | B18: Crossover from Law Enforcement Officer to Correctional Officer | C18: CAR | D18: P430152 | E18: Law, Public Safety & Security | F18: F | G18: See (MCL) | H18: See current Master Credentials List (MCL) | I18: TRUE | J18: 25-26 | K18: 29-30 | L18: TRUE | M18: 0743010214 | O18: TRUE
A19: 0743010210 | B19: FBRTP: Corrections Basic Recruit Training for Special Operations Recruits | C19: CAR | D19: P430255 | E19: Law, Public Safety & Security | F19: F | G19: See (MCL) | H19: See current Master Credentials List (MCL) | I19: TRUE | J19: 25-26 | K19: 29-30 | L19: TRUE | M19: 0743010217 | O19: TRUE
A20: 0743010703 | B20: Crossover from Correctional Probation Officer to Law Enforcement Officer | C20: CAR | D20: P430107 | E20: Law, Public Safety & Security | F20: F | G20: See (MCL) | H20: See current Master Credentials List (MCL) | I20: TRUE | J20: 25-26 | K20: 29-30 | L20: TRUE | M20: 0743010712 | O20: TRUE
A21: 1615061307 | B21: Manufacturing Technology | C21: AS | E21: Manufacturing | F21: F | G21: See (MCL) | H21: See current Master Credentials List (MCL) | I21: TRUE | J21: 26-27 | K21: 28-29 | L21: FALSE | O21: TRUE
A22: 1615080101 | B22: Simulation Technology | C22: AS | E22: Manufacturing | F22: F | G22: See (MCL) | H22: See current Master Credentials List (MCL) | I22: TRUE | J22: 26-27 | K22: 26-27 | L22: FALSE | O22: TRUE
A23: 1649010404 | B23: Aviation Operations | C23: AS | E23: Transportation, Distribution & Logistics | F23: F | G23: See (MCL) | H23: See current Master Credentials List (MCL) | I23: TRUE | J23: 26-27 | K23: 26-27 | L23: FALSE | O23: TRUE

Sheet Career_Clusters_District
A1: Career Clusters for Perkins-Fundable Postsecondary Programs (School Districts)
A2: Updated 07/30/26 based on the 7/27/26 Database. Programs in ineligible clusters have been excluded. If a program has been scheduled for teach-out or deletion, it is ineligible for EUM and has been excluded here. Contact Perkins@fldoe.org with questions.
A3: FDOE_Program_Title | B3: Program_Type | C3: Postsecondary_Program_Number | D3: Career_Cluster | E3: NonTrad | F3: SOC_Code | G3: SOC_Title | H3: Replaces_Old_CIP | I3: Perkins_Fundable
A4: Nursery Management | B4: CAR | C4: A010616 | D4: Agriculture, Food, and Natural Resources | E4: F | F4: See (MCL) | G4: See current Master Credentials List (MCL) | I4: TRUE
A5: Landscape & Turf Management | B5: CAR | C5: A200100 | D5: Agriculture, Food, and Natural Resources | E5: F | F5: See (MCL) | G5: See current Master Credentials List (MCL) | I5: TRUE
A6: Veterinary Assisting | B6: CAR | C6: A010512 | D6: Agriculture, Food, and Natural Resources | E6: M | F6: See (MCL) | G6: See current Master Credentials List (MCL) | I6: TRUE
A7: Child Care Center Operations | B7: CAR | C7: V200206 | D7: Education & Training | E7: M | F7: See (MCL) | G7: See current Master Credentials List (MCL) | I7: TRUE
A8: Family Child Care Training | B8: CAR | C8: V200410 | D8: Education & Training | E8: M | F8: See (MCL) | G8: See current Master Credentials List (MCL) | I8: TRUE
A9: Early Childhood Education | B9: CAR | C9: E300100 | D9: Education & Training | E9: M | F9: See (MCL) | G9: See current Master Credentials List (MCL) | I9: TRUE
A10: School Age Professional Certificate | B10: CAR | C10: V200310 | D10: Education & Training | E10: M | F10: See (MCL) | G10: See current Master Credentials List (MCL) | I10: TRUE
A11: Interior Decorating Services | B11: CAR | C11: V700100 | D11: Arts, A/V Technology & Communication | E11: X | F11: See (MCL) | G11: See current Master Credentials List (MCL) | H11: 0450040804 | I11: TRUE
A12: Digital Media Technology | B12: CAR | C12: Y500100 | D12: Information Technology | E12: X | F12: See (MCL) | G12: See current Master Credentials List (MCL) | I12: TRUE
A13: Digital Design | B13: CAR | C13: B070600 | D13: Arts, A/V Technology & Communication | E13: X | F13: See (MCL) | G13: See current Master Credentials List (MCL) | I13: TRUE
A14: Digital Design 1 | B14: CAR | C14: K700100 | D14: Arts, A/V Technology & Communication | E14: X | F14: See (MCL) | G14: See current Master Credentials List (MCL) | I14: TRUE
A15: Digital Design 2 | B15: CAR | C15: K700200 | D15: Arts, A/V Technology & Communication | E15: X | F15: See (MCL) | G15: See current Master Credentials List (MCL) | I15: TRUE
A16: Applied Information Technology | B16: CAR | C16: Y300400 | D16: Information Technology | E16: F | F16: See (MCL) | G16: See current Master Credentials List (MCL) | I16: TRUE
A17: Web Application Development & Programming | B17: CAR | C17: Y700500 | D17: Information Technology | E17: F | F17: See (MCL) | G17: See current Master Credentials List (MCL) | I17: TRUE
A18: Java Development & Programming | B18: CAR | C18: Y700200 | D18: Information Technology | E18: F | F18: See (MCL) | G18: See current Master Credentials List (MCL) | I18: TRUE
A19: .NET Application Development and Programming | B19: CAR | C19: Y700400 | D19: Information Technology | E19: F | F19: See (MCL) | G19: See current Master Credentials List (MCL) | I19: TRUE
A20: Database Application Development & Programming | B20: CAR | C20: Y700300 | D20: Information Technology | E20: F | F20: See (MCL) | G20: See current Master Credentials List (MCL) | I20: TRUE
A21: Web Development | B21: CAR | C21: Y700100 | D21: Information Technology | E21: X | F21: See (MCL) | G21: See current Master Credentials List (MCL) | I21: TRUE
A22: Modeling Simulation Production | B22: CAR | C22: Y500200 | D22: Information Technology | E22: F | F22: See (MCL) | G22: See current Master Credentials List (MCL) | I22: TRUE
A23: Modeling Simulation Design | B23: CAR | C23: Y500300 | D23: Information Technology | E23: F | F23: See (MCL) | G23: See current Master Credentials List (MCL) | I23: TRUE
... A29: Enterprise Desktop and Mobile Support Technology | B29: CAR | C29: Y300600 | D29: Information Technology | E29: F | F29: See (MCL) | G29: See current Master Credentials List (MCL) | I29: TRUE
A30: Applied Cybersecurity | B30: CAR | C30: Y100500 | D30: Information Technology | E30: F | F30: See (MCL) | G30: See current Master Credentials List (MCL) | H30: 0511100302 | I30: TRUE
A31: Technology Support Services | B31: CAR | C31: Y100100 | D31: Information Technology | E31: F | F31: See (MCL) | G31: See current Master Credentials List (MCL) | I31: TRUE
A32: Legal Administrative Specialist | B32: CAR | C32: B072000 | D32: Business Management and Administration | E32: M | F32: See (MCL) | G32: See current Master Credentials List (MCL) | I32: TRUE
A33: Court Reporting 2 | B33: CAR | C33: B700600 | D33: Business Management and Administration | E33: X | F33: See (MCL) | G33: See current Master Credentials List (MCL) | I33: TRUE
A34: Court Reporting 3 | B34: CAR | C34: B700700 | D34: Business Management and Administration | E34: X | F34: See (MCL) | G34: See current Master Credentials List (MCL) | I34: TRUE
A35: Court Reporting Technology | B35: CAR | C35: B600100 | D35: Business Management and Administration | E35: X | F35: See (MCL) | G35: See current Master Credentials List (MCL) | H35: 0522030300 | I35: TRUE
A36: Game/Simulation/Animation Visual Design | B36: CAR | C36: B082100 | D36: Information Technology | E36: X | F36: See (MCL) | G36: See current Master Credentials List (MCL) | I36: TRUE
A37: Game/Simulation/Animation Audio/Video Effects | B37: CAR | C37: B082200 | D37: Information Technology | E37: X | F37: See (MCL) | G37: See current Master Credentials List (MCL) | I37: TRUE
A38: Game/Simulation/Animation Programming | B38: CAR | C38: B082300 | D38: Information Technology | E38: X | F38: See (MCL) | G38: See current Master Credentials List (MCL) | I38: TRUE
A39: Medical Administrative Specialist | B39: CAR | C39: B070300 | D39: Business Management and Administration | E39: M | F39: See (MCL) | G39: See current Master Credentials List (MCL) | I39: TRUE
A40: Business Management and Analysis | B40: CAR | C40: B060200 | D40: Business Management and Administration | E40: F | F40: See (MCL) | G40: See current Master Credentials List (MCL) | H40: 0506040101 | I40: TRUE
A41: Accounting Operations | B41: CAR | C41: B200100 | D41: Business Management and Administration | E41: M | F41: See (MCL) | G41: See current Master Credentials List (MCL) | H41: 0552030202 | I41: TRUE
A42: Administrative Office Specialist | B42: CAR | C42: B600200 | D42: Business Management and Administration | E42: M | F42: See (MCL) | G42: See current Master Credentials List (MCL) | H42: 0552040103 | I42: TRUE
A43: Digital Video Technology | B43: CAR | C43: V100300 | D43: Arts, A/V Technology & Communication | E43: F | F43: See (MCL) | G43: See current Master Credentials List (MCL) | H43: 0610010524 | I43: TRUE
A44: Stage Production | B44: CAR | C44: K200200 | D44: Arts, A/V Technology & Communication | E44: F | F44: See (MCL) | G44: See current Master Credentials List (MCL) | I44: TRUE
A45: Television Production Technology | B45: CAR | C45: K300300 | D45: Arts, A/V Technology & Communication | E45: F | F45: See (MCL) | G45: See current Master Credentials List (MCL) | H45: 0610020203 | I45: TRUE
...

Sheet Career_Clusters_StateCollege
A1: Career Clusters for Perkins-Fundable Postsecondary Programs (FCS)
A2: Updated 07/30/26 based on the 7/27/26 Database. Programs in ineligible clusters have been excluded. If a program has been scheduled for teach-out or deletion, it is ineligible for EUM and has been excluded here. Contact Perkins@fldoe.org with questions.
A3: CIP_Number_Text | B3: FDOE_Program_Title | C3: Program_Type | D3: Career_Cluster | E3: Career_Areas_Abbrev | F3: Program_area | G3: NonTrad | H3: SOC_Code | I3: SOC_Title | J3: Replaces_Old_CIP | K3: Perkins_Fundable
A4: 0101030200 | B4: Livestock Production Management | C4: CCC | D4: Agriculture, Food, and Natural Resources | E4: Ag Food & Nat R | F4: AGRISCIENCE AND NATURAL RESOURCES | G4: F | H4: See (MCL) | I4: See current Master Credentials List (MCL) | K4: TRUE
A5: 0101030302 | B5: Aquaculture Technology | C5: CCC | D5: Agriculture, Food, and Natural Resources | E5: Ag Food & Nat R | F5: AGRISCIENCE AND NATURAL RESOURCES | G5: F | H5: See (MCL) | I5: See current Master Credentials List (MCL) | K5: TRUE
A6: 0101030304 | B6: Tropical Ornamental Mariculture Technician | C6: CCC | D6: Agriculture, Food, and Natural Resources | E6: Ag Food & Nat R | F6: AGRISCIENCE AND NATURAL RESOURCES | G6: F | H6: See (MCL) | I6: See current Master Credentials List (MCL) | K6: TRUE
A7: 0101050501 | B7: Marine Mammal Behavior and Training | C7: CCC | D7: Agriculture, Food, and Natural Resources | E7: Ag Food & Nat R | F7: AGRISCIENCE AND NATURAL RESOURCES | G7: X | H7: See (MCL) | I7: See current Master Credentials List (MCL) | K7: TRUE
A8: 0101050701 | B8: Equine Assistant Management | C8: CCC | D8: Agriculture, Food, and Natural Resources | E8: Ag Food & Nat R | F8: AGRISCIENCE AND NATURAL RESOURCES | G8: X | H8: See (MCL) | I8: See current Master Credentials List (MCL) | K8: TRUE
A9: 0101050703 | B9: Equine Technician | C9: CCC | D9: Agriculture, Food, and Natural Resources | E9: Ag Food & Nat R | F9: AGRISCIENCE AND NATURAL RESOURCES | G9: X | H9: See (MCL) | I9: See current Master Credentials List (MCL) | K9: TRUE
A10: 0101060503 | B10: Landscape & Horticulture Specialist | C10: CCC | D10: Agriculture, Food, and Natural Resources | E10: Ag Food & Nat R | F10: AGRISCIENCE AND NATURAL RESOURCES | G10: F | H10: See (MCL) | I10: See current Master Credentials List (MCL) | K10: TRUE
A11: 0101060504 | B11: Landscape & Horticulture Professional | C11: CCC | D11: Agriculture, Food, and Natural Resources | E11: Ag Food & Nat R | F11: AGRISCIENCE AND NATURAL RESOURCES | G11: F | H11: See (MCL) | I11: See current Master Credentials List (MCL) | K11: TRUE
A12: 0101060505 | B12: Landscape & Horticulture Technician | C12: CCC | D12: Agriculture, Food, and Natural Resources | E12: Ag Food & Nat R | F12: AGRISCIENCE AND NATURAL RESOURCES | G12: F | H12: See (MCL) | I12: See current Master Credentials List (MCL) | K12: TRUE
A13: 0101060602 | B13: Nursery Management | C13: CAR | D13: Agriculture, Food, and Natural Resources | E13: Ag Food & Nat R | F13: AGRISCIENCE AND NATURAL RESOURCES | G13: F | H13: See (MCL) | I13: See current Master Credentials List (MCL) | K13: TRUE
A14: 0101060703 | B14: Landscape & Turf Management | C14: CAR | D14: Agriculture, Food, and Natural Resources | E14: Ag Food & Nat R | F14: AGRISCIENCE AND NATURAL RESOURCES | G14: F | H14: See (MCL) | I14: See current Master Credentials List (MCL) | K14: TRUE
A15: 0101830100 | B15: Veterinary Assisting | C15: CAR | D15: Agriculture, Food, and Natural Resources | E15: Ag Food & Nat R | F15: AGRISCIENCE AND NATURAL RESOURCES | G15: M | H15: See (MCL) | I15: See current Master Credentials List (MCL) | K15: TRUE
... A28: 0450040807 | B28: Home Staging Specialist | C28: CCC | D28: Arts, A/V Technology & Communication | E28: Arts AV & Comm | F28: FAMILY AND CONSUMER SCIENCES | G28: X | H28: See (MCL) | I28: See current Master Credentials List (MCL) | K28: TRUE
A29: 0450040808 | B29: Interior Decorating Services | C29: CAR | D29: Arts, A/V Technology & Communication | E29: Arts AV & Comm | F29: FAMILY AND CONSUMER SCIENCES | G29: X | H29: See (MCL) | I29: See current Master Credentials List (MCL) | J29: 0450040804 | K29: TRUE
A30: 0509070200 | B30: Digital Media Technology | C30: CAR | D30: Information Technology | E30: Information Tec | F30: INDUSTRIAL | G30: X | H30: See (MCL) | I30: See current Master Credentials List (MCL) | K30: TRUE
A31: 0510030306 | B31: Digital Design | C31: CAR | D31: Arts, A/V Technology & Communication | E31: Arts AV & Comm | F31: BUSINESS TECHNOLOGY | G31: X | H31: See (MCL) | I31: See current Master Credentials List (MCL) | K31: TRUE
A32: 0510030307 | B32: Digital Design 1 | C32: CAR | D32: Arts, A/V Technology & Communication | E32: Arts AV & Comm | F32: BUSINESS TECHNOLOGY | G32: X | H32: See (MCL) | I32: See current Master Credentials List (MCL) | K32: TRUE
A33: 0510030308 | B33: Digital Design 2 | C33: CAR | D33: Arts, A/V Technology & Communication | E33: Arts AV & Comm | F33: BUSINESS TECHNOLOGY | G33: X | H33: See (MCL) | I33: See current Master Credentials List (MCL) | K33: TRUE
A34: 0511010200 | B34: Artificial Intelligence Practitioner | C34: CCC | D34: Information Technology | E34: Information Tec | F34: INFORMATION TECHNOLOGY | G34: F | H34: See (MCL) | I34: See current Master Credentials List (MCL) | K34: TRUE
A35: 0511010302 | B35: Applied Information Technology | C35: CAR | D35: Information Technology | E35: Information Tec | F35: BUSINESS TECHNOLOGY | G35: F | H35: See (MCL) | I35: See current Master Credentials List (MCL) | K35: TRUE
A36: 0511010307 | B36: Information Technology Administration | C36: CCC | D36: Information Technology | E36: Information Tec | F36: BUSINESS TECHNOLOGY | G36: F | H36: See (MCL) | I36: See current Master Credentials List (MCL) | K36: TRUE
A37: 0511010311 | B37: Information Technology Support Specialist | C37: CCC | D37: Information Technology | E37: Information Tec | F37: BUSINESS TECHNOLOGY | G37: F | H37: See (MCL) | I37: See current Master Credentials List (MCL) | K37: TRUE
A38: 0511010312 | B38: Information Technology Analysis | C38: CCC | D38: Information Technology | E38: Information Tec | F38: BUSINESS TECHNOLOGY | G38: F | H38: See (MCL) | I38: See current Master Credentials List (MCL) | K38: TRUE
A39: 0511010313 | B39: Help Desk Support Technician | C39: CCC | D39: Information Technology | E39: Information Tec | F39: INDUSTRIAL | G39: F | H39: See (MCL) | I39: See current Master Credentials List (MCL) | K39: TRUE
A40: 0511020102 | B40: Web Application Development & Programming | C40: CAR | D40: Information Technology | E40: Information Tec | F40: BUSINESS TECHNOLOGY | G40: F | H40: See (MCL) | I40: See current Master Credentials List (MCL) | K40: TRUE
A41: 0511020103 | B41: Software Development Specialist | C41: CCC | D41: Information Technology | E41: Information Tec | F41: BUSINESS TECHNOLOGY | G41: F | H41: See (MCL) | I41: See current Master Credentials List (MCL) | K41: TRUE
... A73: 0511100314 | B73: Cybersecurity Analyst | C73: CCC | D73: Information Technology | E73: Information Tec | F73: INFORMATION TECHNOLOGY | G73: F | H73: See (MCL) | I73: See current Master Credentials List (MCL) | K73: TRUE
A74: 0511100316 | B74: Applied Cybersecurity | C74: CAR | D74: Information Technology | E74: Information Tec | F74: INFORMATION TECHNOLOGY | G74: F | H74: See (MCL) | I74: See current Master Credentials List (MCL) | J74: 0511100302 | K74: TRUE
A75: 0511100501 | B75: Project Management Associate | C75: CCC | D75: Information Technology | E75: Information Tec | F75: BUSINESS TECHNOLOGY | G75: X | H75: See (MCL) | I75: See current Master Credentials List (MCL) | K75: TRUE
A76: 0511100502 | B76: Technology Project Manager | C76: CCC | D76: Information Technology | E76: Information Tec | F76: BUSINESS TECHNOLOGY | G76: X | H76: See MCL | I76: See current Master Credentials List (MCL) | K76: TRUE
A77: 0515120200 | B77: Technology Support Services | C77: CAR | D77: Information Technology | E77: Information Tec | F77: INDUSTRIAL | G77: F | H77: See (MCL) | I77: See current Master Credentials List (MCL) | K77: TRUE
A78: 0522030103 | B78: Legal Administrative Specialist | C78: CAR | D78: Business Management and Administration | E78: Bus Man & Adm | F78: BUSINESS TECHNOLOGY | G78: M | H78: See (MCL) | I78: See current Master Credentials List (MCL) | K78: TRUE
A79: 0522030305 | B79: Court Reporting 2 | C79: CAR | D79: Business Management and Administration | E79: Bus Man & Adm | F79: BUSINESS TECHNOLOGY | G79: X | H79: See (MCL) | I79: See current Master Credentials List (MCL) | K79: TRUE
A80: 0522030306 | B80: Court Reporting 3 | C80: CAR | D80: Business Management and Administration | E80: Bus Man & Adm | F80: BUSINESS TECHNOLOGY | G80: X | H80: See (MCL) | I80: See current Master Credentials List (MCL) | K80: TRUE
A81: 0522030311 | B81: Court Reporting Technology | C81: CAR | D81: Business Management and Administration | E81: Bus Man & Adm | F81: BUSINESS TECHNOLOGY | G81: X | H81: See (MCL) | I81: See current Master Credentials List (MCL) | J81: 0522030300 | K81: TRUE
A82: 0530700100 | B82: Data Science Technician | C82: CCC | D82: Information Technology | E82: Information Tec | F82: INFORMATION TECHNOLOGY | G82: F | H82: See (MCL) | I82: See current Master Credentials List (MCL) | K82: TRUE
A83: 0530710400 | B83: FinTech Technician | C83: CCC | D83: Information Technology | E83: Information Tec | F83: INFORMATION TECHNOLOGY | G83: X | H83: See (MCL) | I83: See current Master Credentials List (MCL) | K83: TRUE
...

Sheet 3_Postsecondary_Questionnaire
B1: 3. Postsecondary Questionnaire Instructions: Enter your responses in the spaces below. Respond to all questions, using N/A if not applicable.
A2: Prompt Number | B2: Please limit responses to a maximum of 5500 characters.
A3: 1 | B3: Type "N/A" if this is your only project concept. If submitting two, please provide a priority rank for this pitch, with “1” as the highest. Submit a separate workbook for each pitch.
A5: 2 | B5: Describe your agency's current need to upgrade equipment. As part of your explanation, discuss how the equipment purchase will align with the need(s) identified your agency’s CLNA.
A7: 3 | B7: Describe how upgraded equipment may lead to improved student performance.
A9: 4 | B9: Describe how upgraded equipment would cut operating costs, improve productivity, or reduce downtime for your agency.
A11: 5 | B11: Does the equipment now being used by your agency meet current industry standards?
A13: 6a | B13: If you answered "no" for prompt 5, describe how the upgraded equipment will assist your agency in meeting industry standards and improving student outcomes.
A15: 6b | B15: If you answered "yes" for prompt 5, describe why spending funds to upgrade equipment is necessary. If "yes," there is only a limited number of circumstances under which EUM funding may be possible (for example, industry standards are changing and equipment soon will be outdated.)
A17: 7 | B17: Describe how equipment will better prepare students for future job opportunities in their fields.
A19: 8 | B19: Equipment codes. Important: Do not skip this. Typically, district object codes for equipment are 64X (e.g., 641). For state colleges, they are usually 7XXXX (e.g., 71001) . If any lines in your budget forms (Budget Form, Projected Equipment Form) use different codes, please explain why those expenses should be approved. See the Equipment FAQs for guidance on acceptable expenses (such as reasonable shipping), as well as on unacceptable expenses. Note that in some cases, it may be appropriate to list multiple expenses on one line under a single code. Ask your agency's finance office or the FDOE Grants Manager assigned to your Perkins Entitlement Grant if unsure.
A21: 9 | B21: If you propose any items worth less than $5,000, please explain either how they are necessary for the operation of another item that meets this threshold, or how lesser items combine to form a functional unit. See the Equipment FAQs for guidance. Write "N/A" if not applicable.
A23: 0 | B23: Please explain any software expenses. Please read the "software" section of the Equipment FAQs sheet in this workbook before answering. Software expenses are only accepted under specific circumstances. Write "N/A" if not applicable.

Sheet Projected_Equip_Instructions
A1: FLORIDA DEPARTMENT OF EDUCATION
A2: Perkins V Projected Equipment Form (EUM) Instructions
A3: This information is required for all equipment projected to be purchased from this grant.
A4: Category | B4: Group | C4: Directions
