Workbook
Name COSTFACTORS: #REF!
Name COSTFACTORS: #REF!

Sheet FGMG Allocation
A1: THE FLORIDA COLLEGE SYSTEM
A2: FIRST GENERATION MATCHING GRANT PROGRAM
A3: ALLOCATION
A4: 2016-17
D7: A | E7: B | I7: E
A8: College | B8: 2014-15 Economically Disadvantaged Headcount | C8: Index Based on 2014-15 Economically Disadvantaged Headcount | D8: 2016-17 First Generation Allocation | E8: 2016-17 Reported Contributions | F8: Final Florida Colleges Matching Dollars Certified | G8: 2016-17 Overmatched Amount | H8: Florida Colleges Matching Dollars with Excess/Under | I8: % of Certified Match Allocation | J8: % of Reported Contributions
A9: Eastern Florida State College | B9: 9517 | C9: =B9/$B$37 -> 0.031666334 | D9: =ROUND(C9*$B$40,0) -> 42026 | E9: 42026 | F9: =D9 -> 42026 | G9: =IF((D9-E9)<0,(E9-D9),0) -> 0 | H9: =E9-D9 -> 0 | I9: =F9/D9 -> 1 | J9: =E9/D9 -> 1
A10: Broward College | B10: 34968 | C10: =B10/$B$37 -> 0.11635057 | D10: =ROUND(C10*$B$40,0) -> 154417 | E10: 154417 | F10: =D10 -> 154417 | G10: =IF((D10-E10)<0,(E10-D10),0) -> 0 | H10: =E10-D10 -> 0 | I10: =F10/D10 -> 1 | J10: =E10/D10 -> 1
A11: College of Central Florida | B11: 6502 | C11: =B11/$B$37 -> 0.021634391 | D11: =ROUND(C11*$B$40,0) -> 28712 | E11: 28712 | F11: =D11 -> 28712 | G11: =IF((D11-E11)<0,(E11-D11),0) -> 0 | H11: =E11-D11 -> 0 | I11: =F11/D11 -> 1 | J11: =E11/D11 -> 1
A12: Chipola College | B12: 982 | C12: =B12/$B$37 -> 0.0032674519 | D12: =ROUND(C12*$B$40,0) -> 4336 | E12: 12143 | F12: =D12 -> 4336 | G12: =IF((D12-E12)<0,(E12-D12),0) -> 7807 | H12: =E12-D12 -> 7807 | I12: =F12/D12 -> 1 | J12: =E12/D12 -> 2.8005074
A13: Daytona State College | B13: 10875 | C13: =B13/$B$37 -> 0.036184867 | D13: =ROUND(C13*$B$40,0) -> 48023 | E13: 48023 | F13: =D13 -> 48023 | G13: =IF((D13-E13)<0,(E13-D13),0) -> 0 | H13: =E13-D13 -> 0 | I13: =F13/D13 -> 1 | J13: =E13/D13 -> 1
A14: Florida SouthWestern State College | B14: 8562 | C14: =B14/$B$37 -> 0.02848872 | D14: =ROUND(C14*$B$40,0) -> 37809 | E14: 37809 | F14: =D14 -> 37809 | G14: =IF((D14-E14)<0,(E14-D14),0) -> 0 | H14: =E14-D14 -> 0 | I14: =F14/D14 -> 1 | J14: =E14/D14 -> 1
A15: Florida State College at Jacksonville | B15: 17899 | C15: =B15/$B$37 -> 0.059556132 | D15: =ROUND(C15*$B$40,0) -> 79041 | E15: 79041 | F15: =D15 -> 79041 | G15: =IF((D15-E15)<0,(E15-D15),0) -> 0 | H15: =E15-D15 -> 0 | I15: =F15/D15 -> 1 | J15: =E15/D15 -> 1
A16: Florida Keys Community College | B16: 527 | C16: =B16/$B$37 -> 0.0017535103 | D16: =ROUND(C16*$B$40,0) -> 2327 | E16: 15000 | F16: =D16 -> 2327 | G16: =IF((D16-E16)<0,(E16-D16),0) -> 12673 | H16: =E16-D16 -> 12673 | I16: =F16/D16 -> 1 | J16: =E16/D16 -> 6.4460679
A17: Gulf Coast State College | B17: 3890 | C17: =B17/$B$37 -> 0.012943369 | D17: =ROUND(C17*$B$40,0) -> 17178 | E17: 17178 | F17: =D17 -> 17178 | G17: =IF((D17-E17)<0,(E17-D17),0) -> 0 | H17: =E17-D17 -> 0 | I17: =F17/D17 -> 1 | J17: =E17/D17 -> 1
A18: Hillsborough Community College | B18: 18168 | C18: =B18/$B$37 -> 0.060451188 | D18: =ROUND(C18*$B$40,0) -> 80229 | E18: 98709 | F18: =D18 -> 80229 | G18: =IF((D18-E18)<0,(E18-D18),0) -> 18480 | H18: =E18-D18 -> 18480 | I18: =F18/D18 -> 1 | J18: =E18/D18 -> 1.2303406
A19: Indian River State College | B19: 9607 | C19: =B19/$B$37 -> 0.031965795 | D19: =ROUND(C19*$B$40,0) -> 42424 | E19: 100000 | F19: =D19 -> 42424 | G19: =IF((D19-E19)<0,(E19-D19),0) -> 57576 | H19: =E19-D19 -> 57576 | I19: =F19/D19 -> 1 | J19: =E19/D19 -> 2.3571563
A20: Florida Gateway College | B20: 1524 | C20: =B20/$B$37 -> 0.0050708724 | D20: =ROUND(C20*$B$40,0) -> 6730 | E20: 6730 | F20: =D20 -> 6730 | G20: =IF((D20-E20)<0,(E20-D20),0) -> 0 | H20: =E20-D20 -> 0 | I20: =F20/D20 -> 1 | J20: =E20/D20 -> 1
... A22: State College of Florida, Manatee-Sarasota | B22: 7126 | C22: =B22/$B$37 -> 0.023710654 | D22: =ROUND(C22*$B$40,0) -> 31468 | E22: 60376 | F22: =D22 -> 31468 | G22: =IF((D22-E22)<0,(E22-D22),0) -> 28908 | H22: =E22-D22 -> 28908 | I22: =F22/D22 -> 1 | J22: =E22/D22 -> 1.9186475
A23: Miami Dade College | B23: 45642 | C23: =B23/$B$37 -> 0.15186664 | D23: =ROUND(C23*$B$40,0)+2 -> 201554 | E23: 1100000 | F23: =D23 -> 201554 | G23: =IF((D23-E23)<0,(E23-D23),0) -> 898446 | H23: =E23-D23 -> 898446 | I23: =F23/D23 -> 1 | J23: =E23/D23 -> 5.4575945
A24: North Florida Community College | B24: 786 | C24: =B24/$B$37 -> 0.0026152925 | D24: =ROUND(C24*$B$40,0) -> 3471 | E24: 3471 | F24: =D24 -> 3471 | G24: =IF((D24-E24)<0,(E24-D24),0) -> 0 | H24: =E24-D24 -> 0 | I24: =F24/D24 -> 1 | J24: =E24/D24 -> 1
A25: Northwest Florida State College | B25: 3078 | C25: =B25/$B$37 -> 0.010241565 | D25: =ROUND(C25*$B$40,0) -> 13592 | E25: 13592 | F25: =D25 -> 13592 | G25: =IF((D25-E25)<0,(E25-D25),0) -> 0 | H25: =E25-D25 -> 0 | I25: =F25/D25 -> 1 | J25: =E25/D25 -> 1
A26: Palm Beach State College | B26: 14888 | C26: =B26/$B$37 -> 0.049537499 | D26: =ROUND(C26*$B$40,0) -> 65744 | E26: 65744 | F26: =D26 -> 65744 | G26: =IF((D26-E26)<0,(E26-D26),0) -> 0 | H26: =E26-D26 -> 0 | I26: =F26/D26 -> 1 | J26: =E26/D26 -> 1
A27: Pasco-Hernando State College | B27: 7191 | C27: =B27/$B$37 -> 0.023926932 | D27: =ROUND(C27*$B$40,0) -> 31755 | E27: 40000 | F27: =D27 -> 31755 | G27: =IF((D27-E27)<0,(E27-D27),0) -> 8245 | H27: =E27-D27 -> 8245 | I27: =F27/D27 -> 1 | J27: =E27/D27 -> 1.2596442
A28: Pensacola State College | B28: 5093 | C28: =B28/$B$37 -> 0.016946164 | D28: =ROUND(C28*$B$40,0) -> 22490 | E28: 22490 | F28: =D28 -> 22490 | G28: =IF((D28-E28)<0,(E28-D28),0) -> 0 | H28: =E28-D28 -> 0 | I28: =F28/D28 -> 1 | J28: =E28/D28 -> 1
A29: Polk State College | B29: 6959 | C29: =B29/$B$37 -> 0.023154988 | D29: =ROUND(C29*$B$40,0) -> 30731 | E29: 30731 | F29: =D29 -> 30731 | G29: =IF((D29-E29)<0,(E29-D29),0) -> 0 | H29: =E29-D29 -> 0 | I29: =F29/D29 -> 1 | J29: =E29/D29 -> 1
A30: St. Johns River State College | B30: 3960 | C30: =B30/$B$37 -> 0.013176283 | D30: =ROUND(C30*$B$40,0) -> 17487 | E30: 17487 | F30: =D30 -> 17487 | G30: =IF((D30-E30)<0,(E30-D30),0) -> 0 | H30: =E30-D30 -> 0 | I30: =F30/D30 -> 1 | J30: =E30/D30 -> 1
A31: St. Petersburg College | B31: 21039 | C31: =B31/$B$37 -> 0.070003993 | D31: =ROUND(C31*$B$40,0) -> 92907 | E31: =86911+13089 -> 100000 | F31: =D31 -> 92907 | G31: =IF((D31-E31)<0,(E31-D31),0) -> 7093 | H31: =E31-D31 -> 7093 | I31: =F31/D31 -> 1 | J31: =E31/D31 -> 1.0763452
A32: Santa Fe College | B32: 8476 | C32: =B32/$B$37 -> 0.028202569 | D32: =ROUND(C32*$B$40,0) -> 37429 | E32: 37429 | F32: =D32 -> 37429 | G32: =IF((D32-E32)<0,(E32-D32),0) -> 0 | H32: =E32-D32 -> 0 | I32: =F32/D32 -> 1 | J32: =E32/D32 -> 1
A33: Seminole State College of Florida | B33: 12416 | C33: =B33/$B$37 -> 0.041312305 | D33: =ROUND(C33*$B$40,0) -> 54828 | E33: 100000 | F33: =D33 -> 54828 | G33: =IF((D33-E33)<0,(E33-D33),0) -> 45172 | H33: =E33-D33 -> 45172 | I33: =F33/D33 -> 1 | J33: =E33/D33 -> 1.8238856
A34: South Florida State College | B34: 1829 | C34: =B34/$B$37 -> 0.0060857124 | D34: =ROUND(C34*$B$40,0) -> 8077 | E34: 8077 | F34: =D34 -> 8077 | G34: =IF((D34-E34)<0,(E34-D34),0) -> 0 | H34: =E34-D34 -> 0 | I34: =F34/D34 -> 1 | J34: =E34/D34 -> 1
A35: Tallahassee Community College | B35: 9289 | C35: =B35/$B$37 -> 0.030907699 | D35: =ROUND(C35*$B$40,0) -> 41020 | E35: 48620 | F35: =D35 -> 41020 | G35: =IF((D35-E35)<0,(E35-D35),0) -> 7600 | H35: =E35-D35 -> 7600 | I35: =F35/D35 -> 1 | J35: =E35/D35 -> 1.1852755
A36: Valencia College | B36: 27812 | C36: =B36/$B$37 -> 0.092540094 | D36: =ROUND(C36*$B$40,0) -> 122816 | E36: 122816 | F36: =D36 -> 122816 | G36: =IF((D36-E36)<0,(E36-D36),0) -> 0 | H36: =F36-D36 -> 0 | I36: =F36/D36 -> 1 | J36: =E36/D36 -> 1
A37: TOTAL | B37: =SUM(B9:B36) -> 300540 | D37: =SUM(D9:D36) -> 1327166 | E37: =SUM(E9:E36) -> 2419166 | F37: =SUM(F9:F36) -> 1327166 | G37: =SUM(G9:G36) -> 1092000 | H37: =SUM(H9:H36) -> 1092000 | I37: =F37/D37 -> 1 | J37: =E37/D37 -> 1.8228059
A39: 2015-16 Appropriation | B39: 1327166 | C39: Senate Bill 2500-A, Specific Appropriation 5.
A40: 2016-17 Appropriation | B40: 1327166 | C40: House Bill 5001, Specific Appropriation 5.
A41: % Change | B41: =(B39-B40)/B39 -> 0
A43: 2016-17 General Appropriations Act, House Bill 5001 - From the funds provided in Specific Appropriation 5, $1,327,166 shall be allocated to First Generation in College Matching Grant Programs at Florida colleges for need-based financial assistance as provided in section 1009.701, Florida Statutes. If required matching funds are not raised by participating Florida colleges or state universities by December 1, 2016, the remaining funds shall be reallocated to First Generation in College Matching Grant Programs at Florida colleges or state universities that have remaining unmatched private contributions.
A45: Section 1009.701, Florida Statutes (1) The First Generation Matching Grant Program is created to enable each state university to provide donors with a matching grant incentive for contributions that will create grant-based student financial aid for undergraduate students who demonstrate financial need and whose parents, as defined in s. 1009.21(1), have not earned a baccalaureate degree. In the case of any individual who regularly resided with and received support from only one parent, an individual whose only such parent did not complete a baccalaureate degree would also be eligible. (2) Funds appropriated by the Legislature for the program shall be allocated by the Office of Student Financial Assistance to match private contributions on a dollar-for-dollar basis. Contributions made to a state university and pledged for the purposes of this section are eligible for state matching funds appropriated for this program and are not eligible for any other state matching grant program. Pledged contributions are not eligible for matching prior to the actual collection of the total funds. The Office of Student Financial Assistance shall reserve a proportionate allocation of the total appropriated funds for each state university on the basis of full-time equivalent enrollment. Funds that remain unmatched as of December 1 shall be reallocated to state universities that have remaining unmatched private contributions for the program on the basis of full-time equivalent enrollment. (3) Payment of the state matching grant shall be transmitted to the president of each participating institution or his or her representative in advance of the official drop-add deadline as defined by the institution. (4) Each participating state university shall establish an application process, determine student eligibility for initial and renewal awards in conformance with subsection (5), identify the amount awarded to each recipient, and notify recipients of the amount of their awards. (5) In order to be eligible to receive a grant pursuant to this section, an applicant must: (a) Be a resident for tuition purposes pursuant to s. 1009.21. (b) Be a first-generation college student. For the purposes of this section, a student is considered “first generation” if neither of the student’s parents, as defined in s. 1009.21(1), earned a college degree at the baccalaureate level or higher or, in the case of any individual who regularly resided with and received support from only one parent, if that parent did not earn a baccalaureate degree. (c) Be accepted at a state university. (d) Be enrolled for a minimum of six credit hours per term as a degree-seeking undergraduate student. (e) Have submitted a Free Application for Federal Student Aid which is complete and error free prior to disbursement and met the eligibility requirements in s. 1009.50 for demonstrated financial need for the Florida Public Student Assistance Grant Program. (f) Meet additional eligibility requirements as established by the institution. (6) The award amount shall be based on the student’s need assessment after any scholarship or grant aid, including, but not limited to, a Pell Grant or a Bright Futures Scholarship, has been applied. The first priority of funding shall be given to students who demonstrate need by qualifying and receiving federal Pell Grant funds up to the full cost of tuition and fees per term. An award may not exceed the institution’s estimated annual cost of attendance for the student to attend the institution. (7) Each participating institution shall report to the Office of Student Financial Assistance by the date established by the office the eligible students to whom grant moneys are disbursed each academic term. Each institution shall certify to the Office of Student Financial Assistance the amount of funds disbursed to each student and shall remit to the office any undisbursed advances by June 1 of each year. (8) No later than July 1, each participating institution shall annually report to the Executive Office of the Governor, the President of the Senate, the Speaker of the House of Representatives, and the Board of Governors the eligibility requirements for recipients, the aggregate demographics of recipients, the retention and graduation rates of recipients, and a delineation of funds awarded to recipients. (9) This section shall be implemented only as specifically funded.

Sheet Prior Year % Change
A1: Economically Disadvantaged
A2: Unduplicated Headcount
F3: 2015-16 First Generation Allocation | G3: 2016-17 First Generation Allocation
B4: FY | C4: FY | D4: % | H4: %
A5: College | B5: 2013-14 | C5: 2014-15 | D5: Change | H5: Change
A6: Eastern Florida | B6: 9564 | C6: ='FGMG Allocation'!B9 -> 9517 | D6: =C6/B6-1 -> -0.0049142618 | F6: 40687 | G6: ='FGMG Allocation'!D9 -> 42026 | H6: =G6/F6-1 -> 0.032909775
A7: Broward | B7: 34564 | C7: ='FGMG Allocation'!B10 -> 34968 | D7: =C7/B7-1 -> 0.011688462 | F7: 147043 | G7: ='FGMG Allocation'!D10 -> 154417 | H7: =G7/F7-1 -> 0.050148596
A8: Central Florida | B8: 7622 | C8: ='FGMG Allocation'!B11 -> 6502 | D8: =C8/B8-1 -> -0.14694306 | F8: 32426 | G8: ='FGMG Allocation'!D11 -> 28712 | H8: =G8/F8-1 -> -0.11453772
A9: Chipola | B9: 1124 | C9: ='FGMG Allocation'!B12 -> 982 | D9: =C9/B9-1 -> -0.12633452 | F9: 4782 | G9: ='FGMG Allocation'!D12 -> 4336 | H9: =G9/F9-1 -> -0.093266416
A10: Daytona | B10: 11867 | C10: ='FGMG Allocation'!B13 -> 10875 | D10: =C10/B10-1 -> -0.083593157 | F10: 50485 | G10: ='FGMG Allocation'!D13 -> 48023 | H10: =G10/F10-1 -> -0.04876696
A11: Edison | B11: 9223 | C11: ='FGMG Allocation'!B14 -> 8562 | D11: =C11/B11-1 -> -0.071668654 | F11: 39237 | G11: ='FGMG Allocation'!D14 -> 37809 | H11: =G11/F11-1 -> -0.03639422
A12: FSC Jacksonville | B12: 19950 | C12: ='FGMG Allocation'!B15 -> 17899 | D12: =C12/B12-1 -> -0.10280702 | F12: 84872 | G12: ='FGMG Allocation'!D15 -> 79041 | H12: =G12/F12-1 -> -0.068703459
A13: Florida Keys | B13: 579 | C13: ='FGMG Allocation'!B16 -> 527 | D13: =C13/B13-1 -> -0.089810017 | F13: 2463 | G13: ='FGMG Allocation'!D16 -> 2327 | H13: =G13/F13-1 -> -0.055217215
A14: Gulf Coast | B14: 4056 | C14: ='FGMG Allocation'!B17 -> 3890 | D14: =C14/B14-1 -> -0.040927022 | F14: 17255 | G14: ='FGMG Allocation'!D17 -> 17178 | H14: =G14/F14-1 -> -0.0044624746
A15: Hillsborough | B15: 20423 | C15: ='FGMG Allocation'!B18 -> 18168 | D15: =C15/B15-1 -> -0.11041473 | F15: 86884 | G15: ='FGMG Allocation'!D18 -> 80229 | H15: =G15/F15-1 -> -0.076596381
A16: Indian River | B16: 9546 | C16: ='FGMG Allocation'!B19 -> 9607 | D16: =C16/B16-1 -> 0.006390111 | F16: 40611 | G16: ='FGMG Allocation'!D19 -> 42424 | H16: =G16/F16-1 -> 0.044643077
A17: Florida Gateway | B17: 1574 | C17: ='FGMG Allocation'!B20 -> 1524 | D17: =C17/B17-1 -> -0.031766201 | F17: 6696 | G17: ='FGMG Allocation'!D20 -> 6730 | H17: =G17/F17-1 -> 0.0050776583
... A33: Valencia | B33: 28102 | C33: ='FGMG Allocation'!B36 -> 27812 | D33: =C33/B33-1 -> -0.01031955 | F33: 119552 | G33: ='FGMG Allocation'!D36 -> 122816 | H33: =G33/F33-1 -> 0.027301927
A34: TOTAL | B34: =SUM(B6:B33) -> 311964 | C34: =SUM(C6:C33) -> 300540 | D34: =(C34-B34)/B34 -> -0.03661961 | F34: =SUM(F6:F33) -> 1327166 | G34: =SUM(G6:G33) -> 1327166 | H34: =G34/F34-1 -> 0
