Workbook
Name _: 'CHECK SHEET'!$F$57
Name _1.: 'CHECK SHEET'!#REF!
Name _10.: 'CHECK SHEET'!#REF!
Name _11.: 'CHECK SHEET'!$A$106
Name _2.: 'CHECK SHEET'!$A$10
Name _2004_05_APPROPRIATIONS: 'CHECK SHEET'!#REF!
Name _2005_2006_OPERATING_BUDGET_REVIEW_CHECKSHEET: 'CHECK SHEET'!$A$7:$H$113
Name _2024_25: 'EXHIBIT G'!$C$7
Name _2024_25_BASE_BUDGET: VLOOKUP!$B$5
Name _3.: 'CHECK SHEET'!$A$15
Name _4.: 'CHECK SHEET'!$A$21
Name _5.___EXHIBIT_C__verify_that_student_fees_agree_with_EXHIBIT_D.: 'CHECK SHEET'!#REF!
Name _56F9DC9755BA473782653E2940F9FormId: "exC_Y2_Lc0GMHBQGu1y3lC-ujT3W1J9Mmrw7lar5L6lUOVRERkUzWk9MQ0syNUk5WkxQTENZVlMxNyQlQCN0PWcu"
Name _56F9DC9755BA473782653E2940F9ResponseSheet: "Form1"
Name _56F9DC9755BA473782653E2940F9SourceDocId: "{443f49f6-a1f9-44d6-ae95-06dab15b27e1}"
Name _6.: 'CHECK SHEET'!#REF!
Name _7.___EXHIBIT_D__verify_that_state_appropriations_required_to_be_budgeted_in_Fund_1_are_accurate.: 'CHECK SHEET'!$A$79
Name _8.__EXHIBIT_D__verify_that_amounts_budgeted_for_contingencies_does_not_exceed_2__of_total_fund: 'CHECK SHEET'!$A$89
Name _9.___EXHIBIT_E_totals_for_personnel__current_expense__capital_outlay__and_total_equal_totals_in: 'CHECK SHEET'!#REF!
Name AccountTitle: 'EXHIBIT D'!$A$9
Name ADDITIONAL__REDUCED_BUDGETED_FEE_REVENUES: 'EXHIBIT C(2)'!$E$12
Name ADDITIONAL_2__CALCULATION: 'CHECK SHEET'!#REF!
Name ADULT: #REF!
Name ADULT: #REF!
Name AMOUNT: 'EXHIBIT C'!$B$52
Name APPROPRIATIONS: 'CHECK SHEET'!$C$83
Name BEGINNING_FUND_BALANCE___JULY_1__2026: 'EXHIBIT A'!$B$11
Name BFR: 'EXHIBIT C'!$F$39
Name BLOCK_TUITION_CHARGED: 'EXHIBIT C'!$E$39
Name BROWARD_COLLEGE: 'CHECK SHEET'!$D$7
Name BUDGET_OFFICE_IN_STATE: 'CHECK SHEET'!$D$41
Name Budget2: 'EXHIBIT C(2)'!$E$21
Name BUDGETED_FEE_REVENUES: 'EXHIBIT C'!$H$9
Name CAPITAL_IMPROVEMENT_FEE__1: 'EXHIBIT B'!$E$13
Name CAPITAL_OUTLAY: 'EXHIBIT G'!$A$96
Name CAPITAL_OUTLAY_______GLC_700S: 'EXHIBIT E'!$D$9
Name CHANGE_IN_CHARGE_PER_STUDENT_CREDIT_HOUR: 'EXHIBIT C(2)'!$D$12
Name CHARGE_PER_STUDENT_CREDIT_HOUR: 'EXHIBIT C'!$G$9
Name CKSHEET_C8: 'CHECK SHEET'!#REF!
Name COLLEGE: 'EXHIBIT A'!$B$8
Name COLLEGE_IN_STATE: 'CHECK SHEET'!$E$41
Name COLLEGE_NAME: VLOOKUP!$A$6
Name CONVERTED_TO_30_CRHR: 'CHECK SHEET'!$D$58
Name CR_AD: '[1]VOC PREP'!$A$4:$O$54
Name CREDIT: #REF!
Name CREDIT: #REF!
Name CREDIT_HOURS: 'CHECK SHEET'!$E$58
Name CURRENT_EXPENSE_______GLC_600S: 'EXHIBIT E'!$C$9
Name CURRENT_FUNDS___UNRESTRICTED: 'EXHIBIT A'!$E$10
Name CURRENT_FUNDS___UNRESTRICTED_LOWER_AND_UPPER_LEVEL: 'EXHIBIT D'!$G$9
Name diff: 'CHECK SHEET'!$F$83
Name DIFFERENCE: 'CHECK SHEET'!$F$43
Name Disciplin2: 'EXHIBIT C'!$B$32
Name DISCIPLINE: 'EXHIBIT C'!$B$9
Name Discipline4: 'EXHIBIT C(2)'!$B$12
Name Enter_amounts_only_for_cells_highlighted_in_light_yellow.: 'EXHIBIT G'!$A$7
Name EXHIBIT_D: 'CHECK SHEET'!$E$83
Name FCSPF_GENERAL_REVENUE__GENERAL_LEDGER_CODE_42110__1_2: VLOOKUP!$B$6
Name FCSPF_LOTTERY__GENERAL_LEDGER_CODE__42610: VLOOKUP!$C$6
Name FEE_EXEMPT__DUAL_ENROLLMENT____APPRENTICESHIP__ETC.: 'EXHIBIT C'!$E$9

Sheet SUMMARY OF CHANGES
A1: THE FLORIDA COLLEGE SYSTEM
A2: 2026-27 COLLEGE OPERATING BUDGET
A3: SUMMARY OF CHANGES
A4: UPDATE CHANGES IF NECESSARY
A5: CHANGES | C5: EXHIBIT(S)/CHECK SHEET | D5: GENERAL LEDGER CODES | E5: LINES (ADDED, MOVED, RENAMED, ADJUSTED OR DELETED)

Sheet OPB WORKBOOK INSTRUCTIONS
A1: THE FLORIDA COLLEGE SYSTEM
A2: 2026-27 INSTRUCTIONS
A3: ANNUAL COLLEGE OPERATING BUDGET WORKBOOK FORMS
A4: Double Click to download a PDF of the document.

Sheet VLOOKUP
A1: VLOOKUP CHARTS - DO NOT DELETE - UPDATE EACH YEAR
A2: UPDATE COLUMNS HIGHLIGHTED IN YELLOW
B3: Updated 5.27.26 EN
A4: 1 | B4: 2 | C4: 3 | D4: 4
A5: FLORIDA COLLEGE SYSTEM PROGRAM FUND (FCSPF) APPROPRIATIONS | B5: 2026-27 BASE BUDGET
A6: COLLEGE NAME | B6: FCSPF GENERAL REVENUE (GENERAL LEDGER CODE 42110) 1,2,3 | C6: FCSPF LOTTERY (GENERAL LEDGER CODE 42610) | D6: TOTAL APPROPRIATED FUNDS
A7: Eastern Florida State College | B7: 46135825 | C7: 8965209 | D7: =SUM(B7:C7) -> 55101034
A8: Broward College | B8: 98690418 | C8: 17967796 | D8: =SUM(B8:C8) -> 116658214
A9: College of Central Florida | B9: 36635655 | C9: 5132576 | D9: =SUM(B9:C9) -> 41768231
A10: Chipola College | B10: 13538708 | C10: 2823123 | D10: =SUM(B10:C10) -> 16361831
A11: Daytona State College | B11: 51701935 | C11: 10787451 | D11: =SUM(B11:C11) -> 62489386
A12: Florida SouthWestern State College | B12: 46933805 | C12: 6873089 | D12: =SUM(B12:C12) -> 53806894
A13: Florida State College at Jacksonville | B13: 76188848 | C13: 16150515 | D13: =SUM(B13:C13) -> 92339363
A14: College of the Florida Keys | B14: 10190230 | C14: 1455245 | D14: =SUM(B14:C14) -> 11645475
A15: Gulf Coast State College | B15: 23425463 | C15: 4601687 | D15: =SUM(B15:C15) -> 28027150
A16: Hillsborough College | B16: 78745180 | C16: 12203027 | D16: =SUM(B16:C16) -> 90948207
A17: Indian River State College | B17: 52058669 | C17: 9889375 | D17: =SUM(B17:C17) -> 61948044
A18: Florida Gateway College | B18: 17400443 | C18: 2879216 | D18: =SUM(B18:C18) -> 20279659
... A31: Seminole State College of Florida | B31: 50687169 | C31: 8021591 | D31: =SUM(B31:C31) -> 58708760
A32: South Florida State College | B32: 23017517 | C32: 3443580 | D32: =SUM(B32:C32) -> 26461097 | I32: ``
A33: Tallahassee State College | B33: 39674794 | C33: 6698176 | D33: =SUM(B33:C33) -> 46372970
A34: Valencia College | B34: 130572783 | C34: 14571108 | D34: =SUM(B34:C34) -> 145143891
A35: TOTAL | B35: =SUM(B7:B34) -> 1470481691 | C35: =SUM(C7:C34) -> 239728417 | D35: =SUM(D7:D34) -> 1710210108
A36: 1Recurring and nonrecurring state funds are included in the General Revenue appropriations.
A37: 2The 2026-27 General Revenue appropriations does not include the $30,000,000 appropriated for Performance Based Incentive Funding.
A38: 3The 2026-27 GR appropriation only includes recurring funds since a 2026-27 budget has not been signed.
A39: UPDATE COLUMNS HIGHLIGHTED IN YELLOW
A40: 2026-27 SPECIAL PROJECTS | B40: Updated:5.26.26 Needs final edit.
A41: 1 | B41: 2 | C41: 3 | D41: 4 | E41: 5
A42: COLLEGE NAME | B42: Program/Project | C42: Recurring | D42: Nonrecurring | E42: Total
A43: =A10 -> Chipola College | B43: Workforce Program Expansion - Welding Technology and Advanced Manufacturing (SF 3130) | E43: =C43+D43 -> 0
A44: College of Central Florida | B44: Critical Workforce Program Expansion (HF 1170) | E44: =C44+D44 -> 0
A45: Daytona State College | B45: Advanced Technology Center | E45: =C45+D45 -> 0
A46: Daytona State College | B46: Specialized Equipment for Center for Aerospace and Advanced Technical Education (HF 2186) | E46: =C46+D46 -> 0
A47: Florida Southwestern State College | B47: Equipping Applied Science Laboratories-Multiple Campuses (HF 3683) | E47: =C47+D47 -> 0
A48: Hillsborough College | B48: Regional Transportation Training Center | E48: =C48+D48 -> 0
A49: Hillsborough College | B49: Artificial Intelligence Program Support (SF 2306) | E49: =C49+D49 -> 0
A50: Miami Dade College | B50: Institute for Freedom in the Americas (HF 2014) | E50: =C50+D50 -> 0
A51: Northwest Florida State College | B51: South Walton Center Hospitalitiy Program (HF 2437) | E51: =C51+D51 -> 0
A52: Palm Beach State College | B52: Transportation Technology Expansion Project (HF2437) | E52: =C52+D52 -> 0
...

Sheet CHECK SHEET
A1: THE FLORIDA COLLEGE SYSTEM
A2: FALL 2026-27 COLLEGE OPERATING BUDGET CHECK SHEET
A4: THE PURPOSE OF THIS CHECK SHEET WILL ALLOW THE COLLEGE TO VERIFY THE OPERATING BUDGET DATA BEFORE SUBMITTING THE WORKBOOK TO THE BUDGET OFFICE
A7: 1. | C7: COLLEGE NAME: | D7: St. Petersburg College
A10: 2. | C10: The completed board-approved operating budget forms should be submitted electronically to collegereporting@fldoe.org, no later than Tuesday, June 30, 2026, to receive the scheduled disbursement of funds on or around July 15, 2026. However, if the board-approved operating budget is submitted after June 30, but before Friday, July 17th, the college will receive the July disbursement on or around Friday, July 24, 2026.
C12: EXHIBIT A must be signed by the President and submitted electronically as a scanned PDF file.
A15: 3. | C15: Ensure that unencumbered fund balance is not less than 5% of the total funds available (Linked to EXHIBIT A).
C17: =IF(+'EXHIBIT A'!E44>=0.0499,+'EXHIBIT A'!E44,"PERCENTAGE DOES NOT MEET STATUTORY GUIDELINES") -> 0.16158471
C18: YOU MUST COMPLETE AND SUBMIT "EXHIBIT F" IF THE UNALLOCATED FUND BALANCE IS BELOW 5 PERCENT IN ACCORDANCE WITH 1011.84(3)(e), FLORIDA STATUTES.
A21: 4. | C21: Information to verify the student fees at the institutions (please see sections 1009.22 and 1009.23, Florida Statutes for details):
C23: (a) Student Financial Aid Fees: Credit Programs - 5%; Credit total generated by student financial aid fee under $500,000 - 7%; Noncredit Programs - 10%.
C24: (b) Student Activity and Service Fee not in excess of 10% of resident tuition (not allowed for noncredit programs). The same rate is applied to resident and nonresident students.
C25: (c) Capital Improvement Fee may not exceed 20% for resident credit students or 20% of the total tuition and out-of-state fees for nonresident credit students.
C26: The fee for resident credit students is limited to an annual increase of $2 per credit hour over the prior year.
C27: The fees for resident noncredit programs are computed at 5% of tuition and nonresident noncredit programs are computed at 5% of tuition plus out-of-state fee.
C28: (d) Technology Fee may not exceed 5% for resident credit students or 5% of the tuition and out-of-state fees for nonresident students. Technology fees apply to baccalaureate,
C29: college credit and career certificate and applied technology diploma instruction.
A32: 5. | C32: In EXHIBIT C, verify that student fees agree with EXHIBIT D.
C34: =IF(+'EXHIBIT C'!H47+'EXHIBIT C(2)'!E31='EXHIBIT D'!G45,"Equal","Not Equal") -> Equal
A37: 6. | C37: Compare the student credit hours calculated by the Florida College System Budget Office with estimated credit hours of the college (FTE converted to 30 credit hours).
C38: Fee paying only (excludes dual enrollment, vocational prep, adult and apprenticeship programs).
D40: 2026-27 | E40: =D40 -> 2026-27
D41: BUDGET OFFICE IN-STATE | E41: COLLEGE IN-STATE | G41: DIFFERENCE
D42: ESTIMATED FTE | E42: ESTIMATED STUDENT | F42: % | G42: GREATER
C43: RESIDENT | D43: (CONVERTED TO 30 CRHR) | E43: CREDIT HOURS | F43: DIFFERENCE | G43: THAN 3%
C44: ADVANCED & PROFESSIONAL (BACCALAUREATE) | D44: =VLOOKUP($D$7,VLOOKUP!$A$116:$S$144,2)*30+D59 -> 72720 | E44: =+'EXHIBIT C'!F10 -> 74853.459 | F44: =IF(D44=0,"0",(E44/D44-1)) -> 0.029337995 | G44: =IF(OR(F44>3%, F44<-3%),"YES","NO") -> NO
C45: ADVANCED & PROFESSIONAL (LOWER LEVEL) | D45: =VLOOKUP($D$7,VLOOKUP!$A$116:$S$144,5)*30+D60 -> 216675.14 | E45: =+'EXHIBIT C'!F11 -> 237855.31 | F45: =IF(D45=0,"0",(E45/D45-1)) -> 0.097750807 | G45: =IF(OR(F45>3%, F45<-3%),"YES","NO") -> YES
C46: POSTSECONDARY VOCATIONAL | D46: =VLOOKUP($D$7,VLOOKUP!$A$116:$S$144,8)*30 -> 114973.08 | E46: =+'EXHIBIT C'!F12 -> 112195.47 | F46: =IF(D46=0,"0",(E46/D46-1)) -> -0.02415885 | G46: =IF(OR(F46>3%, F46<-3%),"YES","NO") -> NO
C47: CAREER CERTIFICATE AND APPLIED TECHNOLOGY DIPLOMA | D47: =VLOOKUP($D$7,VLOOKUP!$A$116:$S$144,17)*30 -> 3789.2364 | E47: =+'EXHIBIT C'!F13 -> 5699.7085 | F47: =IF(D47=0,"0",(E47/D47-1)) -> 0.50418391 | G47: =IF(OR(F47>3%, F47<-3%),"YES","NO") -> YES
C48: DEVELOPMENTAL EDUCATION | D48: =VLOOKUP($D$7,VLOOKUP!$A$116:$S$144,11)*30 -> 9658.4822 | E48: =+'EXHIBIT C'!F14 -> 13788.053 | F48: =IF(D48=0,"0",(E48/D48-1)) -> 0.42755897 | G48: =IF(OR(F48>3%, F48<-3%),"YES","NO") -> YES
C49: EDUCATOR PREPARATION INSTITUTES | D49: =VLOOKUP($D$7,VLOOKUP!$A$116:$S$144,14)*30 -> 0 | E49: =+'EXHIBIT C'!F15 -> 0 | F49: =IF(D49=0,"0",(E49/D49-1)) -> 0 | G49: =IF(OR(F49>3%, F49<-3%),"YES","NO") -> NO
C50: TOTAL | D50: =SUM(D44:D49) -> 417815.94 | E50: =+'EXHIBIT C'!F17 -> 444392 | F50: =IF(D50=0,"0",(E50/D50-1)) -> 0.063607085 | G50: =IF(OR(F50>3%, F50<-3%),"YES","NO") -> YES
C51: If the difference is greater than 3% in any of the areas, please provide an explanation in the box below. Note: If more space is needed, please provide the explanation in the College Operating Budget transmittal email.
C52: Explanation: Do not press Enter until complete.
C53: FTE 2 Justification Accepting Estimates:St. Petersburg College continuously monitors its FTE and accepts the DFC’s FTE-2 overall estimate of 15,720, a 2.4% increase over our FTE-1 adjusted estimate.The DFC’s estimate for the Upper Division is a (3.9%) increase over our FTE-1 estimate. With our Digital Media bachelor program started in Fall 2025 continuing to bring new enrollment and the continued success of recently launched programs (Cardiopulmonary Science, Secondary English Education, Prekindergarten/Primary Education), we expect a larger increase in this category, compared to last year. This is in line with the DFC’s FTE-2 estimate.DFC’s estimated increase in Lower Division AP (2.6%) over FTE-1 estimate is consistent with our estimates. Increased enrollment in our AA pathways, High school programs and FTIC population continue to have a positive impact in this area in 2025-26. A larger increase is expected based on our current Spring enrollment.The DFC estimated an increase in PSV (1.7%) over our FTE-1 estimate. Our associate in science (AS) and certificate program enrollment continues to grow within our larger academic communities (health sciences, business, and public safety). Together with the increased enrollment in the AA pathways, we estimate a slightly larger increase in 2025-26.Our PSAV program enrollment remains steady this year and no significant change is expected as the DFC estimated.The College agrees with the DFC’s estimate for College Prep of a (-1.9%) decrease over the FTE-1 estimate. Enrollment in this area was slightly less than anticipated in Spring 2026. The DFC estimated an increase in Apprenticeship of (0.5%) over our FTE-1 estimate. The College expects a small increase in this area with the growth of our Teacher Apprenticeship program. Adjusting Overall Projections:St. Petersburg College has revised its DFC FTE projections for 2027–2031, anticipating increase of 1.1% in 2027 followed by an annual growth of 0.2%–0.3% in following years. The initiatives listed below are expected to maintain a positive enrollment trend for the next 5 years.Program Expansion:The college anticipates strong growth in the upper‑division and PSV categories with the introduction of the Building Construction BAS and three new certificate programs: Financial Technology Specialist, Semiconductor Cleanroom Operator, and Veterinary Assisting. The credits earned in these certificates articulate directly into AS degree pathways and are expected to expand entry points for students, strengthen the enrollment pipeline, and support continued progression into advanced programs.Recruitment Initiatives:1.Enhanced outreach to high school graduates through personalized communication, expanded funding guidance, and deeper faculty engagement in high school settings to boost enrollment.2. Strengthened onboarding and transition support.3. Expanded early outreach: “Apply SPC,” “Next Stop, SPC,” and first-year experience programs. 4. Targeted efforts for stop-outs, adult learners, and readmits via flexible options and short-term credentials.5. Continuing to offer free summer American Government course for graduating seniors at all major campuses.6. Enhanced Baccalaureate admissions tracking to help identify barriers in the admissions process7. Embedding the career conversation in Recruitment to convert more Request for Information into applicationsRetention Initiatives:1. Mandatory orientation for all new students that guide students’ step‑by‑step through the registration process, ensuring they understand requirements, deadlines, and available support.2. Increased campus engagement through Student Life activities.3. Utilizing customized dashboards that will be used to strengthen student success efforts by highlighting risk indicators, tracking progression, and enabling timely interventions that keep students on path to completion.4. Debt Free degree nights where we provide information on ways to get to a debt free degree.
D55: =D40 -> 2026-27 | E55: =E40 -> 2026-27
D56: DIVISION OUT-OF-STATE | E56: COLLEGE OUT-OF-STATE | G56: DIFFERENCE
D57: ESTIMATED FTE | E57: ESTIMATED STUDENT | F57: % | G57: GREATER
C58: OUT-OF-STATE | D58: (CONVERTED TO 30 CRHR) | E58: CREDIT HOURS | F58: DIFFERENCE | G58: THAN 5%
C59: ADVANCED & PROFESSIONAL (BACCALAUREATE) | D59: =VLOOKUP($D$7,VLOOKUP!$A$116:$S$144,3)*30 -> 0 | E59: =+'EXHIBIT C'!D19 -> 1562.0985 | F59: =IF(D59=0,"0",(E59/D59-1)) -> 0 | G59: =IF(OR(F59>5%, F59<-5%),"YES","NO") -> NO
...

Sheet EXHIBIT A
B1: EXHIBIT A
B2: THE FLORIDA COLLEGE SYSTEM
B3: COLLEGE OPERATING BUDGET
B4: ANNUAL BUDGET SUMMARY
B5: FISCAL YEAR 2026-27
B8: COLLEGE: | C8: ='CHECK SHEET'!D7 -> St. Petersburg College
E10: CURRENT FUNDS - UNRESTRICTED
B11: BEGINNING FUND BALANCE - JULY 1, 2026:
B13: ESTIMATED AFR FUND BALANCE - JUNE 30, 2026 (IF DEBIT BALANCE USE "MINUS SIGN") | E13: 56800000
B14: ADD AMOUNT EXPECTED TO BE FINANCED IN FUTURE YEARS (USE PLUS SIGN) | E14: 129400000
B16: TOTAL RESERVE AND UNENCUMBERED FUND BALANCE - JULY 1, 2026 | E16: =+E14+E13 -> 186200000
B18: ADD: REVENUES | E18: =+'EXHIBIT D'!G143-SUM(+'EXHIBIT D'!G133+'EXHIBIT D'!G134) -> 166822544
B19: TRANSFERS IN | E19: =+'EXHIBIT D'!G133+'EXHIBIT D'!G134 -> 11909887
B21: TOTAL RECEIPTS | E21: =+E19+E18 -> 178732431
B23: TOTAL ESTIMATED AVAILABLE | E23: =+E21+E16 -> 364932431
B25: DEDUCT: EXPENDITURES | E25: ='EXHIBIT D'!G248-SUM(+'EXHIBIT D'!G222+'EXHIBIT D'!G223) -> 1.7813356e+08
B26: TRANSFERS OUT | E26: ='EXHIBIT D'!G222+'EXHIBIT D'!G223 -> 598873.91
B28: TOTAL DISBURSEMENTS | E28: =+E26+E25 -> 1.7873243e+08
B30: ESTIMATED FUND BALANCE - JUNE 30, 2026:
B32: TOTAL AVAILABLE LESS DISBURSEMENTS | D32: =+E23-E28 -> 1.862e+08
B33: ADD ACCRUED LEAVE EXPENSE (GLC 59300) | D33: =+'EXHIBIT D'!G186 -> 750000
B35: TOTAL ESTIMATED RESERVE AND UNENCUMBERED FUND BALANCE - JUNE 30, 2027 | E35: =+D32+D33 -> 1.8695e+08
B36: LESS ESTIMATED AMOUNT EXPECTED TO BE FINANCED IN FUTURE YEARS (GLC 30800) - JUNE 30, 2027 | E36: =-'EXHIBIT D'!G264 -> 130150000
B38: TOTAL ESTIMATED FUND BALANCE - JUNE 30, 2027 | E38: =+E35-E36 -> 56800000
B40: ESTIMATED UNENCUMBERED FUND BALANCE - JUNE 30, 2027 | E40: ='EXHIBIT D'!G253+'EXHIBIT D'!G254+'EXHIBIT D'!G255+'EXHIBIT D'!G256+'EXHIBIT D'!G257+'EXHIBIT D'!G258+'EXHIBIT D'!G259+'EXHIBIT D'!G260 -> 58967500
B41: (Includes GL's: 30200, 30300, 30400, 30500, 30600, 30700, 30900, and 31100)
B43: PERCENT OF ESTIMATED UNENCUMBERED FUND BALANCE
B44: AS OF JUNE 30, 2027, TO ESTIMATED FUNDS AVAILABLE | E44: =+E40/E23 -> 0.16158471
B46: CERTIFY BOARD OF TRUSTEES APPROVAL:
B51: COLLEGE PRESIDENT | E51: DATE

Sheet EXHIBIT B
I1: EXHIBIT B
A3: THE FLORIDA COLLEGE SYSTEM
A4: COLLEGE OPERATING BUDGET
A5: FALL 2026-27 STUDENT TUITION AND FEE RATES AND BLOCK TUITION
A6: (UPPER AND LOWER LEVELS)
C8: COLLEGE: | D8: ='CHECK SHEET'!D7 -> St. Petersburg College
B11: RESIDENT STUDENTS
B12: TUITION AND FEES PER CREDIT HOUR & BLOCK TUITION
A13: PROGRAMS | B13: TUITION | C13: STUDENT FINANCIAL AID FEE (1) | D13: STUDENT ACTIVITY FEE (1) | E13: CAPITAL IMPROVEMENT FEE (1) | F13: TECHNOLOGY FEE (1) | G13: TOTAL | H13: TUITION AND FEES FOR ACADEMIC YEAR (30 HOURS)
A14: UPPER LEVEL - BACCALAUREATE | B14: 91.79 | C14: 4.59 | D14: 9.18 | E14: 12.55 | F14: 4.59 | G14: =SUM(B14:F14) -> 122.7 | H14: =G14*30 -> 3681
A15: LOWER LEVEL - CREDIT (A & P, PSV, DEVELOPMENTAL EDUCATION AND EPI) | B15: 80.94 | C15: 4.04 | D15: 7.63 | E15: 15.1 | F15: 4.04 | G15: =SUM(B15:F15) -> 111.75 | H15: =G15*30 -> 3352.5
A16: CAREER CERTIFICATE AND APPLIED TECHNOLOGY DIPLOMA | B16: 68.6 | C16: 0 | E16: 3.43 | F16: 3.43 | G16: =SUM(B16:F16) -> 75.46 | H16: =G16*30 -> 2263.8
A18: PROGRAMS | B18: BLOCK TUITION | G18: TOTAL | H18: BLOCK TUITION PER TERM OR PER HALF YEAR
A19: VOCATIONAL PREPARATORY (PER TERM) | B19: 0 | G19: =B19 -> 0 | H19: =G19*3 -> 0
A20: ADULT GENERAL EDUCATION AND SECONDARY (PER TERM) | B20: 0 | G20: =B20 -> 0 | H20: =G20*3 -> 0
A22: VOCATIONAL PREPARATORY (PER HALF YEAR) | B22: 0 | G22: =B22 -> 0 | H22: =G22*2 -> 0
A23: ADULT GENERAL EDUCATION AND SECONDARY (PER HALF YEAR) | B23: 0 | G23: =B23 -> 0 | H23: =G23*2 -> 0
B26: NONRESIDENT STUDENTS
B27: TUITION AND FEES PER CREDIT HOUR & BLOCK TUITION
A28: PROGRAMS | B28: TUITION | C28: OUT-OF-STATE FEES | D28: STUDENT FINANCIAL AID FEE (1) | E28: STUDENT ACTIVITY FEE (1) | F28: CAPITAL IMPROVEMENT FEE (1) | G28: TECHNOLOGY FEE (1) | H28: TOTAL | I28: TUITION AND FEES FOR ACADEMIC YEAR (30 HOURS)
A29: =A14 -> UPPER LEVEL - BACCALAUREATE | B29: =B14 -> 91.79 | C29: 275.53 | D29: 18.37 | E29: =D14 -> 9.18 | F29: 12.55 | G29: 18.37 | H29: =SUM(B29:G29) -> 425.79 | I29: =H29*30 -> 12773.7
A30: =A15 -> LOWER LEVEL - CREDIT (A & P, PSV, DEVELOPMENTAL EDUCATION AND EPI) | B30: =B15 -> 80.94 | C30: 242.97 | D30: 16.2 | E30: =D15 -> 7.63 | F30: 22.96 | G30: 16.2 | H30: =SUM(B30:G30) -> 386.9 | I30: =H30*30 -> 11607
A31: =A16 -> CAREER CERTIFICATE AND APPLIED TECHNOLOGY DIPLOMA | B31: =B16 -> 68.6 | C31: 205.82 | D31: 0 | F31: 13.72 | G31: 13.72 | H31: =SUM(B31:G31) -> 301.86 | I31: =H31*30 -> 9055.8
A32: DISTANCE LEARNING (2) | B32: 0 | C32: 0 | D32: 0 | F32: 0 | G32: 0 | H32: =SUM(B32:G32) -> 0 | I32: =H32*30 -> 0
A34: PROGRAMS | B34: BLOCK TUITION | H34: TOTAL | I34: BLOCK TUITION PER TERM OR PER HALF YEAR
A35: =A19 -> VOCATIONAL PREPARATORY (PER TERM) | B35: =B19 -> 0 | H35: =B35 -> 0 | I35: =H35*3 -> 0
A36: =A20 -> ADULT GENERAL EDUCATION AND SECONDARY (PER TERM) | B36: =B20 -> 0 | H36: =B36 -> 0 | I36: =H36*3 -> 0
A38: =A22 -> VOCATIONAL PREPARATORY (PER HALF YEAR) | B38: =B22 -> 0 | H38: =B38 -> 0 | I38: =H38*2 -> 0
A39: =A23 -> ADULT GENERAL EDUCATION AND SECONDARY (PER HALF YEAR) | B39: =B23 -> 0 | H39: =B39 -> 0 | I39: =H39*2 -> 0
A41: Note:
A42: (1) These Fees Are Not Required. The 2026-27 Fee Audit and Discretionary Fee calculations are provided at the end of the Workbook, to assist the college in verifying that the tuition and fee
A43: rates are in compliance with sections 1009.22 and 1009.23, Florida Statutes.
A44: (2)HB 1285- Beginning with the 2024-25 academic year, Miami Dade College, Polk State College, and Tallahassee State College are authorized to charge an amount not to exceed $290 per
A45: credit hour for nonresident tuition and fees for distance learning. Such institutions may phase in this nonresident tuition rate by degree program.

Sheet EXHIBIT C
H1: EXHIBIT C
A2: THE FLORIDA COLLEGE SYSTEM
A3: FALL 2026-27 BUDGET WORKSHEET FOR ESTIMATED STUDENT TUITION AND TRANSFERS
A5: COLLEGE: | B5: ='CHECK SHEET'!D7 -> St. Petersburg College
A7: l. BUDGET WORKSHEET FOR ESTIMATED STUDENT FEES PER CREDIT HOUR
A9: STUDENT TUITION | B9: DISCIPLINE | C9: GENERAL LEDGER CODE | D9: TOTAL PLANNED CREDIT HOURS | E9: FEE EXEMPT, DUAL ENROLLMENT & APPRENTICESHIP, ETC. | F9: TOTAL FEE PAYING | G9: CHARGE PER STUDENT CREDIT HOUR | H9: BUDGETED FEE REVENUES
A10: TUITION | B10: ADVANCED & PROFESSIONAL (UPPER LEVEL - BACCALAUREATE) | C10: 40101 | D10: 74853.459 | E10: 0 | F10: =+D10-E10 -> 74853.459 | G10: ='EXHIBIT B'!B14 -> 91.79 | H10: =ROUND(+F10*G10,0) -> 6870799
A11: TUITION | B11: ADVANCED & PROFESSIONAL (LOWER LEVEL) | C11: 40110 | D11: 237855.31 | E11: 0 | F11: =+D11-E11 -> 237855.31 | G11: =+'EXHIBIT B'!B15 -> 80.94 | H11: =ROUND(+F11*G11,0) -> 19252009
A12: TUITION | B12: POSTSECONDARY VOCATIONAL | C12: 40120 | D12: 112195.47 | E12: 0 | F12: =+D12-E12 -> 112195.47 | G12: =+'EXHIBIT B'!B15 -> 80.94 | H12: =ROUND(+F12*G12,0) -> 9081101
A13: TUITION | B13: CAREER CERTIFICATE AND APPLIED TECHNOLOGY DIPLOMA | C13: 40130 | D13: 5699.7085 | E13: 0 | F13: =+D13-E13 -> 5699.7085 | G13: =+'EXHIBIT B'!B16 -> 68.6 | H13: =ROUND(+F13*G13,0) -> 391000
A14: TUITION | B14: DEVELOPMENTAL EDUCATION | C14: 40150 | D14: 13788.053 | E14: 0 | F14: =+D14-E14 -> 13788.053 | G14: =+'EXHIBIT B'!B15 -> 80.94 | H14: =ROUND(+F14*G14,0) -> 1116005
A15: TUITION | B15: EDUCATOR PREPARATION INSTITUTES | C15: 40160 | D15: 0 | E15: 0 | F15: =+D15-E15 -> 0 | G15: =+'EXHIBIT B'!B15 -> 80.94 | H15: =ROUND(+F15*G15,0) -> 0
B17: SUBTOTAL | D17: =SUM(D10:D15) -> 444392 | E17: =SUM(E10:E15) -> 0 | F17: =SUM(F10:F15) -> 444392 | H17: =SUM(H10:H15) -> 36710914
A18: STUDENT OUT-OF STATE FEES | B18: DISCIPLINE | C18: GENERAL LEDGER CODE | D18: ESTIMATED FEE PAYING OUT-OF-STATE CREDIT HOURS | E18: CHARGE PER STUDENT CREDIT HOUR | F18: BUDGETED FEE REVENUES
A19: OUT-OF-STATE FEES | B19: ADVANCED & PROFESSIONAL (UPPER LEVEL - BACCALAUREATE) | C19: 40301 | D19: 1562.0985 | E19: ='EXHIBIT B'!C29 -> 275.53 | F19: =ROUND(+D19*E19,0) -> 430405
A20: OUT-OF-STATE FEES | B20: ADVANCED & PROFESSIONAL (LOWER LEVEL) | C20: 40310 | D20: 10251.319 | E20: =+'EXHIBIT B'!C30 -> 242.97 | F20: =ROUND(+D20*E20,0) -> 2490763
A21: OUT-OF-STATE FEES | B21: POSTSECONDARY VOCATIONAL | C21: 40320 | D21: 4198.0162 | E21: =+'EXHIBIT B'!C30 -> 242.97 | F21: =ROUND(+D21*E21,0) -> 1019992
A22: OUT-OF-STATE FEES | B22: CAREER CERTIFICATE AND APPLIED TECHNOLOGY DIPLOMA | C22: 40330 | D22: 242.93072 | E22: =+'EXHIBIT B'!C31 -> 205.82 | F22: =ROUND(+D22*E22,0) -> 50000
A23: OUT-OF-STATE FEES | B23: DEVELOPMENTAL EDUCATION | C23: 40350 | D23: 1176.6802 | E23: =+'EXHIBIT B'!C30 -> 242.97 | F23: =ROUND(+D23*E23,0) -> 285898
A24: OUT-OF-STATE FEES | B24: EDUCATOR PREPARATION INSTITUTES & ALTERNATIVE CERTIFICATION CURRICULUM | C24: 40360 | D24: 0 | E24: =+'EXHIBIT B'!C30 -> 242.97 | F24: =ROUND(+D24*E24,0) -> 0
A25: OUT-OF-STATE FEES | B25: DISTANCE LEARNING | C25: XXXXX | D25: 0 | E25: =+'EXHIBIT B'!H32 -> 0 | F25: =ROUND(+D25*E25,0) -> 0
B27: SUBTOTAL | D27: =SUM(D19:D25) -> 17431.045 | F27: =SUM(F19:F25) -> 4277058
A28: TOTAL STUDENT TUITION AND OUT-OF-STATE FEES | H28: =H17+F27 -> 40987972
A30: II. BUDGET WORKSHEET FOR ESTIMATED STUDENT TUITION (CONTINUED)
A32: STUDENT BLOCK TUITION | B32: DISCIPLINE | C32: GENERAL LEDGER CODE | D32: TOTAL ANNUAL HEADCOUNT UNDUPLICATED BY TERM/BLOCK | E32: FEE EXEMPT | F32: TOTAL FEE PAYING | G32: BLOCK TUITION CHARGED | H32: BUDGETED FEE REVENUES
A33: BLOCK TUITION (PER TERM) | B33: VOCATIONAL PREPARATORY | C33: 40180 | D33: 0 | E33: 0 | F33: =D33-E33 -> 0 | G33: ='EXHIBIT B'!B19 -> 0 | H33: =ROUND(+F33*G33,0) -> 0
A34: BLOCK TUITION (PER TERM) | B34: ADULT GENERAL EDUCATION AND SECONDARY | C34: 40190 | D34: 0 | E34: 0 | F34: =D34-E34 -> 0 | G34: ='EXHIBIT B'!B20 -> 0 | H34: =ROUND(+F34*G34,0) -> 0
A35: BLOCK TUITION (PER HALF YEAR) | B35: VOCATIONAL PREPARATORY | C35: 40180 | D35: 0 | E35: 0 | F35: =D35-E35 -> 0 | G35: ='EXHIBIT B'!B22 -> 0 | H35: =ROUND(+F35*G35,0) -> 0
A36: BLOCK TUITION (PER HALF YEAR) | B36: ADULT GENERAL EDUCATION AND SECONDARY | C36: 40190 | D36: 0 | E36: 0 | F36: =D36-E36 -> 0 | G36: ='EXHIBIT B'!B23 -> 0 | H36: =ROUND(+F36*G36,0) -> 0
B37: SUBTOTAL | D37: =SUM(D33:D36) -> 0 | E37: =SUM(E33:E36) -> 0 | F37: =D37-E37 -> 0 | H37: =SUM(H33:H36) -> 0
A39: NONRESIDENT BLOCK TUITION | B39: DISCIPLINE | C39: GENERAL LEDGER CODE | D39: TOTAL ANNUAL HEADCOUNT UNDUPLICATED BY TERM/BLOCK | E39: BLOCK TUITION CHARGED | F39: BUDGETED FEE REVENUES
A40: BLOCK TUITION (PER TERM) | B40: VOCATIONAL PREPARATORY | C40: 40380 | D40: 0 | E40: ='EXHIBIT B'!B35 -> 0 | F40: =D40*E40 -> 0
A41: BLOCK TUITION (PER TERM) | B41: ADULT GENERAL EDUCATION AND SECONDARY | C41: 40390 | D41: 0 | E41: ='EXHIBIT B'!B36 -> 0 | F41: =D41*E41 -> 0
A42: BLOCK TUITION (PER HALF YEAR) | B42: VOCATIONAL PREPARATORY | C42: 40380 | D42: 0 | E42: ='EXHIBIT B'!B38 -> 0 | F42: =D42*E42 -> 0
A43: BLOCK TUITION (PER HALF YEAR) | B43: ADULT GENERAL EDUCATION AND SECONDARY | C43: 40390 | D43: 0 | E43: ='EXHIBIT B'!B39 -> 0 | F43: =D43*E43 -> 0
B44: SUBTOTAL | D44: =SUM(D40:D43) -> 0 | F44: =SUM(F40:F43) -> 0
A45: TOTAL BLOCK TUITION | H45: =H37+F44 -> 0
A47: GRAND TOTAL STUDENT FEES | H47: =H28+H45 -> 40987972
A49: III. TRANSFER IN AND OUT INFORMATION:
A51: IF YOU ENTER AN AMOUNT BELOW, YOU MUST ENTER THE APPROPRIATE FUND NUMBER IN THE "FUND TRANSFERRED FROM" COLUMN AND THE "FUND TRANSFERRED TO" COLUMN. PLEASE DO NOT LEAVE BLANK.
...

Sheet EXHIBIT D
A2: COLLEGE: | B2: ='CHECK SHEET'!D7 -> St. Petersburg College
A3: SCHEDULE OF BUDGETED REVENUES, EXPENDITURES, AND FUND BALANCE
A4: BY GENERAL LEDGER CODE
A5: FOR THE FISCAL YEAR 2026-27
A7: Enter amounts only for cells highlighted in light yellow. The cells not highlighted have been automatically populated from other exhibits. If the amount is incorrect, changes must be made in the cell of the referenced exhibits.
B9: ACCOUNT TITLE | F9: GENERAL LEDGER CODE | G9: CURRENT FUNDS - UNRESTRICTED LOWER AND UPPER LEVEL
A10: STUDENT TUITION
A12: TUITION | C12: ADVANCED & PROFESSIONAL (UPPER LEVEL - BACCALAUREATE) | F12: 40101 | G12: =+'EXHIBIT C'!H10+'EXHIBIT C(2)'!E13 -> 6870799
A13: TUITION | C13: ADVANCED & PROFESSIONAL (LOWER LEVEL) | F13: 40110 | G13: =+'EXHIBIT C'!H11+'EXHIBIT C(2)'!E14 -> 19252009
A14: TUITION | C14: POSTSECONDARY VOCATIONAL | F14: 40120 | G14: =+'EXHIBIT C'!H12+'EXHIBIT C(2)'!E15 -> 9081101
A15: TUITION | C15: CAREER CERTIFICATE AND APPLIED TECHNOLOGY DIPLOMA | F15: 40130 | G15: =+'EXHIBIT C'!H13+'EXHIBIT C(2)'!E16 -> 391000
A16: TUITION | C16: DEVELOPMENTAL EDUCATION | F16: 40150 | G16: =+'EXHIBIT C'!H14+'EXHIBIT C(2)'!E17 -> 1116005
A17: TUITION | C17: EDUCATOR PREPARATION INSTITUTES | F17: 40160 | G17: =+'EXHIBIT C'!H15+'EXHIBIT C(2)'!E18 -> 0
A19: SUBTOTAL STUDENT TUITION | G19: =SUM(G12:G17) -> 36710914
A21: OUT-OF-STATE FEES | C21: ADVANCED & PROFESSIONAL (UPPER LEVEL - BACCALAUREATE) | F21: 40301 | G21: =+'EXHIBIT C'!F19+'EXHIBIT C(2)'!E22 -> 430405
A22: OUT-OF-STATE FEES | C22: ADVANCED & PROFESSIONAL (LOWER LEVEL) | F22: 40310 | G22: =+'EXHIBIT C'!F20+'EXHIBIT C(2)'!E23 -> 2490763
A23: OUT-OF-STATE FEES | C23: POSTSECONDARY VOCATIONAL | F23: 40320 | G23: =+'EXHIBIT C'!F21+'EXHIBIT C(2)'!E24 -> 1019992
A24: OUT-OF-STATE FEES | C24: CAREER CERTIFICATE AND APPLIED TECHNOLOGY DIPLOMA | F24: 40330 | G24: =+'EXHIBIT C'!F22+'EXHIBIT C(2)'!E25 -> 50000
A25: OUT-OF-STATE FEES | C25: DEVELOPMENTAL EDUCATION | F25: 40350 | G25: =+'EXHIBIT C'!F23+'EXHIBIT C(2)'!E26 -> 285898
A26: OUT-OF-STATE FEES | C26: EDUCATOR PREPARATION INSTITUTES & ALTERNATIVE CERTIFICATION CURRICULUM | F26: 40360 | G26: =+'EXHIBIT C'!F24+'EXHIBIT C(2)'!E27 -> 0
A27: OUT-OF-STATE FEES | C27: DISTANCE LEARNING | F27: XXXXX | G27: =+'EXHIBIT C'!F25+'EXHIBIT C(2)'!E28 -> 0
A29: SUBTOTAL OUT-OF-STATE FEES | G29: =SUM(G21:G27) -> 4277058
A31: TUITION (PER TERM) - RESIDENT | C31: VOCATIONAL PREPARATORY | F31: 40180 | G31: ='EXHIBIT C'!H33 -> 0
A32: TUITION (PER TERM) - RESIDENT | C32: ADULT GENERAL EDUCATION AND SECONDARY | F32: 40190 | G32: ='EXHIBIT C'!H34 -> 0
A33: TUITION (PER HALF YEAR) - RESIDENT | C33: VOCATIONAL PREPARATORY | F33: 40180 | G33: ='EXHIBIT C'!H35 -> 0
A34: TUITION (PER HALF YEAR) - RESIDENT | C34: ADULT GENERAL EDUCATION AND SECONDARY | F34: 40190 | G34: ='EXHIBIT C'!H36 -> 0
A36: SUBTOTAL BLOCK RESIDENT TUITION | G36: =SUM(G31:G34) -> 0
A38: TUITION (PER TERM) - NONRESIDENT | C38: VOCATIONAL PREPARATORY | F38: 40380 | G38: ='EXHIBIT C'!F40 -> 0
A39: TUITION (PER TERM) - NONRESIDENT | C39: ADULT GENERAL EDUCATION AND SECONDARY | F39: 40390 | G39: ='EXHIBIT C'!F41 -> 0
A40: TUITION (PER HALF YEAR) - NONRESIDENT | C40: VOCATIONAL PREPARATORY | F40: 40380 | G40: ='EXHIBIT C'!F42 -> 0
A41: TUITION (PER HALF YEAR) - NONRESIDENT | C41: ADULT GENERAL EDUCATION AND SECONDARY | F41: 40390 | G41: ='EXHIBIT C'!F43 -> 0
A43: SUBTOTAL BLOCK TUITION NONRESIDENT FEES | G43: =SUM(G38:G42) -> 0
A45: SUBTOTAL FCSPF STUDENT FEES | G45: =G19+G29+G36+G43 -> 40987972
A47: TUITION - LIFELONG LEARNING | F47: 40210 | G47: 297000
A48: TUITION - CONTINUING WORKFORCE EDUCATION | F48: 40240 | G48: =3091442+250000 -> 3341442
A49: FULL COST OF INSTRUCTION (REPEAT COURSE FEE) | F49: 40260 | G49: 0
A50: TUITION - SELF-SUPPORTING | F50: 40270 | G50: 150000
A51: TUITION - DUAL ENROLLMENT | F51: 40280 | G51: =2100000+500000 -> 2600000
A52: LABORATORY FEES | F52: 40400 | G52: 3321443
A53: DISTANCE LEARNING COURSE USER FEES | F53: 40450 | G53: 4834243
...

Sheet EXHIBIT C(2)
E1: EXHIBIT C(2)
A3: THE FLORIDA COLLEGE SYSTEM
A4: BUDGET WORKSHEET FOR STUDENT TUITION PER CREDIT HOUR RATE CHANGE
A7: COLLEGE: | B7: ='CHECK SHEET'!D7 -> St. Petersburg College
A10: (This form is required by institutions that change the credit hour rate after the beginning of the fall fiscal year. The college must notify the Division of Florida Colleges prior to the beginning of the Spring term).
A12: STUDENT FEES | B12: DISCIPLINE | C12: GENERAL LEDGER CODE | D12: CHANGE IN CHARGE PER STUDENT CREDIT HOUR | E12: ADDITIONAL/ REDUCED BUDGETED FEE REVENUES
A13: TUITION | B13: ADVANCED & PROFESSIONAL (UPPER LEVEL - BACCALAUREATE) | C13: 40101 | D13: 0 | E13: 0
A14: TUITION | B14: ADVANCED & PROFESSIONAL (LOWER LEVEL) | C14: 40110 | D14: 0 | E14: 0
A15: TUITION | B15: POSTSECONDARY VOCATIONAL | C15: 40120 | D15: 0 | E15: 0
A16: TUITION | B16: CAREER CERTIFICATE AND APPLIED TECHNOLOGY DIPLOMA | C16: 40130 | D16: 0 | E16: 0
A17: TUITION | B17: DEVELOPMENTAL EDUCATION | C17: 40150 | D17: 0 | E17: 0
A18: TUITION | B18: EDUCATOR PREPARATION INSTITUTES | C18: 40160 | D18: 0 | E18: 0
B20: SUBTOTAL | E20: =SUM(E13:E18) -> 0
A21: STUDENT FEES | B21: DISCIPLINE | C21: GENERAL LEDGER CODE | D21: UPDATED CHARGE PER STUDENT CREDIT HOUR | E21: ADDITIONAL/ REDUCED BUDGETED FEE REVENUES
A22: OUT-OF-STATE FEES | B22: ADVANCED & PROFESSIONAL (UPPER LEVEL - BACCALAUREATE) | C22: 40301 | D22: 0 | E22: 0
A23: OUT-OF-STATE FEES | B23: ADVANCED & PROFESSIONAL (LOWER LEVEL) | C23: 40310 | D23: 0 | E23: 0
A24: OUT-OF-STATE FEES | B24: POSTSECONDARY VOCATIONAL | C24: 40320 | D24: 0 | E24: 0
A25: OUT-OF-STATE FEES | B25: CAREER CERTIFICATE AND APPLIED TECHNOLOGY DIPLOMA | C25: 40330 | D25: 0 | E25: 0
A26: OUT-OF-STATE FEES | B26: DEVELOPMENTAL EDUCATION | C26: 40350 | D26: 0 | E26: 0
A27: OUT-OF-STATE FEES | B27: EDUCATOR PREPARATION INSTITUTES & ALTERNATIVE CERTIFICATION CURRICULUM | C27: 40360 | D27: 0 | E27: 0
A28: OUT-OF-STATE FEES | B28: DISTANCE LEARNING | C28: XXXXX | D28: 0 | E28: 0
B30: SUBTOTAL | E30: =SUM(E22:E28) -> 0
A31: GRAND TOTAL CCPF STUDENT FEES | E31: =E20+E30 -> 0
A33: REASON FOR CHANGE IN TUITION:
C95: =SUM(C90:C94) -> 0

Sheet EXHIBIT E
E1: EXHIBIT E
A3: COLLEGE: | B3: ='CHECK SHEET'!D7 -> St. Petersburg College
A4: SUMMARY OF BUDGETED EXPENDITURES BY FUNCTION
A5: CURRENT FUND-UNRESTRICTED
A6: FISCAL YEAR 2026-27
A8: Enter amounts only for cells highlighted in light yellow.
A9: FUNCTION | B9: PERSONNEL GLC 500S | C9: CURRENT EXPENSE GLC 600S | D9: CAPITAL OUTLAY GLC 700S | E9: TOTAL
A10: INSTRUCTION | B10: 60389591 | C10: 5142551.4 | D10: 1405555 | E10: =SUM(B10:D10) -> 66937697
A11: RESEARCH | B11: 0 | C11: 0 | D11: 0 | E11: =SUM(B11:D11) -> 0
A12: PUBLIC SERVICE | B12: 0 | C12: 0 | D12: 0 | E12: =SUM(B12:D12) -> 0
A13: ACADEMIC SUPPORT:
A14: ACADEMIC SUPPORT - OTHER | B14: 22922201 | C14: 6923757.4 | D14: 691461.8 | E14: =SUM(B14:D14) -> 30537420
A15: STAFF/PROGRAM DEVELOPMENT | B15: 380000 | C15: 0 | D15: 0 | E15: =SUM(B15:D15) -> 380000
A16: STUDENT SUPPORT | B16: 18973877 | C16: 4065984.9 | D16: 555964.8 | E16: =SUM(B16:D16) -> 23595827
A17: INSTITUTIONAL SUPPORT | B17: 16366214 | C17: 12826874 | D17: 854580 | E17: =SUM(B17:D17) -> 30047668
A18: PLANT OPERATION AND MAINTENANCE | B18: 10972007 | C18: 11028594 | D18: 466025 | E18: =SUM(B18:D18) -> 22466626
A19: STUDENT AID | B19: 0 | C19: 2305048 | D19: 0 | E19: =SUM(B19:D19) -> 2305048
A20: TRANSFERS,CONTINGENCIES,ETC. | B20: 733335.48 | C20: 1728809.8 | D20: 0 | E20: =SUM(B20:D20) -> 2462145.2
A21: TOTAL | B21: =SUM(B10:B20) -> 130737225 | C21: =SUM(C10:C20) -> 44021619 | D21: =SUM(D10:D20) -> 3973586.6 | E21: =SUM(E10:E20) -> 1.7873243e+08
C96: =SUM(C91:C95) -> 0 | D96: =SUM(D91:D95) -> 0

Sheet EXHIBIT F
A1: EXHIBIT F
A2: (SAMPLE LETTER)
A3: Double Click to Download the PDF Document.

Sheet EXHIBIT G
A1: COLLEGE: | B1: ='CHECK SHEET'!D7 -> St. Petersburg College
A2: UPPER LEVEL PLANNED EXPENDITURES AND SOURCES OF FUNDS
A3: BACCALAUREATE DEGREE PROGRAM COLLEGE OPERATING BUDGET
A4: FISCAL YEAR 2026-27
A7: Enter amounts only for cells highlighted in light yellow. | C7: 2026-27
A8: PLANNED EXPENDITURES | C8: GENERAL LEDGER CODE | D8: UNRESTRICTED SOURCES | E8: RESTRICTED SOURCES | F8: TOTAL UNRESTRICTED AND RESTRICTED SOURCES
A9: PERSONNEL COSTS
A10: EXECUTIVE MANAGEMENT | C10: 51000 | D10: 0 | E10: 0 | F10: =+D10+E10 -> 0
A11: INSTRUCTIONAL MANAGEMENT | C11: 51100 | D11: 1224965.1 | E11: 0 | F11: =+D11+E11 -> 1224965.1
A12: INSTITUTIONAL MANAGEMENT | C12: 51200 | D12: 36353.13 | E12: 0 | F12: =+D12+E12 -> 36353.13
A13: EXECUTIVE, ADMINISTRATIVE, MANAGERIAL SABBATICAL | C13: 51400 | D13: 0 | E13: 0 | F13: =+D13+E13 -> 0
A14: EXECUTIVE, ADMINISTRATIVE, MANAGERIAL REGULAR PART-TIME | C14: 51500 | D14: 0 | E14: 0 | F14: =+D14+E14 -> 0
A15: INSTRUCTIONAL | C15: 52000 | D15: 3778012.1 | E15: 0 | F15: =+D15+E15 -> 3778012.1
A16: INSTRUCTIONAL - OVERLOAD/SUPPLEMENTAL | C16: 52100 | D16: 816377 | E16: 0 | F16: =+D16+E16 -> 816377
A17: INSTRUCTIONAL - SUBSTITUTION | C17: 52200 | D17: 520 | E17: 0 | F17: =+D17+E17 -> 520
A18: INSTRUCTIONAL - PARA-PROFESSIONAL/ASSOCIATE/ASSISTANT | C18: 52300 | D18: 0 | E18: 0 | F18: =+D18+E18 -> 0
A19: INSTRUCTIONAL - SABBATICAL | C19: 52400 | D19: 0 | E19: 0 | F19: =+D19+E19 -> 0
A20: INSTRUCTIONAL (PHASED RETIREMENT ) | C20: 52500 | D20: 0 | E20: 0 | F20: =+D20+E20 -> 0
A21: INSTRUCTIONAL (PHASED RETIREMENT ) - INSTRUCTOR/PROFESSOR | C21: 52501 | D21: 0 | E21: 0 | F21: =+D21+E21 -> 0
A22: INSTRUCTIONAL (PHASED RETIREMENT) - LIBRARIAN | C22: 52502 | D22: 0 | E22: 0 | F22: =+D22+E22 -> 0
A23: INSTRUCTIONAL (PHASED RETIREMENT) - COUNSELOR | C23: 52503 | D23: 0 | E23: 0 | F23: =+D23+E23 -> 0
A24: INSTRUCTIONAL (PHASED RETIREMENT) - REGULAR PART-TIME (FRS PARTICIPANT) | C24: 52504 | D24: 0 | E24: 0 | F24: =+D24+E24 -> 0
A25: OTHER PROFESSIONAL | C25: 53000 | D25: 991715.43 | E25: 0 | F25: =+D25+E25 -> 991715.43
A26: OTHER PROFESSIONAL - OVERLOAD/SUPPLEMENTAL | C26: 53100 | D26: 0 | E26: 0 | F26: =+D26+E26 -> 0
A27: OTHER PROFESSIONAL - SUBSTITUTION | C27: 53200 | D27: 0 | E27: 0 | F27: =+D27+E27 -> 0
A28: OTHER PROFESSIONAL - PARA-PROFESSIONAL/ASSOCIATE/ASSISTANT | C28: 53300 | D28: 0 | E28: 0 | F28: =+D28+E28 -> 0
A29: OTHER PROFESSIONAL - REGULAR PART-TIME | C29: 53500 | D29: 0 | E29: 0 | F29: =+D29+E29 -> 0
A30: TECHNICAL, CLERICAL, TRADE AND SERVICE | C30: 54000 | D30: 592532.56 | E30: 0 | F30: =+D30+E30 -> 592532.56
A31: TECHNICAL, CLERICAL, TRADE AND SERVICE - OVERTIME | C31: 54100 | D31: 0 | E31: 0 | F31: =+D31+E31 -> 0
A32: TECHNICAL, CLERICAL, TRADE AND SERVICE - REGULAR (PART-TIME) | C32: 54500 | D32: 0 | E32: 0 | F32: =+D32+E32 -> 0
... A34: OPS - INSTRUCTIONAL | C34: 56000 | D34: 0 | E34: 0 | F34: =+D34+E34 -> 0
A35: OPS - INSTRUCTIONAL/ADJUNCT INSTRUCTOR | C35: 56001 | D35: 1562006 | E35: 0 | F35: =+D35+E35 -> 1562006
A36: OPS - LIBRARIAN | C36: 56002 | D36: 0 | E36: 0 | F36: =+D36+E36 -> 0
A37: OPS - COUNSELOR | C37: 56003 | D37: 0 | E37: 0 | F37: =+D37+E37 -> 0
A38: OPS - PARA-PROFESSIONAL | C38: 56006 | D38: 48839 | E38: 0 | F38: =+D38+E38 -> 48839
A39: OPS - INSTRUCTIONAL SUBSTITUTES | C39: 56100 | D39: 0 | E39: 0 | F39: =+D39+E39 -> 0
A40: OPS - OTHER PROFESSIONAL PART-TIME | C40: 56500 | D40: 0 | E40: 0 | F40: =+D40+E40 -> 0
A41: OPS - TECHNICAL, CLERICAL, TRADE AND SERVICE | C41: 57000 | D41: 32418 | E41: 0 | F41: =+D41+E41 -> 32418
A42: STUDENT EMPLOYMENT - INSTITUTIONAL WORK STUDY | C42: 58000 | D42: 0 | E42: 0 | F42: =+D42+E42 -> 0
A43: STUDENT EMPLOYMENT - COLLEGE WORK STUDY PROGRAM | C43: 58100 | D43: 0 | E43: 0 | F43: =+D43+E43 -> 0
...

Sheet FEE AUDIT - TUITION AND FEES
B1: THE FLORIDA COLLEGE SYSTEM
B2: FALL 2026-27 TUITION INCREASED BY 0%
B5: LOWER LEVEL CREDIT PROGRAMS - RESIDENT: (ADVANCED & PROFESSIONAL, POSTSECONDARY VOCATIONAL, DEVELOPMENTAL EDUCATION, AND EDUCATOR PREPARATION INSTITUTE) | C5: TUITION AND FEE RATES PER CREDIT HOUR
C6: STANDARD | D6: MINIMUM | E6: MAXIMUM
D7: -0.1 | E7: 0.15
B8: TUITION | C8: 71.976 | D8: 64.78 | E8: 82.78
B9: STUDENT FINANCIAL AID(1) (5% of tuition) | C9: 3.6 | D9: 3.24 | E9: 4.14
B10: TECHNOLOGY(1) (5% of tuition) | C10: 3.6 | D10: 3.24 | E10: 4.14
B11: STUDENT ACTIVITY AND SERVICE(1) (10% of tuition) | C11: 7.2 | D11: 6.48 | E11: 8.28
B12: CAPITAL IMPROVEMENT FEE(1) (20% of tuition; $2 maximum increase per year) Example shown below.
B13: LOWER LEVEL CREDIT PROGRAMS - NON-RESIDENT: (ADVANCED & PROFESSIONAL, POSTSECONDARY VOCATIONAL, DEVELOPMENTAL EDUCATION, AND EDUCATOR PREPARATION INSTITUTE) | C13: TUITION AND FEE RATES PER CREDIT HOUR
C14: STANDARD | D14: MINIMUM | E14: MAXIMUM
D15: =D7 -> -0.1 | E15: =E7 -> 0.15
B16: TUITION | C16: 71.976 | D16: 64.78 | E16: 82.78
B17: OUT-OF-STATE (O.O.S.) FEE | C17: 215.938 | D17: 194.35 | E17: 248.33
B18: STUDENT FINANCIAL AID(1) (5% of tuition & O.O.S.) | C18: 14.4 | D18: 12.96 | E18: 16.56
B19: TECHNOLOGY(1) (5% of tuition & O.O.S.) | C19: 14.4 | D19: 12.96 | E19: 16.56
B20: STUDENT ACTIVITY AND SERVICE(1) (10% of tuition - must be same as resident) | C20: 7.2 | D20: 6.48 | E20: 8.28
B21: CAPITAL IMPROVEMENT FEE(1) (20% of tuition & O.O.S.) | C21: 57.58 | D21: 51.83 | E21: 66.22
B23: UPPER LEVEL CREDIT PROGRAMS - RESIDENT: (BACCALAUREATE DEGREE PROGRAMS) | C23: TUITION AND FEE RATES PER CREDIT HOUR
C24: STANDARD | D24: MINIMUM | E24: MAXIMUM
D25: 0 | E25: 0
B26: TUITION | C26: 91.79 | D26: =ROUND(C26*(1+D25),2) -> 91.79 | E26: =ROUND(C26*(1+E25),2) -> 91.79
B27: STUDENT FINANCIAL AID(1) (5% of tuition) | C27: 4.59 | D27: 4.59 | E27: 4.59
B28: TECHNOLOGY(1) (5% of tuition) | C28: 4.59 | D28: 4.59 | E28: 4.59
B29: STUDENT ACTIVITY AND SERVICE(1) (10% of tuition) | C29: 9.18 | D29: 9.18 | E29: 9.18
B30: CAPITAL IMPROVEMENT FEE(1) (20% of tuition; $2 maximum increase per year) Example shown below.
B31: UPPER LEVEL CREDIT PROGRAMS - NON-RESIDENT: (BACCALAUREATE DEGREE PROGRAMS) (2) | C31: TUITION AND FEE RATES PER CREDIT HOUR
C32: STANDARD | D32: MINIMUM | E32: MAXIMUM
D33: =D25 -> 0 | E33: =E25 -> 0
B34: TUITION | C34: 91.79 | D34: =ROUND(C34*(1+D33),2) -> 91.79 | E34: =ROUND(C34*(1+E33),2) -> 91.79
B35: OUT-OF-STATE (O.O.S.) FEE | C35: TBD | D35: TBD | E35: TBD
B36: STUDENT FINANCIAL AID(1) (5% of tuition & O.O.S.) | C36: TBD | D36: TBD | E36: TBD
B37: TECHNOLOGY(1) (5% of tuition & O.O.S.) | C37: TBD | D37: TBD | E37: TBD
B38: STUDENT ACTIVITY AND SERVICE(1) (10% of tuition - must be same as resident) | C38: =C29 -> 9.18 | D38: =D29 -> 9.18 | E38: =E29 -> 9.18
B39: CAPITAL IMPROVEMENT FEE(1) (20% of tuition & O.O.S.) | C39: TBD | D39: TBD | E39: TBD
B41: (1) Discretionary fees are not required.
B42: (2) The sum of tuition and the out-of-state baccalaureate fee shall be no more than 85% of the sum of tuition and the out-of-state fee at the state university nearest the Florida college, per section 1009.23(3)(b)2., Florida Statutes.
B45: Capital Improvement Fee Calculation Example: Assumption - The college establishes
B46: ="the maximum tuition rate. Maximum credit tuition rate = "&TEXT(E16,"$0.00") -> the maximum tuition rate. Maximum credit tuition rate = $82.78
...

Sheet DISCRETIONARY FEE PERCENTAGES
A1: THE FLORIDA COLLEGE SYSTEM
A2: 2023-24 MAXIMUM DISCRETIONARY FEE PERCENTAGES
A3: STUDENT FINANCIAL AID FEE - RESIDENT
A4: Credit total generated by student financial aid fee under $500,000 | B4: 0.07 | C4: of total in-state tuition
A5: Credit total generated by student financial aid fee over $500,000 | B5: 0.05 | C5: of total in-state tuition
A6: CCATD | B6: 0.1 | C6: of total in-state tuition
A7: STUDENT FINANCIAL AID FEE - NONRESIDENT
A8: Credit total generated by student financial aid fee under $500,000 | B8: 0.07 | C8: of total in-state and out-of-state tuition
A9: Credit total generated by student financial aid fee over $500,000 | B9: 0.05 | C9: of total in-state and out-of-state tuition
A10: =A6 -> CCATD | B10: 0.1 | C10: of total in-state and out-of-state tuition
A11: STUDENT ACTIVITY AND SERVICE FEE - RESIDENT
A12: Credit | B12: 0.1 | C12: of in-state tuition
A13: =A6 -> CCATD | B13: 0 | C13: not allowed
A14: STUDENT ACTIVITY AND SERVICE FEE - NONRESIDENT
A15: Credit | B15: 0.1 | C15: of in-state tuition - must be same as in-state
A16: =A6 -> CCATD | B16: 0 | C16: not allowed
A17: CAPITAL IMPROVEMENT FEE - RESIDENT
A18: Credit | B18: 0.2 | C18: of in-state tuition but cannot increase more than $2 per year
A19: =A6 -> CCATD | B19: 0.05 | C19: of total in-state tuition; no cap per year
A20: CAPITAL IMPROVEMENT FEE - NONRESIDENT
A21: Credit | B21: 0.2 | C21: of total in-state and out-of-state tuition
A22: =A6 -> CCATD | B22: 0.05 | C22: of total in-state and out-of-state tuition
A23: TECHNOLOGY FEE - RESIDENT
A24: Credit | B24: 0.05 | C24: of in-state tuition
A25: =A6 -> CCATD | B25: 0.05 | C25: of in-state tuition
A26: TECHNOLOGY FEE - NONRESIDENT
A27: Credit | B27: 0.05 | C27: of total in-state and out-of-state tuition
A28: =A6 -> CCATD | B28: 0.05 | C28: of total in-state and out-of-state tuition
A30: In accordance with section 1009.22(3)(b), Florida Statutes, fees for continuing workforce education shall be locally determined by the Florida College System institution board of trustees. Expenditures for the continuing workforce education program provided by the Florida college or school district must be fully supported by fees. Enrollments in continuing workforce educaton courses may not be counted for purposes of funding full-time equivalent enrollment.
A32: In accordance with section 1009.22(3)(c), students enrolled in adult general education may not be assessed out-of-state fee, financial aid, capital improvement, or technology fees authorized in subsection (5), subsection (6), or subsection (7).
A34: In accordance with section 1009.22(3)(a), Florida Statutes, fee-nonexempt students enrolled in applied academics for adult education instruction shall be charged fees equal to the fees charged for adult education programs.
A36: CCATD - Career Certificate And Applied Technology Diploma Programs

Sheet _56F9DC9755BA473782653E2940F9
A1: exC_Y2_Lc0GMHBQGu1y3lC-ujT3W1J9Mmrw7lar5L6lUOVRERkUzWk9MQ0syNUk5WkxQTENZVlMxNyQlQCN0PWcu
A2: Form1
A3: {443f49f6-a1f9-44d6-ae95-06dab15b27e1}
