Workbook

Sheet Summary
B1: COLLEGE: | C1: SUMMARY
A2: PRIVATE CONTRIBUTIONS RECEIVED FEBRUARY 2, 2022 THROUGH FEBRUARY 1, 2023
A3: (FISCAL YEAR 2023-24)
A5: Please provide the total amounts by program of private contributions that were received and deposited as assets of the foundation as of February 1, 2022, and would have been eligible for state matching funds prior to the suspension. The funds must not have been matched from previous state appropriations.
B7: DR. PHILIP BENJAMIN MATCHING GRANT PROGRAM
C8: 1 | D8: 2 | E8: 3
B9: USE | C9: NEW CONTRIBUTIONS RECEIVED 2/2/2022 - 2/1/2023 * | D9: STATE MATCH MULTIPLIER | E9: TOTAL STATE MATCHING AMOUNT
A10: 1 | B10: Scholarships Matching (100%) | C10: =SUM('Eastern FL:FCS Foundation'!C10) -> 37672499 | D10: 1 | E10: =ROUND(+C10*D10,0) -> 37672499
A11: 2 | B11: Other Eligible Uses (40/60%) | C11: =SUM('Eastern FL:FCS Foundation'!C11) -> 49566456 | D11: 0.66666667 | E11: =SUM('Eastern FL:FCS Foundation'!E11) -> 33044305
B12: TOTAL | C12: =C10+C11 -> 87238955 | E12: =E10+E11 -> 70716804
A14: *Please use whole dollars.
A16: NOTE: Section 1011.85(5), Florida Statutes, the matching ratio for donations that are specifically designated to support scholarships, including scholarships for first-generation-in-college students, student loans, or need-based grants shall be $1 of state funds to $1 of local private funds.
A18: Row 1 - This certification should not include First Generation Matching Grant (FGMG) amounts nor amounts previously designated as Philip Benjamin contributions that were subsequently used to fund FGMG. FGMG is administered by the Office of Student Financial Assistance.
A20: SB 2150 (2011) amended section 1011.85(13), Florida Statutes, to suspend state matching funds for donations received on or after June 30, 2011.
A21: Please complete and return this form to collegereporting@fldoe.org by COB on Monday, February 6, 2023.
A22: Please note a hard copy is not required to be submitted to the Florida College Budget Office.
B41: PLEASE SELECT COLLEGE NAME
B42: EASTERN FLORIDA STATE COLLEGE FOUNDATION, INC.
B43: BROWARD COLLEGE FOUNDATION, INC.
B44: COLLEGE OF CENTRAL FLORIDA FOUNDATION, INC.
B45: CHIPOLA COLLEGE FOUNDATION, INC
B46: DAYTONA STATE COLLEGE FOUNDATION, INC.
B47: FLORIDA SOUTHWESTERN STATE COLLEGE FOUNDATION
B48: FLORIDA STATE COLLEGE AT JACKSONVILLE FOUNDATION, INC.
B49: FLORIDA KEYS COMMUNITY COLLEGE EDUCATIONAL FOUNDATION, INC.
B50: GULF COAST STATE COLLEGE FOUNDATION, INC.
B51: HILLSBOROUGH COMMUNITY COLLEGE FOUNDATION, INC.
B52: INDIAN RIVER STATE COLLEGE FOUNDATION, INC.
... B70: FLORIDA COLLEGE SYSTEM FOUNDATION

Sheet Chart
A1: THE FLORIDA COLLEGE SYSTEM
A2: 2023-24 DR. PHILIP BENJAMIN STATE MATCHING PROGRAM
A3: REPORT OF FINAL PRIVATE CONTRIBUTIONS RECEIVED
A4: FEBRUARY 2, 2022 THROUGH FEBRUARY 1, 2023
B6: SCHOLARSHIPS | D6: OTHER ELIGIBLE USES | F6: TOTAL PHILIP BENJAMIN
A7: COLLEGE | B7: NEW PRIVATE CONTRIBUTIONS RECEIVED FEB. 2, 2022 to FEB. 1, 2023 | C7: STATE MATCHING FUNDS REQUEST (100% MATCH) | D7: =B7 -> NEW PRIVATE CONTRIBUTIONS RECEIVED FEB. 2, 2022 to FEB. 1, 2023 | E7: STATE MATCHING FUNDS REQUEST (2/3 MATCH) | F7: TOTAL NEW PRIVATE CONTRIBUTIONS | G7: TOTAL STATE MATCHING FUNDS REQUEST
A8: Eastern Florida State College | B8: ='Eastern FL'!C10 -> 457309.36 | C8: =B8 -> 457309.36 | D8: ='Eastern FL'!C11 -> 0 | E8: ='Eastern FL'!E11 -> 0 | F8: =B8+D8 -> 457309.36 | G8: =C8+E8 -> 457309.36
A9: Broward College | B9: =Broward!C10 -> 1146471.8 | C9: =B9 -> 1146471.8 | D9: =Broward!C11 -> 3798406.3 | E9: =Broward!E11 -> 2532271 | F9: =B9+D9 -> 4944878 | G9: =C9+E9 -> 3678742.8
A10: College of Central Florida | B10: ='Central FL'!C10 -> 2424724.1 | C10: =B10 -> 2424724.1 | D10: ='Central FL'!C11 -> 1811220.9 | E10: ='Central FL'!E11 -> 1207481 | F10: =B10+D10 -> 4235945 | G10: =C10+E10 -> 3632205.1
A11: Chipola College | B11: =Chipola!C10 -> 828589.58 | C11: =B11 -> 828589.58 | D11: =Chipola!C11 -> 283329.98 | E11: =Chipola!E11 -> 188887 | F11: =B11+D11 -> 1111919.6 | G11: =C11+E11 -> 1017476.6
A12: Daytona State College | B12: =Daytona!C10 -> 1730628 | C12: =B12 -> 1730628 | D12: =Daytona!C11 -> 86323 | E12: =Daytona!E11 -> 57549 | F12: =B12+D12 -> 1816951 | G12: =C12+E12 -> 1788177
A13: Florida SouthWestern State College | B13: ='FL SouthWestern'!C10 -> 773665 | C13: =B13 -> 773665 | D13: ='FL SouthWestern'!C11 -> 1492412 | E13: ='FL SouthWestern'!E11 -> 994941 | F13: =B13+D13 -> 2266077 | G13: =C13+E13 -> 1768606
A14: Florida State College at Jacksonville | B14: =FSCJ!C10 -> 622172 | C14: =B14 -> 622172 | D14: =FSCJ!C11 -> 1169812 | E14: =FSCJ!E11 -> 779875 | F14: =B14+D14 -> 1791984 | G14: =C14+E14 -> 1402047
A15: College of the Florida Keys | B15: ='FL Keys'!C10 -> 36887 | C15: =B15 -> 36887 | D15: ='FL Keys'!C11 -> 472364 | E15: ='FL Keys'!E11 -> 314909 | F15: =B15+D15 -> 509251 | G15: =C15+E15 -> 351796
A16: Gulf Coast State College | B16: ='Gulf Coast'!C10 -> 1203943 | C16: =B16 -> 1203943 | D16: ='Gulf Coast'!C11 -> 225620.28 | E16: ='Gulf Coast'!E11 -> 150414 | F16: =B16+D16 -> 1429563.3 | G16: =C16+E16 -> 1354357
A17: Hillsborough Community College | B17: =Hillsborough!C10 -> 978376 | C17: =B17 -> 978376 | D17: =Hillsborough!C11 -> 934941 | E17: =Hillsborough!E11 -> 623294 | F17: =B17+D17 -> 1913317 | G17: =C17+E17 -> 1601670
A18: Indian River State College | B18: ='Indian River'!C10 -> 1207506.7 | C18: =B18 -> 1207506.7 | D18: ='Indian River'!C11 -> 4835641.5 | E18: ='Indian River'!E11 -> 3223761 | F18: =B18+D18 -> 6043148.2 | G18: =C18+E18 -> 4431267.7
A19: Florida Gateway College | B19: ='FL Gateway'!C10 -> 373723.81 | C19: =B19 -> 373723.81 | D19: ='FL Gateway'!C11 -> 306242.82 | E19: ='FL Gateway'!E11 -> 204162 | F19: =B19+D19 -> 679966.63 | G19: =C19+E19 -> 577885.81
A20: Lake-Sumter State College | B20: ='Lake-Sumter'!C10 -> 442252.9 | C20: =B20 -> 442252.9 | D20: ='Lake-Sumter'!C11 -> 25300 | E20: ='Lake-Sumter'!E11 -> 16867 | F20: =B20+D20 -> 467552.9 | G20: =C20+E20 -> 459119.9
A21: State College of Florida, Manatee-Sarasota | B21: ='State College of Florida '!C10 -> 2821843 | C21: =B21 -> 2821843 | D21: ='State College of Florida '!C11 -> 1995942 | E21: ='State College of Florida '!E11 -> 1330628 | F21: =B21+D21 -> 4817785 | G21: =C21+E21 -> 4152471
A22: Miami-Dade College | B22: =Miami!C10 -> 6147548 | C22: =B22 -> 6147548 | D22: =Miami!C11 -> 21971050 | E22: =Miami!E11 -> 14647367 | F22: =B22+D22 -> 28118598 | G22: =C22+E22 -> 20794915
A23: North Florida College | B23: ='North FL'!C10 -> 138008.3 | C23: =B23 -> 138008.3 | D23: ='North FL'!C11 -> 0 | E23: ='North FL'!E11 -> 0 | F23: =B23+D23 -> 138008.3 | G23: =C23+E23 -> 138008.3
A24: Northwest Florida State College | B24: ='Northwest FL'!C10 -> 284242.37 | C24: =B24 -> 284242.37 | D24: ='Northwest FL'!C11 -> 451891.36 | E24: ='Northwest FL'!E11 -> 301261 | F24: =B24+D24 -> 736133.73 | G24: =C24+E24 -> 585503.37
A25: Palm Beach State College | B25: ='Palm Beach'!C10 -> 2975757.3 | C25: =B25 -> 2975757.3 | D25: ='Palm Beach'!C11 -> 1294684.6 | E25: ='Palm Beach'!E11 -> 863123 | F25: =B25+D25 -> 4270441.9 | G25: =C25+E25 -> 3838880.3
A26: Pasco-Hernando State College | B26: ='Pasco-Hernando'!C10 -> 288265.28 | C26: =B26 -> 288265.28 | D26: ='Pasco-Hernando'!C11 -> 160076.22 | E26: ='Pasco-Hernando'!E11 -> 106717 | F26: =B26+D26 -> 448341.5 | G26: =C26+E26 -> 394982.28
A27: Pensacola State College | B27: =Pensacola!C10 -> 2034321.9 | C27: =B27 -> 2034321.9 | D27: =Pensacola!C11 -> 0 | E27: =Pensacola!E11 -> 0 | F27: =B27+D27 -> 2034321.9 | G27: =C27+E27 -> 2034321.9
A28: Polk State College | B28: =Polk!C10 -> 932595 | C28: =B28 -> 932595 | D28: =Polk!C11 -> 0 | E28: =Polk!E11 -> 0 | F28: =B28+D28 -> 932595 | G28: =C28+E28 -> 932595
A29: St. Johns River State College | B29: ='Saint Johns '!C10 -> 290076 | C29: =B29 -> 290076 | D29: ='Saint Johns '!C11 -> 562856 | E29: ='Saint Johns '!E11 -> 375237 | F29: =B29+D29 -> 852932 | G29: =C29+E29 -> 665313
A30: St. Petersburg College | B30: ='Saint Pete'!C10 -> 4085312.7 | C30: =B30 -> 4085312.7 | D30: ='Saint Pete'!C11 -> 1029754.6 | E30: ='Saint Pete'!E11 -> 686503 | F30: =B30+D30 -> 5115067.3 | G30: =C30+E30 -> 4771815.7
A31: Santa Fe College | B31: ='Santa Fe'!C10 -> 1107497.2 | C31: =B31 -> 1107497.2 | D31: ='Santa Fe'!C11 -> 308823.17 | E31: ='Santa Fe'!E11 -> 205882 | F31: =B31+D31 -> 1416320.4 | G31: =C31+E31 -> 1313379.2
A32: Seminole State College | B32: =Seminole!C10 -> 935101 | C32: =B32 -> 935101 | D32: =Seminole!C11 -> 1948148 | E32: =Seminole!E11 -> 1298765 | F32: =B32+D32 -> 2883249 | G32: =C32+E32 -> 2233866
A33: South Florida State College | B33: ='South FL'!C10 -> 371910 | C33: =B33 -> 371910 | D33: ='South FL'!C11 -> 505439 | E33: ='South FL'!E11 -> 336959 | F33: =B33+D33 -> 877349 | G33: =C33+E33 -> 708869
A34: Tallahassee Community College | B34: =Tallahassee!C10 -> 880446.75 | C34: =B34 -> 880446.75 | D34: =Tallahassee!C11 -> 1452634 | E34: =Tallahassee!E11 -> 968423 | F34: =B34+D34 -> 2333080.8 | G34: =C34+E34 -> 1848869.8
A35: Valencia College | B35: =Valencia!C10 -> 2153325 | C35: =B35 -> 2153325 | D35: =Valencia!C11 -> 1973583 | E35: =Valencia!E11 -> 1315722 | F35: =B35+D35 -> 4126908 | G35: =C35+E35 -> 3469047
A36: FCS Foundation | B36: ='FCS Foundation'!C10 -> 0 | C36: =B36 -> 0 | D36: ='FCS Foundation'!C11 -> 469960 | E36: ='FCS Foundation'!E11 -> 313307 | F36: =B36+D36 -> 469960 | G36: =C36+E36 -> 313307
A38: Totals | B38: =SUM(B8:B36) -> 37672499 | C38: =SUM(C8:C36) -> 37672499 | D38: =SUM(D8:D36) -> 49566456 | E38: =SUM(E8:E36) -> 33044305 | F38: =SUM(F8:F36) -> 87238955 | G38: =SUM(G8:G36) -> 70716804

Sheet Eastern FL
A1: COLLEGE: | C1: EASTERN FLORIDA STATE COLLEGE FOUNDATION, INC.
C2: PRIVATE CONTRIBUTIONS RECEIVED FEBRUARY 2, 2022 THROUGH FEBRUARY 1, 2023
C3: (FISCAL YEAR 2023-24)
C5: Please provide the total amounts by program of private contributions that were received and deposited as assets of the foundation as of February 1, 2023, and would have been eligible for state matching funds prior to the suspension. The funds must not have been matched from previous state appropriations.
B7: DR. PHILIP BENJAMIN MATCHING GRANT PROGRAM CERTIFICATION FORM
C8: 1 | D8: 2 | E8: 3
B9: USE | C9: NEW CONTRIBUTIONS RECEIVED 2/2/2022- 2/1/2023 * | D9: STATE MATCH MULTIPLIER | E9: TOTAL STATE MATCHING AMOUNT
A10: 1 | B10: Scholarships Matching (100%) | C10: 457309.36 | D10: 1 | E10: 457309
A11: 2 | B11: Other Eligible Uses (40/60%) | C11: 0 | D11: 0.66666667 | E11: 0
B12: TOTAL | C12: 457309.36 | E12: 457309
A14: *Please use whole dollars.
A17: NOTE: Section 1011.85(5), Florida Statutes, the matching ratio for donations that are specifically designated to support
A18: scholarships, including scholarships for first-generation-in-college students, student loans, or need-based grants
A19: shall be $1 of state funds to $1 of local private funds.
A21: Row 1 - This certification should not include First Generation Matching Grant (FGMG) amounts nor amounts previously
A22: designated as Philip Benjamin contributions that were subsequently used to fund FGMG. FGMG is administered
A23: by the Office of Student Financial Assistance.
A25: SB 2150 (2011) amended section 1011.85(13), Florida Statutes, to suspend state matching funds for donations received on or after June 30, 2011.
A27: Please complete and return this form in Excel format to collegereporting@fldoe.org by COB on Monday, February 6, 2023.
A28: Please note a hard copy is not required to be submitted to the Florida College Budget Office.
B32: PLEASE SELECT COLLEGE NAME
B33: EASTERN FLORIDA STATE COLLEGE FOUNDATION, INC.
B34: BROWARD COLLEGE FOUNDATION, INC.
B35: COLLEGE OF CENTRAL FLORIDA FOUNDATION, INC.
B36: CHIPOLA COLLEGE FOUNDATION, INC
B37: DAYTONA STATE COLLEGE FOUNDATION, INC.
B38: FLORIDA SOUTHWESTERN STATE COLLEGE FOUNDATION
B39: FLORIDA STATE COLLEGE AT JACKSONVILLE FOUNDATION, INC.
B40: FLORIDA KEYS EDUCATIONAL FOUNDATION
B41: GULF COAST STATE COLLEGE FOUNDATION, INC.
B42: HILLSBOROUGH COMMUNITY COLLEGE FOUNDATION, INC.
B43: INDIAN RIVER STATE COLLEGE FOUNDATION, INC.
... B61: FLORIDA COLLEGE SYSTEM FOUNDATION

Sheet Broward
A1: COLLEGE: | C1: BROWARD COLLEGE FOUNDATION, INC.
C2: PRIVATE CONTRIBUTIONS RECEIVED FEBRUARY 2, 2022 THROUGH FEBRUARY 1, 2023
C3: (FISCAL YEAR 2023-24)
C5: Please provide the total amounts by program of private contributions that were received and deposited as assets of the foundation as of February 1, 2023, and would have been eligible for state matching funds prior to the suspension. The funds must not have been matched from previous state appropriations.
B7: DR. PHILIP BENJAMIN MATCHING GRANT PROGRAM CERTIFICATION FORM
C8: 1 | D8: 2 | E8: 3
B9: USE | C9: NEW CONTRIBUTIONS RECEIVED 2/2/2022- 2/1/2023 * | D9: STATE MATCH MULTIPLIER | E9: TOTAL STATE MATCHING AMOUNT
A10: 1 | B10: Scholarships Matching (100%) | C10: 1146471.8 | D10: 1 | E10: 1146472
A11: 2 | B11: Other Eligible Uses (40/60%) | C11: 3798406.3 | D11: 0.66666667 | E11: 2532271
B12: TOTAL | C12: 4944878 | E12: 3678743
A14: *Please use whole dollars.
A17: NOTE: Section 1011.85(5), Florida Statutes, the matching ratio for donations that are specifically designated to support
A18: scholarships, including scholarships for first-generation-in-college students, student loans, or need-based grants
A19: shall be $1 of state funds to $1 of local private funds.
A21: Row 1 - This certification should not include First Generation Matching Grant (FGMG) amounts nor amounts previously
A22: designated as Philip Benjamin contributions that were subsequently used to fund FGMG. FGMG is administered
A23: by the Office of Student Financial Assistance.
A25: SB 2150 (2011) amended section 1011.85(13), Florida Statutes, to suspend state matching funds for donations received on or after June 30, 2011.
A27: Please complete and return this form in Excel format to collegereporting@fldoe.org by COB on Monday, February 6, 2023.
A28: Please note a hard copy is not required to be submitted to the Florida College Budget Office.
B32: PLEASE SELECT COLLEGE NAME
B33: EASTERN FLORIDA STATE COLLEGE FOUNDATION, INC.
B34: BROWARD COLLEGE FOUNDATION, INC.
B35: COLLEGE OF CENTRAL FLORIDA FOUNDATION, INC.
B36: CHIPOLA COLLEGE FOUNDATION, INC
B37: DAYTONA STATE COLLEGE FOUNDATION, INC.
B38: FLORIDA SOUTHWESTERN STATE COLLEGE FOUNDATION
B39: FLORIDA STATE COLLEGE AT JACKSONVILLE FOUNDATION, INC.
B40: FLORIDA KEYS EDUCATIONAL FOUNDATION
B41: GULF COAST STATE COLLEGE FOUNDATION, INC.
B42: HILLSBOROUGH COMMUNITY COLLEGE FOUNDATION, INC.
B43: INDIAN RIVER STATE COLLEGE FOUNDATION, INC.
... B61: FLORIDA COLLEGE SYSTEM FOUNDATION

Sheet Central FL
A1: COLLEGE: | C1: COLLEGE OF CENTRAL FLORIDA FOUNDATION, INC.
C2: PRIVATE CONTRIBUTIONS RECEIVED FEBRUARY 2, 2022 THROUGH FEBRUARY 1, 2023
C3: (FISCAL YEAR 2023-24)
C5: Please provide the total amounts by program of private contributions that were received and deposited as assets of the foundation as of February 1, 2023, and would have been eligible for state matching funds prior to the suspension. The funds must not have been matched from previous state appropriations.
B7: DR. PHILIP BENJAMIN MATCHING GRANT PROGRAM CERTIFICATION FORM
C8: 1 | D8: 2 | E8: 3
B9: USE | C9: NEW CONTRIBUTIONS RECEIVED 2/2/2022- 2/1/2023 * | D9: STATE MATCH MULTIPLIER | E9: TOTAL STATE MATCHING AMOUNT
A10: 1 | B10: Scholarships Matching (100%) | C10: 2424724.1 | D10: 1 | E10: 2424724
A11: 2 | B11: Other Eligible Uses (40/60%) | C11: 1811220.9 | D11: 0.66666667 | E11: 1207481
B12: TOTAL | C12: 4235945 | E12: 3632205
A14: *Please use whole dollars.
A17: NOTE: Section 1011.85(5), Florida Statutes, the matching ratio for donations that are specifically designated to support
A18: scholarships, including scholarships for first-generation-in-college students, student loans, or need-based grants
A19: shall be $1 of state funds to $1 of local private funds.
A21: Row 1 - This certification should not include First Generation Matching Grant (FGMG) amounts nor amounts previously
A22: designated as Philip Benjamin contributions that were subsequently used to fund FGMG. FGMG is administered
A23: by the Office of Student Financial Assistance.
A25: SB 2150 (2011) amended section 1011.85(13), Florida Statutes, to suspend state matching funds for donations received on or after June 30, 2011.
A27: Please complete and return this form in Excel format to collegereporting@fldoe.org by COB on Monday, February 6, 2023.
A28: Please note a hard copy is not required to be submitted to the Florida College Budget Office.
B32: PLEASE SELECT COLLEGE NAME
B33: EASTERN FLORIDA STATE COLLEGE FOUNDATION, INC.
B34: BROWARD COLLEGE FOUNDATION, INC.
B35: COLLEGE OF CENTRAL FLORIDA FOUNDATION, INC.
B36: CHIPOLA COLLEGE FOUNDATION, INC
B37: DAYTONA STATE COLLEGE FOUNDATION, INC.
B38: FLORIDA SOUTHWESTERN STATE COLLEGE FOUNDATION
B39: FLORIDA STATE COLLEGE AT JACKSONVILLE FOUNDATION, INC.
B40: FLORIDA KEYS EDUCATIONAL FOUNDATION
B41: GULF COAST STATE COLLEGE FOUNDATION, INC.
B42: HILLSBOROUGH COMMUNITY COLLEGE FOUNDATION, INC.
B43: INDIAN RIVER STATE COLLEGE FOUNDATION, INC.
... B61: FLORIDA COLLEGE SYSTEM FOUNDATION

Sheet Chipola
A1: COLLEGE: | C1: CHIPOLA COLLEGE FOUNDATION, INC
C2: PRIVATE CONTRIBUTIONS RECEIVED FEBRUARY 2, 2022 THROUGH FEBRUARY 1, 2023
C3: (FISCAL YEAR 2023-24)
C5: Please provide the total amounts by program of private contributions that were received and deposited as assets of the foundation as of February 1, 2023, and would have been eligible for state matching funds prior to the suspension. The funds must not have been matched from previous state appropriations.
B7: DR. PHILIP BENJAMIN MATCHING GRANT PROGRAM CERTIFICATION FORM
C8: 1 | D8: 2 | E8: 3
B9: USE | C9: NEW CONTRIBUTIONS RECEIVED 2/2/2022- 2/1/2023 * | D9: STATE MATCH MULTIPLIER | E9: TOTAL STATE MATCHING AMOUNT
A10: 1 | B10: Scholarships Matching (100%) | C10: 828589.58 | D10: 1 | E10: 828590
A11: 2 | B11: Other Eligible Uses (40/60%) | C11: 283329.98 | D11: 0.66666667 | E11: 188887
B12: TOTAL | C12: 1111919.6 | E12: 1017477
A14: *Please use whole dollars.
A17: NOTE: Section 1011.85(5), Florida Statutes, the matching ratio for donations that are specifically designated to support
A18: scholarships, including scholarships for first-generation-in-college students, student loans, or need-based grants
A19: shall be $1 of state funds to $1 of local private funds.
A21: Row 1 - This certification should not include First Generation Matching Grant (FGMG) amounts nor amounts previously
A22: designated as Philip Benjamin contributions that were subsequently used to fund FGMG. FGMG is administered
A23: by the Office of Student Financial Assistance.
A25: SB 2150 (2011) amended section 1011.85(13), Florida Statutes, to suspend state matching funds for donations received on or after June 30, 2011.
A27: Please complete and return this form in Excel format to collegereporting@fldoe.org by COB on Monday, February 6, 2023.
A28: Please note a hard copy is not required to be submitted to the Florida College Budget Office.
B32: PLEASE SELECT COLLEGE NAME
B33: EASTERN FLORIDA STATE COLLEGE FOUNDATION, INC.
B34: BROWARD COLLEGE FOUNDATION, INC.
B35: COLLEGE OF CENTRAL FLORIDA FOUNDATION, INC.
B36: CHIPOLA COLLEGE FOUNDATION, INC
B37: DAYTONA STATE COLLEGE FOUNDATION, INC.
B38: FLORIDA SOUTHWESTERN STATE COLLEGE FOUNDATION
B39: FLORIDA STATE COLLEGE AT JACKSONVILLE FOUNDATION, INC.
B40: FLORIDA KEYS EDUCATIONAL FOUNDATION
B41: GULF COAST STATE COLLEGE FOUNDATION, INC.
B42: HILLSBOROUGH COMMUNITY COLLEGE FOUNDATION, INC.
B43: INDIAN RIVER STATE COLLEGE FOUNDATION, INC.
... B61: FLORIDA COLLEGE SYSTEM FOUNDATION

Sheet Daytona
A1: COLLEGE: | C1: DAYTONA STATE COLLEGE FOUNDATION, INC.
C2: PRIVATE CONTRIBUTIONS RECEIVED FEBRUARY 2, 2022 THROUGH FEBRUARY 1, 2023
C3: (FISCAL YEAR 2023-24)
C5: Please provide the total amounts by program of private contributions that were received and deposited as assets of the foundation as of February 1, 2023, and would have been eligible for state matching funds prior to the suspension. The funds must not have been matched from previous state appropriations.
B7: DR. PHILIP BENJAMIN MATCHING GRANT PROGRAM CERTIFICATION FORM
C8: 1 | D8: 2 | E8: 3
B9: USE | C9: NEW CONTRIBUTIONS RECEIVED 2/2/2022- 2/1/2023 * | D9: STATE MATCH MULTIPLIER | E9: TOTAL STATE MATCHING AMOUNT
A10: 1 | B10: Scholarships Matching (100%) | C10: 1730628 | D10: 1 | E10: 1730628
A11: 2 | B11: Other Eligible Uses (40/60%) | C11: 86323 | D11: 0.66666667 | E11: 57549
B12: TOTAL | C12: 1816951 | E12: 1788177
A14: *Please use whole dollars.
A17: NOTE: Section 1011.85(5), Florida Statutes, the matching ratio for donations that are specifically designated to support
A18: scholarships, including scholarships for first-generation-in-college students, student loans, or need-based grants
A19: shall be $1 of state funds to $1 of local private funds.
A21: Row 1 - This certification should not include First Generation Matching Grant (FGMG) amounts nor amounts previously
A22: designated as Philip Benjamin contributions that were subsequently used to fund FGMG. FGMG is administered
A23: by the Office of Student Financial Assistance.
A25: SB 2150 (2011) amended section 1011.85(13), Florida Statutes, to suspend state matching funds for donations received on or after June 30, 2011.
A27: Please complete and return this form in Excel format to collegereporting@fldoe.org by COB on Monday, February 6, 2023.
A28: Please note a hard copy is not required to be submitted to the Florida College Budget Office.
B32: PLEASE SELECT COLLEGE NAME
B33: EASTERN FLORIDA STATE COLLEGE FOUNDATION, INC.
B34: BROWARD COLLEGE FOUNDATION, INC.
B35: COLLEGE OF CENTRAL FLORIDA FOUNDATION, INC.
B36: CHIPOLA COLLEGE FOUNDATION, INC
B37: DAYTONA STATE COLLEGE FOUNDATION, INC.
B38: FLORIDA SOUTHWESTERN STATE COLLEGE FOUNDATION
B39: FLORIDA STATE COLLEGE AT JACKSONVILLE FOUNDATION, INC.
B40: FLORIDA KEYS EDUCATIONAL FOUNDATION
B41: GULF COAST STATE COLLEGE FOUNDATION, INC.
B42: HILLSBOROUGH COMMUNITY COLLEGE FOUNDATION, INC.
B43: INDIAN RIVER STATE COLLEGE FOUNDATION, INC.
... B61: FLORIDA COLLEGE SYSTEM FOUNDATION

Sheet FL SouthWestern
C1: FLORIDA SOUTHWESTERN STATE COLLEGE FOUNDATION
C2: PRIVATE CONTRIBUTIONS RECEIVED FEBRUARY 2, 2022 THROUGH FEBRUARY 1, 2023
C3: (FISCAL YEAR 2023-24)
C5: Please provide the total amounts by program of private contributions that were received and deposited as assets of the foundation as of February 1, 2023, and would have been eligible for state matching funds prior to the suspension. The funds must not have been matched from previous state appropriations.
B7: DR. PHILIP BENJAMIN MATCHING GRANT PROGRAM CERTIFICATION FORM
C8: 1 | D8: 2 | E8: 3
B9: USE | C9: NEW CONTRIBUTIONS RECEIVED 2/2/2022- 2/1/2023 * | D9: STATE MATCH MULTIPLIER | E9: TOTAL STATE MATCHING AMOUNT
A10: 1 | B10: Scholarships Matching (100%) | C10: 773665 | D10: 1 | E10: 773665
A11: 2 | B11: Other Eligible Uses (40/60%) | C11: 1492412 | D11: 0.66666667 | E11: 994941
B12: TOTAL | C12: 2266077 | E12: 1768606
A14: *Please use whole dollars.
A17: NOTE: Section 1011.85(5), Florida Statutes, the matching ratio for donations that are specifically designated to support
A18: scholarships, including scholarships for first-generation-in-college students, student loans, or need-based grants
A19: shall be $1 of state funds to $1 of local private funds.
A21: Row 1 - This certification should not include First Generation Matching Grant (FGMG) amounts nor amounts previously
A22: designated as Philip Benjamin contributions that were subsequently used to fund FGMG. FGMG is administered
A23: by the Office of Student Financial Assistance.
A25: SB 2150 (2011) amended section 1011.85(13), Florida Statutes, to suspend state matching funds for donations received on or after June 30, 2011.
A27: Please complete and return this form in Excel format to collegereporting@fldoe.org by COB on Monday, February 6, 2023.
A28: Please note a hard copy is not required to be submitted to the Florida College Budget Office.
B32: PLEASE SELECT COLLEGE NAME
B33: EASTERN FLORIDA STATE COLLEGE FOUNDATION, INC.
B34: BROWARD COLLEGE FOUNDATION, INC.
B35: COLLEGE OF CENTRAL FLORIDA FOUNDATION, INC.
B36: CHIPOLA COLLEGE FOUNDATION, INC
B37: DAYTONA STATE COLLEGE FOUNDATION, INC.
B38: FLORIDA SOUTHWESTERN STATE COLLEGE FOUNDATION
B39: FLORIDA STATE COLLEGE AT JACKSONVILLE FOUNDATION, INC.
B40: FLORIDA KEYS EDUCATIONAL FOUNDATION
B41: GULF COAST STATE COLLEGE FOUNDATION, INC.
B42: HILLSBOROUGH COMMUNITY COLLEGE FOUNDATION, INC.
B43: INDIAN RIVER STATE COLLEGE FOUNDATION, INC.
... B61: FLORIDA COLLEGE SYSTEM FOUNDATION

Sheet FSCJ
A1: COLLEGE: | C1: FLORIDA STATE COLLEGE AT JACKSONVILLE FOUNDATION, INC.
C2: PRIVATE CONTRIBUTIONS RECEIVED FEBRUARY 2, 2022 THROUGH FEBRUARY 1, 2023
C3: (FISCAL YEAR 2023-24)
C5: Please provide the total amounts by program of private contributions that were received and deposited as assets of the foundation as of February 1, 2023, and would have been eligible for state matching funds prior to the suspension. The funds must not have been matched from previous state appropriations.
B7: DR. PHILIP BENJAMIN MATCHING GRANT PROGRAM CERTIFICATION FORM
C8: 1 | D8: 2 | E8: 3
B9: USE | C9: NEW CONTRIBUTIONS RECEIVED 2/2/2022- 2/1/2023 * | D9: STATE MATCH MULTIPLIER | E9: TOTAL STATE MATCHING AMOUNT
A10: 1 | B10: Scholarships Matching (100%) | C10: 622172 | D10: 1 | E10: 622172
A11: 2 | B11: Other Eligible Uses (40/60%) | C11: 1169812 | D11: 0.66666667 | E11: 779875
B12: TOTAL | C12: 1791984 | E12: 1402047
A14: *Please use whole dollars.
A17: NOTE: Section 1011.85(5), Florida Statutes, the matching ratio for donations that are specifically designated to support
A18: scholarships, including scholarships for first-generation-in-college students, student loans, or need-based grants
A19: shall be $1 of state funds to $1 of local private funds.
A21: Row 1 - This certification should not include First Generation Matching Grant (FGMG) amounts nor amounts previously
A22: designated as Philip Benjamin contributions that were subsequently used to fund FGMG. FGMG is administered
A23: by the Office of Student Financial Assistance.
A25: SB 2150 (2011) amended section 1011.85(13), Florida Statutes, to suspend state matching funds for donations received on or after June 30, 2011.
A27: Please complete and return this form in Excel format to collegereporting@fldoe.org by COB on Monday, February 6, 2023.
A28: Please note a hard copy is not required to be submitted to the Florida College Budget Office.
B32: PLEASE SELECT COLLEGE NAME
B33: EASTERN FLORIDA STATE COLLEGE FOUNDATION, INC.
B34: BROWARD COLLEGE FOUNDATION, INC.
B35: COLLEGE OF CENTRAL FLORIDA FOUNDATION, INC.
B36: CHIPOLA COLLEGE FOUNDATION, INC
B37: DAYTONA STATE COLLEGE FOUNDATION, INC.
B38: FLORIDA SOUTHWESTERN STATE COLLEGE FOUNDATION
B39: FLORIDA STATE COLLEGE AT JACKSONVILLE FOUNDATION, INC.
B40: FLORIDA KEYS EDUCATIONAL FOUNDATION
B41: GULF COAST STATE COLLEGE FOUNDATION, INC.
B42: HILLSBOROUGH COMMUNITY COLLEGE FOUNDATION, INC.
B43: INDIAN RIVER STATE COLLEGE FOUNDATION, INC.
... B61: FLORIDA COLLEGE SYSTEM FOUNDATION

Sheet FL Keys
A1: COLLEGE: | C1: FLORIDA KEYS EDUCATIONAL FOUNDATION
C2: PRIVATE CONTRIBUTIONS RECEIVED FEBRUARY 2, 2022 THROUGH FEBRUARY 1, 2023
C3: (FISCAL YEAR 2023-24)
C5: Please provide the total amounts by program of private contributions that were received and deposited as assets of the foundation as of February 1, 2023, and would have been eligible for state matching funds prior to the suspension. The funds must not have been matched from previous state appropriations.
B7: DR. PHILIP BENJAMIN MATCHING GRANT PROGRAM CERTIFICATION FORM
C8: 1 | D8: 2 | E8: 3
B9: USE | C9: NEW CONTRIBUTIONS RECEIVED 2/2/2022- 2/1/2023 * | D9: STATE MATCH MULTIPLIER | E9: TOTAL STATE MATCHING AMOUNT
A10: 1 | B10: Scholarships Matching (100%) | C10: 36887 | D10: 1 | E10: 36887
A11: 2 | B11: Other Eligible Uses (40/60%) | C11: 472364 | D11: 0.66666667 | E11: 314909
B12: TOTAL | C12: 509251 | E12: 351796
A14: *Please use whole dollars.
A17: NOTE: Section 1011.85(5), Florida Statutes, the matching ratio for donations that are specifically designated to support
A18: scholarships, including scholarships for first-generation-in-college students, student loans, or need-based grants
A19: shall be $1 of state funds to $1 of local private funds.
A21: Row 1 - This certification should not include First Generation Matching Grant (FGMG) amounts nor amounts previously
A22: designated as Philip Benjamin contributions that were subsequently used to fund FGMG. FGMG is administered
A23: by the Office of Student Financial Assistance.
A25: SB 2150 (2011) amended section 1011.85(13), Florida Statutes, to suspend state matching funds for donations received on or after June 30, 2011.
A27: Please complete and return this form in Excel format to collegereporting@fldoe.org by COB on Monday, February 6, 2023.
A28: Please note a hard copy is not required to be submitted to the Florida College Budget Office.
B32: PLEASE SELECT COLLEGE NAME
B33: EASTERN FLORIDA STATE COLLEGE FOUNDATION, INC.
B34: BROWARD COLLEGE FOUNDATION, INC.
B35: COLLEGE OF CENTRAL FLORIDA FOUNDATION, INC.
B36: CHIPOLA COLLEGE FOUNDATION, INC
B37: DAYTONA STATE COLLEGE FOUNDATION, INC.
B38: FLORIDA SOUTHWESTERN STATE COLLEGE FOUNDATION
B39: FLORIDA STATE COLLEGE AT JACKSONVILLE FOUNDATION, INC.
B40: FLORIDA KEYS EDUCATIONAL FOUNDATION
B41: GULF COAST STATE COLLEGE FOUNDATION, INC.
B42: HILLSBOROUGH COMMUNITY COLLEGE FOUNDATION, INC.
B43: INDIAN RIVER STATE COLLEGE FOUNDATION, INC.
... B61: FLORIDA COLLEGE SYSTEM FOUNDATION

Sheet Gulf Coast
A1: COLLEGE: | C1: GULF COAST STATE COLLEGE FOUNDATION, INC.
C2: PRIVATE CONTRIBUTIONS RECEIVED FEBRUARY 2, 2022 THROUGH FEBRUARY 1, 2023
C3: (FISCAL YEAR 2023-24)
C5: Please provide the total amounts by program of private contributions that were received and deposited as assets of the foundation as of February 1, 2023, and would have been eligible for state matching funds prior to the suspension. The funds must not have been matched from previous state appropriations.
B7: DR. PHILIP BENJAMIN MATCHING GRANT PROGRAM CERTIFICATION FORM
C8: 1 | D8: 2 | E8: 3
B9: USE | C9: NEW CONTRIBUTIONS RECEIVED 2/2/2022- 2/1/2023 * | D9: STATE MATCH MULTIPLIER | E9: TOTAL STATE MATCHING AMOUNT
A10: 1 | B10: Scholarships Matching (100%) | C10: 1203943 | D10: 1 | E10: 1203943
A11: 2 | B11: Other Eligible Uses (40/60%) | C11: 225620.28 | D11: 0.66666667 | E11: 150414
B12: TOTAL | C12: 1429563.3 | E12: 1354357
A14: *Please use whole dollars.
A17: NOTE: Section 1011.85(5), Florida Statutes, the matching ratio for donations that are specifically designated to support
A18: scholarships, including scholarships for first-generation-in-college students, student loans, or need-based grants
A19: shall be $1 of state funds to $1 of local private funds.
A21: Row 1 - This certification should not include First Generation Matching Grant (FGMG) amounts nor amounts previously
A22: designated as Philip Benjamin contributions that were subsequently used to fund FGMG. FGMG is administered
A23: by the Office of Student Financial Assistance.
A25: SB 2150 (2011) amended section 1011.85(13), Florida Statutes, to suspend state matching funds for donations received on or after June 30, 2011.
A27: Please complete and return this form in Excel format to collegereporting@fldoe.org by COB on Monday, February 6, 2023.
A28: Please note a hard copy is not required to be submitted to the Florida College Budget Office.
B32: PLEASE SELECT COLLEGE NAME
B33: EASTERN FLORIDA STATE COLLEGE FOUNDATION, INC.
B34: BROWARD COLLEGE FOUNDATION, INC.
B35: COLLEGE OF CENTRAL FLORIDA FOUNDATION, INC.
B36: CHIPOLA COLLEGE FOUNDATION, INC
B37: DAYTONA STATE COLLEGE FOUNDATION, INC.
B38: FLORIDA SOUTHWESTERN STATE COLLEGE FOUNDATION
B39: FLORIDA STATE COLLEGE AT JACKSONVILLE FOUNDATION, INC.
B40: FLORIDA KEYS EDUCATIONAL FOUNDATION
B41: GULF COAST STATE COLLEGE FOUNDATION, INC.
B42: HILLSBOROUGH COMMUNITY COLLEGE FOUNDATION, INC.
B43: INDIAN RIVER STATE COLLEGE FOUNDATION, INC.
... B61: FLORIDA COLLEGE SYSTEM FOUNDATION

Sheet Hillsborough
A1: COLLEGE: | C1: HILLSBOROUGH COMMUNITY COLLEGE FOUNDATION, INC.
C2: PRIVATE CONTRIBUTIONS RECEIVED FEBRUARY 2, 2022 THROUGH FEBRUARY 1, 2023
C3: (FISCAL YEAR 2023-24)
C5: Please provide the total amounts by program of private contributions that were received and deposited as assets of the foundation as of February 1, 2023, and would have been eligible for state matching funds prior to the suspension. The funds must not have been matched from previous state appropriations.
B7: DR. PHILIP BENJAMIN MATCHING GRANT PROGRAM CERTIFICATION FORM
C8: 1 | D8: 2 | E8: 3
B9: USE | C9: NEW CONTRIBUTIONS RECEIVED 2/2/2022- 2/1/2023 * | D9: STATE MATCH MULTIPLIER | E9: TOTAL STATE MATCHING AMOUNT
A10: 1 | B10: Scholarships Matching (100%) | C10: 978376 | D10: 1 | E10: 978376
A11: 2 | B11: Other Eligible Uses (40/60%) | C11: 934941 | D11: 0.66666667 | E11: 623294
B12: TOTAL | C12: 1913317 | E12: 1601670
A14: *Please use whole dollars.
A17: NOTE: Section 1011.85(5), Florida Statutes, the matching ratio for donations that are specifically designated to support
A18: scholarships, including scholarships for first-generation-in-college students, student loans, or need-based grants
A19: shall be $1 of state funds to $1 of local private funds.
A21: Row 1 - This certification should not include First Generation Matching Grant (FGMG) amounts nor amounts previously
A22: designated as Philip Benjamin contributions that were subsequently used to fund FGMG. FGMG is administered
A23: by the Office of Student Financial Assistance.
A25: SB 2150 (2011) amended section 1011.85(13), Florida Statutes, to suspend state matching funds for donations received on or after June 30, 2011.
A27: Please complete and return this form in Excel format to collegereporting@fldoe.org by COB on Monday, February 6, 2023.
A28: Please note a hard copy is not required to be submitted to the Florida College Budget Office.
B32: PLEASE SELECT COLLEGE NAME
B33: EASTERN FLORIDA STATE COLLEGE FOUNDATION, INC.
B34: BROWARD COLLEGE FOUNDATION, INC.
B35: COLLEGE OF CENTRAL FLORIDA FOUNDATION, INC.
B36: CHIPOLA COLLEGE FOUNDATION, INC
B37: DAYTONA STATE COLLEGE FOUNDATION, INC.
B38: FLORIDA SOUTHWESTERN STATE COLLEGE FOUNDATION
B39: FLORIDA STATE COLLEGE AT JACKSONVILLE FOUNDATION, INC.
B40: FLORIDA KEYS EDUCATIONAL FOUNDATION
B41: GULF COAST STATE COLLEGE FOUNDATION, INC.
B42: HILLSBOROUGH COMMUNITY COLLEGE FOUNDATION, INC.
B43: INDIAN RIVER STATE COLLEGE FOUNDATION, INC.
... B61: FLORIDA COLLEGE SYSTEM FOUNDATION

Sheet Indian River
A1: COLLEGE: | C1: INDIAN RIVER STATE COLLEGE FOUNDATION, INC.
C2: PRIVATE CONTRIBUTIONS RECEIVED FEBRUARY 2, 2022 THROUGH FEBRUARY 1, 2023
C3: (FISCAL YEAR 2023-24)
C5: Please provide the total amounts by program of private contributions that were received and deposited as assets of the foundation as of February 1, 2023, and would have been eligible for state matching funds prior to the suspension. The funds must not have been matched from previous state appropriations.
B7: DR. PHILIP BENJAMIN MATCHING GRANT PROGRAM CERTIFICATION FORM
C8: 1 | D8: 2 | E8: 3
B9: USE | C9: NEW CONTRIBUTIONS RECEIVED 2/2/2022- 2/1/2023 * | D9: STATE MATCH MULTIPLIER | E9: TOTAL STATE MATCHING AMOUNT
A10: 1 | B10: Scholarships Matching (100%) | C10: 1207506.7 | D10: 1 | E10: 1207507
A11: 2 | B11: Other Eligible Uses (40/60%) | C11: 4835641.5 | D11: 0.66666667 | E11: 3223761
B12: TOTAL | C12: 6043148.2 | E12: 4431268
A14: *Please use whole dollars.
A17: NOTE: Section 1011.85(5), Florida Statutes, the matching ratio for donations that are specifically designated to support
A18: scholarships, including scholarships for first-generation-in-college students, student loans, or need-based grants
A19: shall be $1 of state funds to $1 of local private funds.
A21: Row 1 - This certification should not include First Generation Matching Grant (FGMG) amounts nor amounts previously
A22: designated as Philip Benjamin contributions that were subsequently used to fund FGMG. FGMG is administered
A23: by the Office of Student Financial Assistance.
A25: SB 2150 (2011) amended section 1011.85(13), Florida Statutes, to suspend state matching funds for donations received on or after June 30, 2011.
A27: Please complete and return this form in Excel format to collegereporting@fldoe.org by COB on Monday, February 6, 2023.
A28: Please note a hard copy is not required to be submitted to the Florida College Budget Office.
B32: PLEASE SELECT COLLEGE NAME
B33: EASTERN FLORIDA STATE COLLEGE FOUNDATION, INC.
B34: BROWARD COLLEGE FOUNDATION, INC.
B35: COLLEGE OF CENTRAL FLORIDA FOUNDATION, INC.
B36: CHIPOLA COLLEGE FOUNDATION, INC
B37: DAYTONA STATE COLLEGE FOUNDATION, INC.
B38: FLORIDA SOUTHWESTERN STATE COLLEGE FOUNDATION
B39: FLORIDA STATE COLLEGE AT JACKSONVILLE FOUNDATION, INC.
B40: FLORIDA KEYS EDUCATIONAL FOUNDATION
B41: GULF COAST STATE COLLEGE FOUNDATION, INC.
B42: HILLSBOROUGH COMMUNITY COLLEGE FOUNDATION, INC.
B43: INDIAN RIVER STATE COLLEGE FOUNDATION, INC.
... B61: FLORIDA COLLEGE SYSTEM FOUNDATION

Sheet FL Gateway
A1: COLLEGE: | C1: THE FOUNDATION OF FLORIDA GATEWAY COLLEGE, INC.
C2: PRIVATE CONTRIBUTIONS RECEIVED FEBRUARY 2, 2022 THROUGH FEBRUARY 1, 2023
C3: (FISCAL YEAR 2023-24)
C5: Please provide the total amounts by program of private contributions that were received and deposited as assets of the foundation as of February 1, 2023, and would have been eligible for state matching funds prior to the suspension. The funds must not have been matched from previous state appropriations.
B7: DR. PHILIP BENJAMIN MATCHING GRANT PROGRAM CERTIFICATION FORM
C8: 1 | D8: 2 | E8: 3
B9: USE | C9: NEW CONTRIBUTIONS RECEIVED 2/2/2022- 2/1/2023 * | D9: STATE MATCH MULTIPLIER | E9: TOTAL STATE MATCHING AMOUNT
A10: 1 | B10: Scholarships Matching (100%) | C10: 373723.81 | D10: 1 | E10: 373724
A11: 2 | B11: Other Eligible Uses (40/60%) | C11: 306242.82 | D11: 0.66666667 | E11: 204162
B12: TOTAL | C12: 679966.63 | E12: 577886
A14: *Please use whole dollars.
A17: NOTE: Section 1011.85(5), Florida Statutes, the matching ratio for donations that are specifically designated to support
A18: scholarships, including scholarships for first-generation-in-college students, student loans, or need-based grants
A19: shall be $1 of state funds to $1 of local private funds.
A21: Row 1 - This certification should not include First Generation Matching Grant (FGMG) amounts nor amounts previously
A22: designated as Philip Benjamin contributions that were subsequently used to fund FGMG. FGMG is administered
A23: by the Office of Student Financial Assistance.
A25: SB 2150 (2011) amended section 1011.85(13), Florida Statutes, to suspend state matching funds for donations received on or after June 30, 2011.
A27: Please complete and return this form in Excel format to collegereporting@fldoe.org by COB on Monday, February 6, 2023.
A28: Please note a hard copy is not required to be submitted to the Florida College Budget Office.
B32: PLEASE SELECT COLLEGE NAME
B33: EASTERN FLORIDA STATE COLLEGE FOUNDATION, INC.
B34: BROWARD COLLEGE FOUNDATION, INC.
B35: COLLEGE OF CENTRAL FLORIDA FOUNDATION, INC.
B36: CHIPOLA COLLEGE FOUNDATION, INC
B37: DAYTONA STATE COLLEGE FOUNDATION, INC.
B38: FLORIDA SOUTHWESTERN STATE COLLEGE FOUNDATION
B39: FLORIDA STATE COLLEGE AT JACKSONVILLE FOUNDATION, INC.
B40: FLORIDA KEYS EDUCATIONAL FOUNDATION
B41: GULF COAST STATE COLLEGE FOUNDATION, INC.
B42: HILLSBOROUGH COMMUNITY COLLEGE FOUNDATION, INC.
B43: INDIAN RIVER STATE COLLEGE FOUNDATION, INC.
... B61: FLORIDA COLLEGE SYSTEM FOUNDATION

Sheet Lake-Sumter
A1: COLLEGE: | C1: LAKE-SUMTER STATE COLLEGE FOUNDATION, INC.
C2: PRIVATE CONTRIBUTIONS RECEIVED FEBRUARY 2, 2022 THROUGH FEBRUARY 1, 2023
C3: (FISCAL YEAR 2023-24)
C5: Please provide the total amounts by program of private contributions that were received and deposited as assets of the foundation as of February 1, 2023, and would have been eligible for state matching funds prior to the suspension. The funds must not have been matched from previous state appropriations.
B7: DR. PHILIP BENJAMIN MATCHING GRANT PROGRAM CERTIFICATION FORM
C8: 1 | D8: 2 | E8: 3
B9: USE | C9: NEW CONTRIBUTIONS RECEIVED 2/2/2022- 2/1/2023 * | D9: STATE MATCH MULTIPLIER | E9: TOTAL STATE MATCHING AMOUNT
A10: 1 | B10: Scholarships Matching (100%) | C10: 442252.9 | D10: 1 | E10: 442253
A11: 2 | B11: Other Eligible Uses (40/60%) | C11: 25300 | D11: 0.66666667 | E11: 16867
B12: TOTAL | C12: 467552.9 | E12: 459120
A14: *Please use whole dollars.
A17: NOTE: Section 1011.85(5), Florida Statutes, the matching ratio for donations that are specifically designated to support
A18: scholarships, including scholarships for first-generation-in-college students, student loans, or need-based grants
A19: shall be $1 of state funds to $1 of local private funds.
A21: Row 1 - This certification should not include First Generation Matching Grant (FGMG) amounts nor amounts previously
A22: designated as Philip Benjamin contributions that were subsequently used to fund FGMG. FGMG is administered
A23: by the Office of Student Financial Assistance.
A25: SB 2150 (2011) amended section 1011.85(13), Florida Statutes, to suspend state matching funds for donations received on or after June 30, 2011.
A27: Please complete and return this form in Excel format to collegereporting@fldoe.org by COB on Monday, February 6, 2023.
A28: Please note a hard copy is not required to be submitted to the Florida College Budget Office.
B32: PLEASE SELECT COLLEGE NAME
B33: EASTERN FLORIDA STATE COLLEGE FOUNDATION, INC.
B34: BROWARD COLLEGE FOUNDATION, INC.
B35: COLLEGE OF CENTRAL FLORIDA FOUNDATION, INC.
B36: CHIPOLA COLLEGE FOUNDATION, INC
B37: DAYTONA STATE COLLEGE FOUNDATION, INC.
B38: FLORIDA SOUTHWESTERN STATE COLLEGE FOUNDATION
B39: FLORIDA STATE COLLEGE AT JACKSONVILLE FOUNDATION, INC.
B40: FLORIDA KEYS EDUCATIONAL FOUNDATION
B41: GULF COAST STATE COLLEGE FOUNDATION, INC.
B42: HILLSBOROUGH COMMUNITY COLLEGE FOUNDATION, INC.
B43: INDIAN RIVER STATE COLLEGE FOUNDATION, INC.
... B61: FLORIDA COLLEGE SYSTEM FOUNDATION

Sheet State College of Florida 
A1: COLLEGE: | C1: STATE COLLEGE OF FLORIDA FOUNDATION, INC.
C2: PRIVATE CONTRIBUTIONS RECEIVED FEBRUARY 2, 2021 THROUGH FEBRUARY 1, 2022
C3: (FISCAL YEAR 2022-23)
C5: Please provide the total amounts by program of private contributions that were received and deposited as assets of the foundation as of February 1, 2022, and would have been eligible for state matching funds prior to the suspension. The funds must not have been matched from previous state appropriations.
B7: DR. PHILIP BENJAMIN MATCHING GRANT PROGRAM CERTIFICATION FORM
C8: 1 | D8: 2 | E8: 3
B9: USE | C9: NEW CONTRIBUTIONS RECEIVED 2/2/2021- 2/1/2022 * | D9: STATE MATCH MULTIPLIER | E9: TOTAL STATE MATCHING AMOUNT
A10: 1 | B10: Scholarships Matching (100%) | C10: 2821843 | D10: 1 | E10: =ROUND(+C10*D10,0) -> 2821843
A11: 2 | B11: Other Eligible Uses (40/60%) | C11: 1995942 | D11: 0.66666667 | E11: =ROUND(+C11*D11,0) -> 1330628
B12: TOTAL | C12: =C10+C11 -> 4817785 | E12: =E10+E11 -> 4152471
A14: *Please use whole dollars.
A17: NOTE: Section 1011.85(5), Florida Statutes, the matching ratio for donations that are specifically designated to support
A18: scholarships, including scholarships for first-generation-in-college students, student loans, or need-based grants
A19: shall be $1 of state funds to $1 of local private funds.
A21: Row 1 - This certification should not include First Generation Matching Grant (FGMG) amounts nor amounts previously
A22: designated as Philip Benjamin contributions that were subsequently used to fund FGMG. FGMG is administered
A23: by the Office of Student Financial Assistance.
A25: SB 2150 (2011) amended section 1011.85(13), Florida Statutes, to suspend state matching funds for donations received on or after June 30, 2011.
A27: Please complete and return this form in Excel format to collegereporting@fldoe.org by COB on Monday, February 6, 2023.
A28: Please note a hard copy is not required to be submitted to the Florida College Budget Office.
B29: BROWARD COLLEGE FOUNDATION, INC.
B30: COLLEGE OF CENTRAL FLORIDA FOUNDATION, INC.
B31: CHIPOLA COLLEGE FOUNDATION, INC
B32: DAYTONA STATE COLLEGE FOUNDATION, INC.
B33: FLORIDA SOUTHWESTERN STATE COLLEGE FOUNDATION
B34: FLORIDA STATE COLLEGE AT JACKSONVILLE FOUNDATION, INC.
B35: FLORIDA KEYS EDUCATIONAL FOUNDATION
B36: GULF COAST STATE COLLEGE FOUNDATION, INC.
B37: HILLSBOROUGH COMMUNITY COLLEGE FOUNDATION, INC.
B38: INDIAN RIVER STATE COLLEGE FOUNDATION, INC.
B39: THE FOUNDATION OF FLORIDA GATEWAY COLLEGE, INC.
B40: LAKE-SUMTER STATE COLLEGE FOUNDATION, INC.
... B61: FLORIDA COLLEGE SYSTEM FOUNDATION

Sheet Miami
A1: COLLEGE: | C1: MIAMI DADE COLLEGE FOUNDATION, INC.
C2: PRIVATE CONTRIBUTIONS RECEIVED FEBRUARY 2, 2022 THROUGH FEBRUARY 1, 2023
C3: (FISCAL YEAR 2023-24)
C5: Please provide the total amounts by program of private contributions that were received and deposited as assets of the foundation as of February 1, 2023, and would have been eligible for state matching funds prior to the suspension. The funds must not have been matched from previous state appropriations.
B7: DR. PHILIP BENJAMIN MATCHING GRANT PROGRAM CERTIFICATION FORM
C8: 1 | D8: 2 | E8: 3
B9: USE | C9: NEW CONTRIBUTIONS RECEIVED 2/2/2022- 2/1/2023 * | D9: STATE MATCH MULTIPLIER | E9: TOTAL STATE MATCHING AMOUNT
A10: 1 | B10: Scholarships Matching (100%) | C10: 6147548 | D10: 1 | E10: 6147548
A11: 2 | B11: Other Eligible Uses (40/60%) | C11: 21971050 | D11: 0.66666667 | E11: 14647367
B12: TOTAL | C12: 28118598 | E12: 20794915
A14: *Please use whole dollars.
A17: NOTE: Section 1011.85(5), Florida Statutes, the matching ratio for donations that are specifically designated to support
A18: scholarships, including scholarships for first-generation-in-college students, student loans, or need-based grants
A19: shall be $1 of state funds to $1 of local private funds.
A21: Row 1 - This certification should not include First Generation Matching Grant (FGMG) amounts nor amounts previously
A22: designated as Philip Benjamin contributions that were subsequently used to fund FGMG. FGMG is administered
A23: by the Office of Student Financial Assistance.
A25: SB 2150 (2011) amended section 1011.85(13), Florida Statutes, to suspend state matching funds for donations received on or after June 30, 2011.
A27: Please complete and return this form in Excel format to collegereporting@fldoe.org by COB on Monday, February 6, 2023.
A28: Please note a hard copy is not required to be submitted to the Florida College Budget Office.
B32: PLEASE SELECT COLLEGE NAME
B33: EASTERN FLORIDA STATE COLLEGE FOUNDATION, INC.
B34: BROWARD COLLEGE FOUNDATION, INC.
B35: COLLEGE OF CENTRAL FLORIDA FOUNDATION, INC.
B36: CHIPOLA COLLEGE FOUNDATION, INC
B37: DAYTONA STATE COLLEGE FOUNDATION, INC.
B38: FLORIDA SOUTHWESTERN STATE COLLEGE FOUNDATION
B39: FLORIDA STATE COLLEGE AT JACKSONVILLE FOUNDATION, INC.
B40: FLORIDA KEYS EDUCATIONAL FOUNDATION
B41: GULF COAST STATE COLLEGE FOUNDATION, INC.
B42: HILLSBOROUGH COMMUNITY COLLEGE FOUNDATION, INC.
B43: INDIAN RIVER STATE COLLEGE FOUNDATION, INC.
... B61: FLORIDA COLLEGE SYSTEM FOUNDATION

Sheet North FL
A1: COLLEGE: | C1: NORTH FLORIDA COLLEGE FOUNDATION, INC.
C2: PRIVATE CONTRIBUTIONS RECEIVED FEBRUARY 2, 2022 THROUGH FEBRUARY 1, 2023
C3: (FISCAL YEAR 2023-24)
C5: Please provide the total amounts by program of private contributions that were received and deposited as assets of the foundation as of February 1, 2023, and would have been eligible for state matching funds prior to the suspension. The funds must not have been matched from previous state appropriations.
B7: DR. PHILIP BENJAMIN MATCHING GRANT PROGRAM CERTIFICATION FORM
C8: 1 | D8: 2 | E8: 3
B9: USE | C9: NEW CONTRIBUTIONS RECEIVED 2/2/2022- 2/1/2023 * | D9: STATE MATCH MULTIPLIER | E9: TOTAL STATE MATCHING AMOUNT
A10: 1 | B10: Scholarships Matching (100%) | C10: 138008.3 | D10: 1 | E10: 138008
A11: 2 | B11: Other Eligible Uses (40/60%) | C11: 0 | D11: 0.66666667 | E11: 0
B12: TOTAL | C12: 138008.3 | E12: 138008
A14: *Please use whole dollars.
A17: NOTE: Section 1011.85(5), Florida Statutes, the matching ratio for donations that are specifically designated to support
A18: scholarships, including scholarships for first-generation-in-college students, student loans, or need-based grants
A19: shall be $1 of state funds to $1 of local private funds.
A21: Row 1 - This certification should not include First Generation Matching Grant (FGMG) amounts nor amounts previously
A22: designated as Philip Benjamin contributions that were subsequently used to fund FGMG. FGMG is administered
A23: by the Office of Student Financial Assistance.
A25: SB 2150 (2011) amended section 1011.85(13), Florida Statutes, to suspend state matching funds for donations received on or after June 30, 2011.
A27: Please complete and return this form in Excel format to collegereporting@fldoe.org by COB on Monday, February 6, 2023.
A28: Please note a hard copy is not required to be submitted to the Florida College Budget Office.
B32: PLEASE SELECT COLLEGE NAME
B33: EASTERN FLORIDA STATE COLLEGE FOUNDATION, INC.
B34: BROWARD COLLEGE FOUNDATION, INC.
B35: COLLEGE OF CENTRAL FLORIDA FOUNDATION, INC.
B36: CHIPOLA COLLEGE FOUNDATION, INC
B37: DAYTONA STATE COLLEGE FOUNDATION, INC.
B38: FLORIDA SOUTHWESTERN STATE COLLEGE FOUNDATION
B39: FLORIDA STATE COLLEGE AT JACKSONVILLE FOUNDATION, INC.
B40: FLORIDA KEYS EDUCATIONAL FOUNDATION
B41: GULF COAST STATE COLLEGE FOUNDATION, INC.
B42: HILLSBOROUGH COMMUNITY COLLEGE FOUNDATION, INC.
B43: INDIAN RIVER STATE COLLEGE FOUNDATION, INC.
... B61: FLORIDA COLLEGE SYSTEM FOUNDATION

Sheet Northwest FL
A1: COLLEGE: | C1: NORTHWEST FLORIDA STATE COLLEGE FOUNDATION, INC.
C2: PRIVATE CONTRIBUTIONS RECEIVED FEBRUARY 2, 2022 THROUGH FEBRUARY 1, 2023
C3: (FISCAL YEAR 2023-24)
C5: Please provide the total amounts by program of private contributions that were received and deposited as assets of the foundation as of February 1, 2023, and would have been eligible for state matching funds prior to the suspension. The funds must not have been matched from previous state appropriations.
B7: DR. PHILIP BENJAMIN MATCHING GRANT PROGRAM CERTIFICATION FORM
C8: 1 | D8: 2 | E8: 3
B9: USE | C9: NEW CONTRIBUTIONS RECEIVED 2/2/2022- 2/1/2023 * | D9: STATE MATCH MULTIPLIER | E9: TOTAL STATE MATCHING AMOUNT
A10: 1 | B10: Scholarships Matching (100%) | C10: 284242.37 | D10: 1 | E10: 284242
A11: 2 | B11: Other Eligible Uses (40/60%) | C11: 451891.36 | D11: 0.66666667 | E11: 301261
B12: TOTAL | C12: 736133.73 | E12: 585503
A14: *Please use whole dollars.
A17: NOTE: Section 1011.85(5), Florida Statutes, the matching ratio for donations that are specifically designated to support
A18: scholarships, including scholarships for first-generation-in-college students, student loans, or need-based grants
A19: shall be $1 of state funds to $1 of local private funds.
A21: Row 1 - This certification should not include First Generation Matching Grant (FGMG) amounts nor amounts previously
A22: designated as Philip Benjamin contributions that were subsequently used to fund FGMG. FGMG is administered
A23: by the Office of Student Financial Assistance.
A25: SB 2150 (2011) amended section 1011.85(13), Florida Statutes, to suspend state matching funds for donations received on or after June 30, 2011.
A27: Please complete and return this form in Excel format to collegereporting@fldoe.org by COB on Monday, February 6, 2023.
A28: Please note a hard copy is not required to be submitted to the Florida College Budget Office.
B32: PLEASE SELECT COLLEGE NAME
B33: EASTERN FLORIDA STATE COLLEGE FOUNDATION, INC.
B34: BROWARD COLLEGE FOUNDATION, INC.
B35: COLLEGE OF CENTRAL FLORIDA FOUNDATION, INC.
B36: CHIPOLA COLLEGE FOUNDATION, INC
B37: DAYTONA STATE COLLEGE FOUNDATION, INC.
B38: FLORIDA SOUTHWESTERN STATE COLLEGE FOUNDATION
B39: FLORIDA STATE COLLEGE AT JACKSONVILLE FOUNDATION, INC.
B40: FLORIDA KEYS EDUCATIONAL FOUNDATION
B41: GULF COAST STATE COLLEGE FOUNDATION, INC.
B42: HILLSBOROUGH COMMUNITY COLLEGE FOUNDATION, INC.
B43: INDIAN RIVER STATE COLLEGE FOUNDATION, INC.
... B61: FLORIDA COLLEGE SYSTEM FOUNDATION

Sheet Palm Beach
A1: COLLEGE: | C1: PALM BEACH STATE COLLEGE FOUNDATION, INC.
C2: PRIVATE CONTRIBUTIONS RECEIVED FEBRUARY 2, 2022 THROUGH FEBRUARY 1, 2023
C3: (FISCAL YEAR 2023-24)
C5: Please provide the total amounts by program of private contributions that were received and deposited as assets of the foundation as of February 1, 2023, and would have been eligible for state matching funds prior to the suspension. The funds must not have been matched from previous state appropriations.
B7: DR. PHILIP BENJAMIN MATCHING GRANT PROGRAM CERTIFICATION FORM
C8: 1 | D8: 2 | E8: 3
B9: USE | C9: NEW CONTRIBUTIONS RECEIVED 2/2/2022- 2/1/2023 * | D9: STATE MATCH MULTIPLIER | E9: TOTAL STATE MATCHING AMOUNT
A10: 1 | B10: Scholarships Matching (100%) | C10: 2975757.3 | D10: 1 | E10: 2975757
A11: 2 | B11: Other Eligible Uses (40/60%) | C11: 1294684.6 | D11: 0.66666667 | E11: 863123
B12: TOTAL | C12: 4270441.9 | E12: 3838880
A14: *Please use whole dollars.
A17: NOTE: Section 1011.85(5), Florida Statutes, the matching ratio for donations that are specifically designated to support
A18: scholarships, including scholarships for first-generation-in-college students, student loans, or need-based grants
A19: shall be $1 of state funds to $1 of local private funds.
A21: Row 1 - This certification should not include First Generation Matching Grant (FGMG) amounts nor amounts previously
A22: designated as Philip Benjamin contributions that were subsequently used to fund FGMG. FGMG is administered
A23: by the Office of Student Financial Assistance.
A25: SB 2150 (2011) amended section 1011.85(13), Florida Statutes, to suspend state matching funds for donations received on or after June 30, 2011.
A27: Please complete and return this form in Excel format to collegereporting@fldoe.org by COB on Monday, February 6, 2023.
A28: Please note a hard copy is not required to be submitted to the Florida College Budget Office.
B32: PLEASE SELECT COLLEGE NAME
B33: EASTERN FLORIDA STATE COLLEGE FOUNDATION, INC.
B34: BROWARD COLLEGE FOUNDATION, INC.
B35: COLLEGE OF CENTRAL FLORIDA FOUNDATION, INC.
B36: CHIPOLA COLLEGE FOUNDATION, INC
B37: DAYTONA STATE COLLEGE FOUNDATION, INC.
B38: FLORIDA SOUTHWESTERN STATE COLLEGE FOUNDATION
B39: FLORIDA STATE COLLEGE AT JACKSONVILLE FOUNDATION, INC.
B40: FLORIDA KEYS EDUCATIONAL FOUNDATION
B41: GULF COAST STATE COLLEGE FOUNDATION, INC.
B42: HILLSBOROUGH COMMUNITY COLLEGE FOUNDATION, INC.
B43: INDIAN RIVER STATE COLLEGE FOUNDATION, INC.
... B61: FLORIDA COLLEGE SYSTEM FOUNDATION

Sheet Pasco-Hernando
A1: COLLEGE: | C1: PASCO-HERNANDO STATE COLLEGE FOUNDATION, INC.
C2: PRIVATE CONTRIBUTIONS RECEIVED FEBRUARY 2, 2022 THROUGH FEBRUARY 1, 2023
C3: (FISCAL YEAR 2023-24)
C5: Please provide the total amounts by program of private contributions that were received and deposited as assets of the foundation as of February 1, 2023, and would have been eligible for state matching funds prior to the suspension. The funds must not have been matched from previous state appropriations.
B7: DR. PHILIP BENJAMIN MATCHING GRANT PROGRAM CERTIFICATION FORM
C8: 1 | D8: 2 | E8: 3
B9: USE | C9: NEW CONTRIBUTIONS RECEIVED 2/2/2022- 2/1/2023 * | D9: STATE MATCH MULTIPLIER | E9: TOTAL STATE MATCHING AMOUNT
A10: 1 | B10: Scholarships Matching (100%) | C10: 288265.28 | D10: 1 | E10: 288265
A11: 2 | B11: Other Eligible Uses (40/60%) | C11: 160076.22 | D11: 0.66666667 | E11: 106717
B12: TOTAL | C12: 448341.5 | E12: 394982
A14: *Please use whole dollars.
A17: NOTE: Section 1011.85(5), Florida Statutes, the matching ratio for donations that are specifically designated to support
A18: scholarships, including scholarships for first-generation-in-college students, student loans, or need-based grants
A19: shall be $1 of state funds to $1 of local private funds.
A21: Row 1 - This certification should not include First Generation Matching Grant (FGMG) amounts nor amounts previously
A22: designated as Philip Benjamin contributions that were subsequently used to fund FGMG. FGMG is administered
A23: by the Office of Student Financial Assistance.
A25: SB 2150 (2011) amended section 1011.85(13), Florida Statutes, to suspend state matching funds for donations received on or after June 30, 2011.
A27: Please complete and return this form in Excel format to collegereporting@fldoe.org by COB on Monday, February 6, 2023.
A28: Please note a hard copy is not required to be submitted to the Florida College Budget Office.
B32: PLEASE SELECT COLLEGE NAME
B33: EASTERN FLORIDA STATE COLLEGE FOUNDATION, INC.
B34: BROWARD COLLEGE FOUNDATION, INC.
B35: COLLEGE OF CENTRAL FLORIDA FOUNDATION, INC.
B36: CHIPOLA COLLEGE FOUNDATION, INC
B37: DAYTONA STATE COLLEGE FOUNDATION, INC.
B38: FLORIDA SOUTHWESTERN STATE COLLEGE FOUNDATION
B39: FLORIDA STATE COLLEGE AT JACKSONVILLE FOUNDATION, INC.
B40: FLORIDA KEYS EDUCATIONAL FOUNDATION
B41: GULF COAST STATE COLLEGE FOUNDATION, INC.
B42: HILLSBOROUGH COMMUNITY COLLEGE FOUNDATION, INC.
B43: INDIAN RIVER STATE COLLEGE FOUNDATION, INC.
... B61: FLORIDA COLLEGE SYSTEM FOUNDATION

Sheet Pensacola
A1: COLLEGE: | C1: PENSACOLA STATE COLLEGE FOUNDATION, INC.
C2: PRIVATE CONTRIBUTIONS RECEIVED FEBRUARY 2, 2022 THROUGH FEBRUARY 1, 2023
C3: (FISCAL YEAR 2023-24)
C5: Please provide the total amounts by program of private contributions that were received and deposited as assets of the foundation as of February 1, 2023, and would have been eligible for state matching funds prior to the suspension. The funds must not have been matched from previous state appropriations.
B7: DR. PHILIP BENJAMIN MATCHING GRANT PROGRAM CERTIFICATION FORM
C8: 1 | D8: 2 | E8: 3
B9: USE | C9: NEW CONTRIBUTIONS RECEIVED 2/2/2022- 2/1/2023 * | D9: STATE MATCH MULTIPLIER | E9: TOTAL STATE MATCHING AMOUNT
A10: 1 | B10: Scholarships Matching (100%) | C10: 2034321.9 | D10: 1 | E10: 2034322
A11: 2 | B11: Other Eligible Uses (40/60%) | C11: 0 | D11: 0.66666667 | E11: 0
B12: TOTAL | C12: 2034321.9 | E12: 2034322
A14: *Please use whole dollars.
A17: NOTE: Section 1011.85(5), Florida Statutes, the matching ratio for donations that are specifically designated to support
A18: scholarships, including scholarships for first-generation-in-college students, student loans, or need-based grants
A19: shall be $1 of state funds to $1 of local private funds.
A21: Row 1 - This certification should not include First Generation Matching Grant (FGMG) amounts nor amounts previously
A22: designated as Philip Benjamin contributions that were subsequently used to fund FGMG. FGMG is administered
A23: by the Office of Student Financial Assistance.
A25: SB 2150 (2011) amended section 1011.85(13), Florida Statutes, to suspend state matching funds for donations received on or after June 30, 2011.
A27: Please complete and return this form in Excel format to collegereporting@fldoe.org by COB on Monday, February 6, 2023.
A28: Please note a hard copy is not required to be submitted to the Florida College Budget Office.
B32: PLEASE SELECT COLLEGE NAME
B33: EASTERN FLORIDA STATE COLLEGE FOUNDATION, INC.
B34: BROWARD COLLEGE FOUNDATION, INC.
B35: COLLEGE OF CENTRAL FLORIDA FOUNDATION, INC.
B36: CHIPOLA COLLEGE FOUNDATION, INC
B37: DAYTONA STATE COLLEGE FOUNDATION, INC.
B38: FLORIDA SOUTHWESTERN STATE COLLEGE FOUNDATION
B39: FLORIDA STATE COLLEGE AT JACKSONVILLE FOUNDATION, INC.
B40: FLORIDA KEYS EDUCATIONAL FOUNDATION
B41: GULF COAST STATE COLLEGE FOUNDATION, INC.
B42: HILLSBOROUGH COMMUNITY COLLEGE FOUNDATION, INC.
B43: INDIAN RIVER STATE COLLEGE FOUNDATION, INC.
... B61: FLORIDA COLLEGE SYSTEM FOUNDATION

Sheet Polk
A1: COLLEGE: | C1: POLK STATE COLLEGE FOUNDATION, INC.
