Workbook
Name _1.: '[1]CHECK SHEET'!#REF!
Name _1.: '[2]CHECK SHEET'!#REF!
Name _1.: '[3]CHECK SHEET'!#REF!
Name _1.: '[4]CHECK SHEET'!#REF!
Name _1.: '[5]CHECK SHEET'!#REF!
Name _1.: '[6]CHECK SHEET'!#REF!
Name _1.: '[7]CHECK SHEET'!#REF!
Name _1.: '[8]CHECK SHEET'!#REF!
Name _1.: '[9]CHECK SHEET'!#REF!
Name _1.: '[10]CHECK SHEET'!#REF!
Name _1.: '[11]CHECK SHEET'!#REF!
Name _1.: '[12]CHECK SHEET'!#REF!
Name _1.: '[13]CHECK SHEET'!#REF!
Name _1.: '[14]CHECK SHEET'!#REF!
Name _1.: '[15]CHECK SHEET'!#REF!
Name _1.: '[16]CHECK SHEET'!#REF!
Name _1.: '[17]CHECK SHEET'!#REF!
Name _1.: '[18]CHECK SHEET'!#REF!
Name _1.: '[19]CHECK SHEET'!#REF!
Name _1.: '[20]CHECK SHEET'!#REF!
Name _1.: '[21]CHECK SHEET'!#REF!
Name _1.: '[22]CHECK SHEET'!#REF!
Name _1.: '[23]CHECK SHEET'!#REF!
Name _1.: '[24]CHECK SHEET'!#REF!
Name _1.: '[25]CHECK SHEET'!#REF!
Name _1.: '[26]CHECK SHEET'!#REF!
Name _1.: '[27]CHECK SHEET'!#REF!
Name _1.: '[25]CHECK SHEET'!#REF!
Name _10.: '[1]CHECK SHEET'!#REF!
Name _10.: '[2]CHECK SHEET'!#REF!
Name _10.: '[3]CHECK SHEET'!#REF!
Name _10.: '[4]CHECK SHEET'!#REF!
Name _10.: '[5]CHECK SHEET'!#REF!
Name _10.: '[6]CHECK SHEET'!#REF!
Name _10.: '[7]CHECK SHEET'!#REF!
Name _10.: '[8]CHECK SHEET'!#REF!
Name _10.: '[9]CHECK SHEET'!#REF!
Name _10.: '[10]CHECK SHEET'!#REF!
Name _10.: '[11]CHECK SHEET'!#REF!
Name _10.: '[12]CHECK SHEET'!#REF!
Name _10.: '[13]CHECK SHEET'!#REF!
Name _10.: '[14]CHECK SHEET'!#REF!
Name _10.: '[15]CHECK SHEET'!#REF!
Name _10.: '[16]CHECK SHEET'!#REF!
Name _10.: '[17]CHECK SHEET'!#REF!
Name _10.: '[18]CHECK SHEET'!#REF!
Name _10.: '[19]CHECK SHEET'!#REF!
Name _10.: '[20]CHECK SHEET'!#REF!
Name _10.: '[21]CHECK SHEET'!#REF!
Name _10.: '[22]CHECK SHEET'!#REF!
Name _10.: '[23]CHECK SHEET'!#REF!
Name _10.: '[24]CHECK SHEET'!#REF!
Name _10.: '[25]CHECK SHEET'!#REF!
Name _10.: '[26]CHECK SHEET'!#REF!
Name _10.: '[27]CHECK SHEET'!#REF!
Name _10.: '[25]CHECK SHEET'!#REF!
Name _11.: #REF!
Name _11.: #REF!
Name _2.: #REF!
Name _2.: #REF!

Sheet Summary
A1: COLLEGE: | B1: SYSTEM SUMMARY
B2: UPPER LEVEL PLANNED EXPENDITURES AND SOURCES OF FUNDS
B3: BACCALAUREATE DEGREE PROGRAM COLLEGE OPERATING BUDGET
B4: FISCAL YEAR 2026-27
C7: FY 2026-27
B8: PLANNED EXPENDITURES | C8: GENERAL LEDGER CODE | D8: UNRESTRICTED SOURCES | E8: RESTRICTED SOURCES | F8: TOTAL UNRESTRICTED AND RESTRICTED SOURCES
A9: PERSONNEL COSTS
A10: EXECUTIVE MANAGEMENT | C10: 51000 | D10: =SUM('Eastern Florida:Valencia'!D10) -> 237963.36 | E10: =SUM('Eastern Florida:Valencia'!E10) -> 0 | F10: =+D10+E10 -> 237963.36
A11: INSTRUCTIONAL MANAGEMENT | C11: 51100 | D11: =SUM('Eastern Florida:Valencia'!D11) -> 2560405.1 | E11: =SUM('Eastern Florida:Valencia'!E11) -> 0 | F11: =+D11+E11 -> 2560405.1
A12: INSTITUTIONAL MANAGEMENT | C12: 51200 | D12: =SUM('Eastern Florida:Valencia'!D12) -> 2644398 | E12: =SUM('Eastern Florida:Valencia'!E12) -> 0 | F12: =+D12+E12 -> 2644398
A13: EXECUTIVE, ADMINISTRATIVE, MANAGERIAL SABBATICAL | C13: 51400 | D13: =SUM('Eastern Florida:Valencia'!D13) -> 0 | E13: =SUM('Eastern Florida:Valencia'!E13) -> 0 | F13: =+D13+E13 -> 0
A14: EXECUTIVE, ADMINISTRATIVE, MANAGERIAL REGULAR PART-TIME | C14: 51500 | D14: =SUM('Eastern Florida:Valencia'!D14) -> 0 | E14: =SUM('Eastern Florida:Valencia'!E14) -> 0 | F14: =+D14+E14 -> 0
A15: INSTRUCTIONAL | C15: 52000 | D15: =SUM('Eastern Florida:Valencia'!D15) -> 26354604 | E15: =SUM('Eastern Florida:Valencia'!E15) -> 0 | F15: =+D15+E15 -> 26354604
A16: INSTRUCTIONAL - OVERLOAD/SUPPLEMENTAL | C16: 52100 | D16: =SUM('Eastern Florida:Valencia'!D16) -> 3955775.3 | E16: =SUM('Eastern Florida:Valencia'!E16) -> 0 | F16: =+D16+E16 -> 3955775.3
A17: INSTRUCTIONAL - SUBSTITUTION | C17: 52200 | D17: =SUM('Eastern Florida:Valencia'!D17) -> 1520 | E17: =SUM('Eastern Florida:Valencia'!E17) -> 0 | F17: =+D17+E17 -> 1520
A18: INSTRUCTIONAL - PARA-PROFESSIONAL/ASSOCIATE/ASSISTANT | C18: 52300 | D18: =SUM('Eastern Florida:Valencia'!D18) -> 8817 | E18: =SUM('Eastern Florida:Valencia'!E18) -> 0 | F18: =+D18+E18 -> 8817
A19: NSTRUCTIONAL - SABBATICAL | C19: 52400 | D19: =SUM('Eastern Florida:Valencia'!D19) -> 0 | E19: =SUM('Eastern Florida:Valencia'!E19) -> 0 | F19: =+D19+E19 -> 0
A20: INSTRUCTIONAL (PHASED RETIREMENT ) | C20: 52500 | D20: =SUM('Eastern Florida:Valencia'!D20) -> 0 | E20: =SUM('Eastern Florida:Valencia'!E20) -> 0 | F20: =+D20+E20 -> 0
A21: INSTRUCTIONAL (PHASED RETIREMENT ) - INSTRUCTOR/PROFESSOR | C21: 52501 | D21: =SUM('Eastern Florida:Valencia'!D21) -> 0 | E21: =SUM('Eastern Florida:Valencia'!E21) -> 0 | F21: =+D21+E21 -> 0
A22: INSTRUCTIONAL (PHASED RETIREMENT) - LIBRARIAN | C22: 52502 | D22: =SUM('Eastern Florida:Valencia'!D22) -> 0 | E22: =SUM('Eastern Florida:Valencia'!E22) -> 0 | F22: =+D22+E22 -> 0
A23: INSTRUCTIONAL (PHASED RETIREMENT) - COUNSELOR | C23: 52503 | D23: =SUM('Eastern Florida:Valencia'!D23) -> 0 | E23: =SUM('Eastern Florida:Valencia'!E23) -> 0 | F23: =+D23+E23 -> 0
A24: INSTRUCTIONAL (PHASED RETIREMENT) - REGULAR PART-TIME (FRS PARTICIPANT) | C24: 52504 | D24: =SUM('Eastern Florida:Valencia'!D24) -> 0 | E24: =SUM('Eastern Florida:Valencia'!E24) -> 0 | F24: =+D24+E24 -> 0
A25: OTHER PROFESSIONAL | C25: 53000 | D25: =SUM('Eastern Florida:Valencia'!D25) -> 2861896.4 | E25: =SUM('Eastern Florida:Valencia'!E25) -> 0 | F25: =+D25+E25 -> 2861896.4
A26: OTHER PROFESSIONAL - OVERLOAD/SUPPLEMENTAL | C26: 53100 | D26: =SUM('Eastern Florida:Valencia'!D26) -> 84907 | E26: =SUM('Eastern Florida:Valencia'!E26) -> 0 | F26: =+D26+E26 -> 84907
A27: OTHER PROFESSIONAL - SUBSTITUTION | C27: 53200 | D27: =SUM('Eastern Florida:Valencia'!D27) -> 0 | E27: =SUM('Eastern Florida:Valencia'!E27) -> 0 | F27: =+D27+E27 -> 0
A28: OTHER PROFESSIONAL - PARA-PROFESSIONAL/ASSOCIATE/ASSISTANT | C28: 53300 | D28: =SUM('Eastern Florida:Valencia'!D28) -> 429132 | E28: =SUM('Eastern Florida:Valencia'!E28) -> 0 | F28: =+D28+E28 -> 429132
A29: OTHER PROFESSIONAL - REGULAR PART-TIME | C29: 53500 | D29: =SUM('Eastern Florida:Valencia'!D29) -> 238709 | E29: =SUM('Eastern Florida:Valencia'!E29) -> 0 | F29: =+D29+E29 -> 238709
A30: TECHNICAL, CLERICAL, TRADE AND SERVICE | C30: 54000 | D30: =SUM('Eastern Florida:Valencia'!D30) -> 1394411.6 | E30: =SUM('Eastern Florida:Valencia'!E30) -> 0 | F30: =+D30+E30 -> 1394411.6
A31: TECHNICAL, CLERICAL, TRADE AND SERVICE - OVERTIME | C31: 54100 | D31: =SUM('Eastern Florida:Valencia'!D31) -> 234 | E31: =SUM('Eastern Florida:Valencia'!E31) -> 0 | F31: =+D31+E31 -> 234
A32: TECHNICAL, CLERICAL, TRADE AND SERVICE - REGULAR (PART-TIME) | C32: 54500 | D32: =SUM('Eastern Florida:Valencia'!D32) -> 391481 | E32: =SUM('Eastern Florida:Valencia'!E32) -> 0 | F32: =+D32+E32 -> 391481
... A34: OPS - INSTRUCTIONAL | C34: 56000 | D34: =SUM('Eastern Florida:Valencia'!D34) -> 3710099.1 | E34: =SUM('Eastern Florida:Valencia'!E34) -> 0 | F34: =+D34+E34 -> 3710099.1
A35: OPS - INSTRUCTIONAL/ADJUNCT INSTRUCTOR | C35: 56001 | D35: =SUM('Eastern Florida:Valencia'!D35) -> 3716436 | E35: =SUM('Eastern Florida:Valencia'!E35) -> 0 | F35: =+D35+E35 -> 3716436
A36: OPS - LIBRARIAN | C36: 56002 | D36: =SUM('Eastern Florida:Valencia'!D36) -> 0 | E36: =SUM('Eastern Florida:Valencia'!E36) -> 0 | F36: =+D36+E36 -> 0
A37: OPS - COUNSELOR | C37: 56003 | D37: =SUM('Eastern Florida:Valencia'!D37) -> 0 | E37: =SUM('Eastern Florida:Valencia'!E37) -> 0 | F37: =+D37+E37 -> 0
A38: OPS - PARA-PROFESSIONAL | C38: 56006 | D38: =SUM('Eastern Florida:Valencia'!D38) -> 48839 | E38: =SUM('Eastern Florida:Valencia'!E38) -> 0 | F38: =+D38+E38 -> 48839
A39: OPS - INSTRUCTIONAL SUBSTITUTES | C39: 56100 | D39: =SUM('Eastern Florida:Valencia'!D39) -> 357502 | E39: =SUM('Eastern Florida:Valencia'!E39) -> 0 | F39: =+D39+E39 -> 357502
A40: OPS - OTHER PROFESSIONAL PART-TIME | C40: 56500 | D40: =SUM('Eastern Florida:Valencia'!D40) -> 184526 | E40: =SUM('Eastern Florida:Valencia'!E40) -> 0 | F40: =+D40+E40 -> 184526
A41: OPS - TECHNICAL, CLERICAL, TRADE AND SERVICE | C41: 57000 | D41: =SUM('Eastern Florida:Valencia'!D41) -> 662761 | E41: =SUM('Eastern Florida:Valencia'!E41) -> 0 | F41: =+D41+E41 -> 662761
A42: STUDENT EMPLOYMENT - INSTITUTIONAL WORK STUDY | C42: 58000 | D42: =SUM('Eastern Florida:Valencia'!D42) -> 34252 | E42: =SUM('Eastern Florida:Valencia'!E42) -> 0 | F42: =+D42+E42 -> 34252
A43: STUDENT EMPLOYMENT - COLLEGE WORK STUDY PROGRAM | C43: 58100 | D43: =SUM('Eastern Florida:Valencia'!D43) -> 0 | E43: =SUM('Eastern Florida:Valencia'!E43) -> 0 | F43: =+D43+E43 -> 0
...

Sheet Eastern Florida
A1: COLLEGE: | B1: Eastern Florida State College
A2: UPPER LEVEL PLANNED EXPENDITURES AND SOURCES OF FUNDS
A3: BACCALAUREATE DEGREE PROGRAM COLLEGE OPERATING BUDGET
A4: FISCAL YEAR 2026-27
A7: Enter amounts only for cells highlighted in light yellow. | C7: 2026-27
A8: PLANNED EXPENDITURES | C8: GENERAL LEDGER CODE | D8: UNRESTRICTED SOURCES | E8: RESTRICTED SOURCES | F8: TOTAL UNRESTRICTED AND RESTRICTED SOURCES
A9: PERSONNEL COSTS
A10: EXECUTIVE MANAGEMENT | C10: 51000 | D10: 0 | E10: 0 | F10: 0
A11: INSTRUCTIONAL MANAGEMENT | C11: 51100 | D11: 0 | E11: 0 | F11: 0
A12: INSTITUTIONAL MANAGEMENT | C12: 51200 | D12: 0 | E12: 0 | F12: 0
A13: EXECUTIVE, ADMINISTRATIVE, MANAGERIAL SABBATICAL | C13: 51400 | D13: 0 | E13: 0 | F13: 0
A14: EXECUTIVE, ADMINISTRATIVE, MANAGERIAL REGULAR PART-TIME | C14: 51500 | D14: 0 | E14: 0 | F14: 0
A15: INSTRUCTIONAL | C15: 52000 | D15: 1511808 | E15: 0 | F15: 1511808
A16: INSTRUCTIONAL - OVERLOAD/SUPPLEMENTAL | C16: 52100 | D16: 6500 | E16: 0 | F16: 6500
A17: INSTRUCTIONAL - SUBSTITUTION | C17: 52200 | D17: 0 | E17: 0 | F17: 0
A18: INSTRUCTIONAL - PARA-PROFESSIONAL/ASSOCIATE/ASSISTANT | C18: 52300 | D18: 0 | E18: 0 | F18: 0
A19: INSTRUCTIONAL - SABBATICAL | C19: 52400 | D19: 0 | E19: 0 | F19: 0
A20: INSTRUCTIONAL (PHASED RETIREMENT ) | C20: 52500 | D20: 0 | E20: 0 | F20: 0
A21: INSTRUCTIONAL (PHASED RETIREMENT ) - INSTRUCTOR/PROFESSOR | C21: 52501 | D21: 0 | E21: 0 | F21: 0
A22: INSTRUCTIONAL (PHASED RETIREMENT) - LIBRARIAN | C22: 52502 | D22: 0 | E22: 0 | F22: 0
A23: INSTRUCTIONAL (PHASED RETIREMENT) - COUNSELOR | C23: 52503 | D23: 0 | E23: 0 | F23: 0
A24: INSTRUCTIONAL (PHASED RETIREMENT) - REGULAR PART-TIME (FRS PARTICIPANT) | C24: 52504 | D24: 0 | E24: 0 | F24: 0
A25: OTHER PROFESSIONAL | C25: 53000 | D25: 153668 | E25: 0 | F25: 153668
A26: OTHER PROFESSIONAL - OVERLOAD/SUPPLEMENTAL | C26: 53100 | D26: 0 | E26: 0 | F26: 0
A27: OTHER PROFESSIONAL - SUBSTITUTION | C27: 53200 | D27: 0 | E27: 0 | F27: 0
A28: OTHER PROFESSIONAL - PARA-PROFESSIONAL/ASSOCIATE/ASSISTANT | C28: 53300 | D28: 0 | E28: 0 | F28: 0
A29: OTHER PROFESSIONAL - REGULAR PART-TIME | C29: 53500 | D29: 0 | E29: 0 | F29: 0
A30: TECHNICAL, CLERICAL, TRADE AND SERVICE | C30: 54000 | D30: 0 | E30: 0 | F30: 0
A31: TECHNICAL, CLERICAL, TRADE AND SERVICE - OVERTIME | C31: 54100 | D31: 0 | E31: 0 | F31: 0
A32: TECHNICAL, CLERICAL, TRADE AND SERVICE - REGULAR (PART-TIME) | C32: 54500 | D32: 0 | E32: 0 | F32: 0
... A34: OPS - INSTRUCTIONAL | C34: 56000 | D34: 406925 | E34: 0 | F34: 406925
A35: OPS - INSTRUCTIONAL/ADJUNCT INSTRUCTOR | C35: 56001 | D35: 0 | E35: 0 | F35: 0
A36: OPS - LIBRARIAN | C36: 56002 | D36: 0 | E36: 0 | F36: 0
A37: OPS - COUNSELOR | C37: 56003 | D37: 0 | E37: 0 | F37: 0
A38: OPS - PARA-PROFESSIONAL | C38: 56006 | D38: 0 | E38: 0 | F38: 0
A39: OPS - INSTRUCTIONAL SUBSTITUTES | C39: 56100 | D39: 0 | E39: 0 | F39: 0
A40: OPS - OTHER PROFESSIONAL PART-TIME | C40: 56500 | D40: 0 | E40: 0 | F40: 0
A41: OPS - TECHNICAL, CLERICAL, TRADE AND SERVICE | C41: 57000 | D41: 0 | E41: 0 | F41: 0
A42: STUDENT EMPLOYMENT - INSTITUTIONAL WORK STUDY | C42: 58000 | D42: 0 | E42: 0 | F42: 0
A43: STUDENT EMPLOYMENT - COLLEGE WORK STUDY PROGRAM | C43: 58100 | D43: 0 | E43: 0 | F43: 0
...

Sheet Broward
A1: COLLEGE: | B1: Broward College
A2: UPPER LEVEL PLANNED EXPENDITURES AND SOURCES OF FUNDS
A3: BACCALAUREATE DEGREE PROGRAM COLLEGE OPERATING BUDGET
A4: FISCAL YEAR 2026-27
A7: Enter amounts only for cells highlighted in light yellow. | C7: 2026-27
A8: PLANNED EXPENDITURES | C8: GENERAL LEDGER CODE | D8: UNRESTRICTED SOURCES | E8: RESTRICTED SOURCES | F8: TOTAL UNRESTRICTED AND RESTRICTED SOURCES
A9: PERSONNEL COSTS
A10: EXECUTIVE MANAGEMENT | C10: 51000 | D10: 0 | E10: 0 | F10: 0
A11: INSTRUCTIONAL MANAGEMENT | C11: 51100 | D11: 0 | E11: 0 | F11: 0
A12: INSTITUTIONAL MANAGEMENT | C12: 51200 | D12: 90000 | E12: 0 | F12: 90000
A13: EXECUTIVE, ADMINISTRATIVE, MANAGERIAL SABBATICAL | C13: 51400 | D13: 0 | E13: 0 | F13: 0
A14: EXECUTIVE, ADMINISTRATIVE, MANAGERIAL REGULAR PART-TIME | C14: 51500 | D14: 0 | E14: 0 | F14: 0
A15: INSTRUCTIONAL | C15: 52000 | D15: 1427440 | E15: 0 | F15: 1427440
A16: INSTRUCTIONAL - OVERLOAD/SUPPLEMENTAL | C16: 52100 | D16: 442999 | E16: 0 | F16: 442999
A17: INSTRUCTIONAL - SUBSTITUTION | C17: 52200 | D17: 0 | E17: 0 | F17: 0
A18: INSTRUCTIONAL - PARA-PROFESSIONAL/ASSOCIATE/ASSISTANT | C18: 52300 | D18: 0 | E18: 0 | F18: 0
A19: INSTRUCTIONAL - SABBATICAL | C19: 52400 | D19: 0 | E19: 0 | F19: 0
A20: INSTRUCTIONAL (PHASED RETIREMENT ) | C20: 52500 | D20: 0 | E20: 0 | F20: 0
A21: INSTRUCTIONAL (PHASED RETIREMENT ) - INSTRUCTOR/PROFESSOR | C21: 52501 | D21: 0 | E21: 0 | F21: 0
A22: INSTRUCTIONAL (PHASED RETIREMENT) - LIBRARIAN | C22: 52502 | D22: 0 | E22: 0 | F22: 0
A23: INSTRUCTIONAL (PHASED RETIREMENT) - COUNSELOR | C23: 52503 | D23: 0 | E23: 0 | F23: 0
A24: INSTRUCTIONAL (PHASED RETIREMENT) - REGULAR PART-TIME (FRS PARTICIPANT) | C24: 52504 | D24: 0 | E24: 0 | F24: 0
A25: OTHER PROFESSIONAL | C25: 53000 | D25: 199559 | E25: 0 | F25: 199559
A26: OTHER PROFESSIONAL - OVERLOAD/SUPPLEMENTAL | C26: 53100 | D26: 750 | E26: 0 | F26: 750
A27: OTHER PROFESSIONAL - SUBSTITUTION | C27: 53200 | D27: 0 | E27: 0 | F27: 0
A28: OTHER PROFESSIONAL - PARA-PROFESSIONAL/ASSOCIATE/ASSISTANT | C28: 53300 | D28: 0 | E28: 0 | F28: 0
A29: OTHER PROFESSIONAL - REGULAR PART-TIME | C29: 53500 | D29: 0 | E29: 0 | F29: 0
A30: TECHNICAL, CLERICAL, TRADE AND SERVICE | C30: 54000 | D30: 329327 | E30: 0 | F30: 329327
A31: TECHNICAL, CLERICAL, TRADE AND SERVICE - OVERTIME | C31: 54100 | D31: 0 | E31: 0 | F31: 0
A32: TECHNICAL, CLERICAL, TRADE AND SERVICE - REGULAR (PART-TIME) | C32: 54500 | D32: 355526 | E32: 0 | F32: 355526
... A34: OPS - INSTRUCTIONAL | C34: 56000 | D34: 441553 | E34: 0 | F34: 441553
A35: OPS - INSTRUCTIONAL/ADJUNCT INSTRUCTOR | C35: 56001 | D35: 0 | E35: 0 | F35: 0
A36: OPS - LIBRARIAN | C36: 56002 | D36: 0 | E36: 0 | F36: 0
A37: OPS - COUNSELOR | C37: 56003 | D37: 0 | E37: 0 | F37: 0
A38: OPS - PARA-PROFESSIONAL | C38: 56006 | D38: 0 | E38: 0 | F38: 0
A39: OPS - INSTRUCTIONAL SUBSTITUTES | C39: 56100 | D39: 0 | E39: 0 | F39: 0
A40: OPS - OTHER PROFESSIONAL PART-TIME | C40: 56500 | D40: 228 | E40: 0 | F40: 228
A41: OPS - TECHNICAL, CLERICAL, TRADE AND SERVICE | C41: 57000 | D41: 556793 | E41: 0 | F41: 556793
A42: STUDENT EMPLOYMENT - INSTITUTIONAL WORK STUDY | C42: 58000 | D42: 0 | E42: 0 | F42: 0
A43: STUDENT EMPLOYMENT - COLLEGE WORK STUDY PROGRAM | C43: 58100 | D43: 0 | E43: 0 | F43: 0
...

Sheet Central Florida
A1: COLLEGE: | B1: College of Central Florida
A2: UPPER LEVEL PLANNED EXPENDITURES AND SOURCES OF FUNDS
A3: BACCALAUREATE DEGREE PROGRAM COLLEGE OPERATING BUDGET
A4: FISCAL YEAR 2026-27
A7: Enter amounts only for cells highlighted in light yellow. | C7: 2026-27
A8: PLANNED EXPENDITURES | C8: GENERAL LEDGER CODE | D8: UNRESTRICTED SOURCES | E8: RESTRICTED SOURCES | F8: TOTAL UNRESTRICTED AND RESTRICTED SOURCES
A9: PERSONNEL COSTS
A10: EXECUTIVE MANAGEMENT | C10: 51000 | D10: 0 | E10: 0 | F10: 0
A11: INSTRUCTIONAL MANAGEMENT | C11: 51100 | D11: 0 | E11: 0 | F11: 0
A12: INSTITUTIONAL MANAGEMENT | C12: 51200 | D12: 404382 | E12: 0 | F12: 404382
A13: EXECUTIVE, ADMINISTRATIVE, MANAGERIAL SABBATICAL | C13: 51400 | D13: 0 | E13: 0 | F13: 0
A14: EXECUTIVE, ADMINISTRATIVE, MANAGERIAL REGULAR PART-TIME | C14: 51500 | D14: 0 | E14: 0 | F14: 0
A15: INSTRUCTIONAL | C15: 52000 | D15: 0 | E15: 0 | F15: 0
A16: INSTRUCTIONAL - OVERLOAD/SUPPLEMENTAL | C16: 52100 | D16: 57830 | E16: 0 | F16: 57830
A17: INSTRUCTIONAL - SUBSTITUTION | C17: 52200 | D17: 0 | E17: 0 | F17: 0
A18: INSTRUCTIONAL - PARA-PROFESSIONAL/ASSOCIATE/ASSISTANT | C18: 52300 | D18: 0 | E18: 0 | F18: 0
A19: INSTRUCTIONAL - SABBATICAL | C19: 52400 | D19: 0 | E19: 0 | F19: 0
A20: INSTRUCTIONAL (PHASED RETIREMENT ) | C20: 52500 | D20: 0 | E20: 0 | F20: 0
A21: INSTRUCTIONAL (PHASED RETIREMENT ) - INSTRUCTOR/PROFESSOR | C21: 52501 | D21: 0 | E21: 0 | F21: 0
A22: INSTRUCTIONAL (PHASED RETIREMENT) - LIBRARIAN | C22: 52502 | D22: 0 | E22: 0 | F22: 0
A23: INSTRUCTIONAL (PHASED RETIREMENT) - COUNSELOR | C23: 52503 | D23: 0 | E23: 0 | F23: 0
A24: INSTRUCTIONAL (PHASED RETIREMENT) - REGULAR PART-TIME (FRS PARTICIPANT) | C24: 52504 | D24: 0 | E24: 0 | F24: 0
A25: OTHER PROFESSIONAL | C25: 53000 | D25: 101524 | E25: 0 | F25: 101524
A26: OTHER PROFESSIONAL - OVERLOAD/SUPPLEMENTAL | C26: 53100 | D26: 0 | E26: 0 | F26: 0
A27: OTHER PROFESSIONAL - SUBSTITUTION | C27: 53200 | D27: 0 | E27: 0 | F27: 0
A28: OTHER PROFESSIONAL - PARA-PROFESSIONAL/ASSOCIATE/ASSISTANT | C28: 53300 | D28: 0 | E28: 0 | F28: 0
A29: OTHER PROFESSIONAL - REGULAR PART-TIME | C29: 53500 | D29: 0 | E29: 0 | F29: 0
A30: TECHNICAL, CLERICAL, TRADE AND SERVICE | C30: 54000 | D30: 0 | E30: 0 | F30: 0
A31: TECHNICAL, CLERICAL, TRADE AND SERVICE - OVERTIME | C31: 54100 | D31: 0 | E31: 0 | F31: 0
A32: TECHNICAL, CLERICAL, TRADE AND SERVICE - REGULAR (PART-TIME) | C32: 54500 | D32: 0 | E32: 0 | F32: 0
... A34: OPS - INSTRUCTIONAL | C34: 56000 | D34: 161335 | E34: 0 | F34: 161335
A35: OPS - INSTRUCTIONAL/ADJUNCT INSTRUCTOR | C35: 56001 | D35: 0 | E35: 0 | F35: 0
A36: OPS - LIBRARIAN | C36: 56002 | D36: 0 | E36: 0 | F36: 0
A37: OPS - COUNSELOR | C37: 56003 | D37: 0 | E37: 0 | F37: 0
A38: OPS - PARA-PROFESSIONAL | C38: 56006 | D38: 0 | E38: 0 | F38: 0
A39: OPS - INSTRUCTIONAL SUBSTITUTES | C39: 56100 | D39: 0 | E39: 0 | F39: 0
A40: OPS - OTHER PROFESSIONAL PART-TIME | C40: 56500 | D40: 0 | E40: 0 | F40: 0
A41: OPS - TECHNICAL, CLERICAL, TRADE AND SERVICE | C41: 57000 | D41: 0 | E41: 0 | F41: 0
A42: STUDENT EMPLOYMENT - INSTITUTIONAL WORK STUDY | C42: 58000 | D42: 0 | E42: 0 | F42: 0
A43: STUDENT EMPLOYMENT - COLLEGE WORK STUDY PROGRAM | C43: 58100 | D43: 0 | E43: 0 | F43: 0
...

Sheet Chipola
A1: COLLEGE: | B1: Chipola College
A2: UPPER LEVEL PLANNED EXPENDITURES AND SOURCES OF FUNDS
A3: BACCALAUREATE DEGREE PROGRAM COLLEGE OPERATING BUDGET
A4: FISCAL YEAR 2026-27
A7: Enter amounts only for cells highlighted in light yellow. | C7: 2026-27
A8: PLANNED EXPENDITURES | C8: GENERAL LEDGER CODE | D8: UNRESTRICTED SOURCES | E8: RESTRICTED SOURCES | F8: TOTAL UNRESTRICTED AND RESTRICTED SOURCES
A9: PERSONNEL COSTS
A10: EXECUTIVE MANAGEMENT | C10: 51000 | D10: 0 | E10: 0 | F10: 0
A11: INSTRUCTIONAL MANAGEMENT | C11: 51100 | D11: 0 | E11: 0 | F11: 0
A12: INSTITUTIONAL MANAGEMENT | C12: 51200 | D12: 139250.85 | E12: 0 | F12: 139250.85
A13: EXECUTIVE, ADMINISTRATIVE, MANAGERIAL SABBATICAL | C13: 51400 | D13: 0 | E13: 0 | F13: 0
A14: EXECUTIVE, ADMINISTRATIVE, MANAGERIAL REGULAR PART-TIME | C14: 51500 | D14: 0 | E14: 0 | F14: 0
A15: INSTRUCTIONAL | C15: 52000 | D15: 428854.92 | E15: 0 | F15: 428854.92
A16: INSTRUCTIONAL - OVERLOAD/SUPPLEMENTAL | C16: 52100 | D16: 0 | E16: 0 | F16: 0
A17: INSTRUCTIONAL - SUBSTITUTION | C17: 52200 | D17: 0 | E17: 0 | F17: 0
A18: INSTRUCTIONAL - PARA-PROFESSIONAL/ASSOCIATE/ASSISTANT | C18: 52300 | D18: 0 | E18: 0 | F18: 0
A19: INSTRUCTIONAL - SABBATICAL | C19: 52400 | D19: 0 | E19: 0 | F19: 0
A20: INSTRUCTIONAL (PHASED RETIREMENT ) | C20: 52500 | D20: 0 | E20: 0 | F20: 0
A21: INSTRUCTIONAL (PHASED RETIREMENT ) - INSTRUCTOR/PROFESSOR | C21: 52501 | D21: 0 | E21: 0 | F21: 0
A22: INSTRUCTIONAL (PHASED RETIREMENT) - LIBRARIAN | C22: 52502 | D22: 0 | E22: 0 | F22: 0
A23: INSTRUCTIONAL (PHASED RETIREMENT) - COUNSELOR | C23: 52503 | D23: 0 | E23: 0 | F23: 0
A24: INSTRUCTIONAL (PHASED RETIREMENT) - REGULAR PART-TIME (FRS PARTICIPANT) | C24: 52504 | D24: 0 | E24: 0 | F24: 0
A25: OTHER PROFESSIONAL | C25: 53000 | D25: 0 | E25: 0 | F25: 0
A26: OTHER PROFESSIONAL - OVERLOAD/SUPPLEMENTAL | C26: 53100 | D26: 0 | E26: 0 | F26: 0
A27: OTHER PROFESSIONAL - SUBSTITUTION | C27: 53200 | D27: 0 | E27: 0 | F27: 0
A28: OTHER PROFESSIONAL - PARA-PROFESSIONAL/ASSOCIATE/ASSISTANT | C28: 53300 | D28: 0 | E28: 0 | F28: 0
A29: OTHER PROFESSIONAL - REGULAR PART-TIME | C29: 53500 | D29: 0 | E29: 0 | F29: 0
A30: TECHNICAL, CLERICAL, TRADE AND SERVICE | C30: 54000 | D30: 5000 | E30: 0 | F30: 5000
A31: TECHNICAL, CLERICAL, TRADE AND SERVICE - OVERTIME | C31: 54100 | D31: 0 | E31: 0 | F31: 0
A32: TECHNICAL, CLERICAL, TRADE AND SERVICE - REGULAR (PART-TIME) | C32: 54500 | D32: 0 | E32: 0 | F32: 0
... A34: OPS - INSTRUCTIONAL | C34: 56000 | D34: 73711.05 | E34: 0 | F34: 73711.05
A35: OPS - INSTRUCTIONAL/ADJUNCT INSTRUCTOR | C35: 56001 | D35: 0 | E35: 0 | F35: 0
A36: OPS - LIBRARIAN | C36: 56002 | D36: 0 | E36: 0 | F36: 0
A37: OPS - COUNSELOR | C37: 56003 | D37: 0 | E37: 0 | F37: 0
A38: OPS - PARA-PROFESSIONAL | C38: 56006 | D38: 0 | E38: 0 | F38: 0
A39: OPS - INSTRUCTIONAL SUBSTITUTES | C39: 56100 | D39: 0 | E39: 0 | F39: 0
A40: OPS - OTHER PROFESSIONAL PART-TIME | C40: 56500 | D40: 0 | E40: 0 | F40: 0
A41: OPS - TECHNICAL, CLERICAL, TRADE AND SERVICE | C41: 57000 | D41: 0 | E41: 0 | F41: 0
A42: STUDENT EMPLOYMENT - INSTITUTIONAL WORK STUDY | C42: 58000 | D42: 0 | E42: 0 | F42: 0
A43: STUDENT EMPLOYMENT - COLLEGE WORK STUDY PROGRAM | C43: 58100 | D43: 0 | E43: 0 | F43: 0
...

Sheet Daytona
A1: COLLEGE: | B1: Daytona State College
A2: UPPER LEVEL PLANNED EXPENDITURES AND SOURCES OF FUNDS
A3: BACCALAUREATE DEGREE PROGRAM COLLEGE OPERATING BUDGET
A4: FISCAL YEAR 2026-27
A7: Enter amounts only for cells highlighted in light yellow. | C7: 2026-27
A8: PLANNED EXPENDITURES | C8: GENERAL LEDGER CODE | D8: UNRESTRICTED SOURCES | E8: RESTRICTED SOURCES | F8: TOTAL UNRESTRICTED AND RESTRICTED SOURCES
A9: PERSONNEL COSTS
A10: EXECUTIVE MANAGEMENT | C10: 51000 | D10: 0 | E10: 0 | F10: 0
A11: INSTRUCTIONAL MANAGEMENT | C11: 51100 | D11: 0 | E11: 0 | F11: 0
A12: INSTITUTIONAL MANAGEMENT | C12: 51200 | D12: 0 | E12: 0 | F12: 0
A13: EXECUTIVE, ADMINISTRATIVE, MANAGERIAL SABBATICAL | C13: 51400 | D13: 0 | E13: 0 | F13: 0
A14: EXECUTIVE, ADMINISTRATIVE, MANAGERIAL REGULAR PART-TIME | C14: 51500 | D14: 0 | E14: 0 | F14: 0
A15: INSTRUCTIONAL | C15: 52000 | D15: 2305326 | E15: 0 | F15: 2305326
A16: INSTRUCTIONAL - OVERLOAD/SUPPLEMENTAL | C16: 52100 | D16: 0 | E16: 0 | F16: 0
A17: INSTRUCTIONAL - SUBSTITUTION | C17: 52200 | D17: 0 | E17: 0 | F17: 0
A18: INSTRUCTIONAL - PARA-PROFESSIONAL/ASSOCIATE/ASSISTANT | C18: 52300 | D18: 0 | E18: 0 | F18: 0
A19: INSTRUCTIONAL - SABBATICAL | C19: 52400 | D19: 0 | E19: 0 | F19: 0
A20: INSTRUCTIONAL (PHASED RETIREMENT ) | C20: 52500 | D20: 0 | E20: 0 | F20: 0
A21: INSTRUCTIONAL (PHASED RETIREMENT ) - INSTRUCTOR/PROFESSOR | C21: 52501 | D21: 0 | E21: 0 | F21: 0
A22: INSTRUCTIONAL (PHASED RETIREMENT) - LIBRARIAN | C22: 52502 | D22: 0 | E22: 0 | F22: 0
A23: INSTRUCTIONAL (PHASED RETIREMENT) - COUNSELOR | C23: 52503 | D23: 0 | E23: 0 | F23: 0
A24: INSTRUCTIONAL (PHASED RETIREMENT) - REGULAR PART-TIME (FRS PARTICIPANT) | C24: 52504 | D24: 0 | E24: 0 | F24: 0
A25: OTHER PROFESSIONAL | C25: 53000 | D25: 98841 | E25: 0 | F25: 98841
A26: OTHER PROFESSIONAL - OVERLOAD/SUPPLEMENTAL | C26: 53100 | D26: 0 | E26: 0 | F26: 0
A27: OTHER PROFESSIONAL - SUBSTITUTION | C27: 53200 | D27: 0 | E27: 0 | F27: 0
A28: OTHER PROFESSIONAL - PARA-PROFESSIONAL/ASSOCIATE/ASSISTANT | C28: 53300 | D28: 0 | E28: 0 | F28: 0
A29: OTHER PROFESSIONAL - REGULAR PART-TIME | C29: 53500 | D29: 0 | E29: 0 | F29: 0
A30: TECHNICAL, CLERICAL, TRADE AND SERVICE | C30: 54000 | D30: 118015 | E30: 0 | F30: 118015
A31: TECHNICAL, CLERICAL, TRADE AND SERVICE - OVERTIME | C31: 54100 | D31: 0 | E31: 0 | F31: 0
A32: TECHNICAL, CLERICAL, TRADE AND SERVICE - REGULAR (PART-TIME) | C32: 54500 | D32: 0 | E32: 0 | F32: 0
... A34: OPS - INSTRUCTIONAL | C34: 56000 | D34: 0 | E34: 0 | F34: 0
A35: OPS - INSTRUCTIONAL/ADJUNCT INSTRUCTOR | C35: 56001 | D35: 0 | E35: 0 | F35: 0
A36: OPS - LIBRARIAN | C36: 56002 | D36: 0 | E36: 0 | F36: 0
A37: OPS - COUNSELOR | C37: 56003 | D37: 0 | E37: 0 | F37: 0
A38: OPS - PARA-PROFESSIONAL | C38: 56006 | D38: 0 | E38: 0 | F38: 0
A39: OPS - INSTRUCTIONAL SUBSTITUTES | C39: 56100 | D39: 0 | E39: 0 | F39: 0
A40: OPS - OTHER PROFESSIONAL PART-TIME | C40: 56500 | D40: 0 | E40: 0 | F40: 0
A41: OPS - TECHNICAL, CLERICAL, TRADE AND SERVICE | C41: 57000 | D41: 0 | E41: 0 | F41: 0
A42: STUDENT EMPLOYMENT - INSTITUTIONAL WORK STUDY | C42: 58000 | D42: 3008 | E42: 0 | F42: 3008
A43: STUDENT EMPLOYMENT - COLLEGE WORK STUDY PROGRAM | C43: 58100 | D43: 0 | E43: 0 | F43: 0
...

Sheet Florida SouthWestern
A1: COLLEGE: | B1: Florida SouthWestern State College
A2: UPPER LEVEL PLANNED EXPENDITURES AND SOURCES OF FUNDS
A3: BACCALAUREATE DEGREE PROGRAM COLLEGE OPERATING BUDGET
A4: FISCAL YEAR 2026-27
A7: Enter amounts only for cells highlighted in light yellow. | C7: 2026-27
A8: PLANNED EXPENDITURES | C8: GENERAL LEDGER CODE | D8: UNRESTRICTED SOURCES | E8: RESTRICTED SOURCES | F8: TOTAL UNRESTRICTED AND RESTRICTED SOURCES
A9: PERSONNEL COSTS
A10: EXECUTIVE MANAGEMENT | C10: 51000 | D10: 0 | E10: 0 | F10: 0
A11: INSTRUCTIONAL MANAGEMENT | C11: 51100 | D11: 0 | E11: 0 | F11: 0
A12: INSTITUTIONAL MANAGEMENT | C12: 51200 | D12: 0 | E12: 0 | F12: 0
A13: EXECUTIVE, ADMINISTRATIVE, MANAGERIAL SABBATICAL | C13: 51400 | D13: 0 | E13: 0 | F13: 0
A14: EXECUTIVE, ADMINISTRATIVE, MANAGERIAL REGULAR PART-TIME | C14: 51500 | D14: 0 | E14: 0 | F14: 0
A15: INSTRUCTIONAL | C15: 52000 | D15: 1065474 | E15: 0 | F15: 1065474
A16: INSTRUCTIONAL - OVERLOAD/SUPPLEMENTAL | C16: 52100 | D16: 224529 | E16: 0 | F16: 224529
A17: INSTRUCTIONAL - SUBSTITUTION | C17: 52200 | D17: 0 | E17: 0 | F17: 0
A18: INSTRUCTIONAL - PARA-PROFESSIONAL/ASSOCIATE/ASSISTANT | C18: 52300 | D18: 0 | E18: 0 | F18: 0
A19: INSTRUCTIONAL - SABBATICAL | C19: 52400 | D19: 0 | E19: 0 | F19: 0
A20: INSTRUCTIONAL (PHASED RETIREMENT ) | C20: 52500 | D20: 0 | E20: 0 | F20: 0
A21: INSTRUCTIONAL (PHASED RETIREMENT ) - INSTRUCTOR/PROFESSOR | C21: 52501 | D21: 0 | E21: 0 | F21: 0
A22: INSTRUCTIONAL (PHASED RETIREMENT) - LIBRARIAN | C22: 52502 | D22: 0 | E22: 0 | F22: 0
A23: INSTRUCTIONAL (PHASED RETIREMENT) - COUNSELOR | C23: 52503 | D23: 0 | E23: 0 | F23: 0
A24: INSTRUCTIONAL (PHASED RETIREMENT) - REGULAR PART-TIME (FRS PARTICIPANT) | C24: 52504 | D24: 0 | E24: 0 | F24: 0
A25: OTHER PROFESSIONAL | C25: 53000 | D25: 0 | E25: 0 | F25: 0
A26: OTHER PROFESSIONAL - OVERLOAD/SUPPLEMENTAL | C26: 53100 | D26: 0 | E26: 0 | F26: 0
A27: OTHER PROFESSIONAL - SUBSTITUTION | C27: 53200 | D27: 0 | E27: 0 | F27: 0
A28: OTHER PROFESSIONAL - PARA-PROFESSIONAL/ASSOCIATE/ASSISTANT | C28: 53300 | D28: 0 | E28: 0 | F28: 0
A29: OTHER PROFESSIONAL - REGULAR PART-TIME | C29: 53500 | D29: 0 | E29: 0 | F29: 0
A30: TECHNICAL, CLERICAL, TRADE AND SERVICE | C30: 54000 | D30: 0 | E30: 0 | F30: 0
A31: TECHNICAL, CLERICAL, TRADE AND SERVICE - OVERTIME | C31: 54100 | D31: 0 | E31: 0 | F31: 0
A32: TECHNICAL, CLERICAL, TRADE AND SERVICE - REGULAR (PART-TIME) | C32: 54500 | D32: 0 | E32: 0 | F32: 0
... A34: OPS - INSTRUCTIONAL | C34: 56000 | D34: 0 | E34: 0 | F34: 0
A35: OPS - INSTRUCTIONAL/ADJUNCT INSTRUCTOR | C35: 56001 | D35: 32527 | E35: 0 | F35: 32527
A36: OPS - LIBRARIAN | C36: 56002 | D36: 0 | E36: 0 | F36: 0
A37: OPS - COUNSELOR | C37: 56003 | D37: 0 | E37: 0 | F37: 0
A38: OPS - PARA-PROFESSIONAL | C38: 56006 | D38: 0 | E38: 0 | F38: 0
A39: OPS - INSTRUCTIONAL SUBSTITUTES | C39: 56100 | D39: 0 | E39: 0 | F39: 0
A40: OPS - OTHER PROFESSIONAL PART-TIME | C40: 56500 | D40: 0 | E40: 0 | F40: 0
A41: OPS - TECHNICAL, CLERICAL, TRADE AND SERVICE | C41: 57000 | D41: 0 | E41: 0 | F41: 0
A42: STUDENT EMPLOYMENT - INSTITUTIONAL WORK STUDY | C42: 58000 | D42: 0 | E42: 0 | F42: 0
A43: STUDENT EMPLOYMENT - COLLEGE WORK STUDY PROGRAM | C43: 58100 | D43: 0 | E43: 0 | F43: 0
...

Sheet Florida State College
A1: COLLEGE: | B1: Florida State College at Jacksonville
A2: UPPER LEVEL PLANNED EXPENDITURES AND SOURCES OF FUNDS
A3: BACCALAUREATE DEGREE PROGRAM COLLEGE OPERATING BUDGET
A4: FISCAL YEAR 2026-27
A7: Enter amounts only for cells highlighted in light yellow. | C7: 2026-27
A8: PLANNED EXPENDITURES | C8: GENERAL LEDGER CODE | D8: UNRESTRICTED SOURCES | E8: RESTRICTED SOURCES | F8: TOTAL UNRESTRICTED AND RESTRICTED SOURCES
A9: PERSONNEL COSTS
A10: EXECUTIVE MANAGEMENT | C10: 51000 | D10: 124536 | E10: 0 | F10: 124536
A11: INSTRUCTIONAL MANAGEMENT | C11: 51100 | D11: 192657 | E11: 0 | F11: 192657
A12: INSTITUTIONAL MANAGEMENT | C12: 51200 | D12: 0 | E12: 0 | F12: 0
A13: EXECUTIVE, ADMINISTRATIVE, MANAGERIAL SABBATICAL | C13: 51400 | D13: 0 | E13: 0 | F13: 0
A14: EXECUTIVE, ADMINISTRATIVE, MANAGERIAL REGULAR PART-TIME | C14: 51500 | D14: 0 | E14: 0 | F14: 0
A15: INSTRUCTIONAL | C15: 52000 | D15: 1602192 | E15: 0 | F15: 1602192
A16: INSTRUCTIONAL - OVERLOAD/SUPPLEMENTAL | C16: 52100 | D16: 624192 | E16: 0 | F16: 624192
A17: INSTRUCTIONAL - SUBSTITUTION | C17: 52200 | D17: 0 | E17: 0 | F17: 0
A18: INSTRUCTIONAL - PARA-PROFESSIONAL/ASSOCIATE/ASSISTANT | C18: 52300 | D18: 0 | E18: 0 | F18: 0
A19: INSTRUCTIONAL - SABBATICAL | C19: 52400 | D19: 0 | E19: 0 | F19: 0
A20: INSTRUCTIONAL (PHASED RETIREMENT ) | C20: 52500 | D20: 0 | E20: 0 | F20: 0
A21: INSTRUCTIONAL (PHASED RETIREMENT ) - INSTRUCTOR/PROFESSOR | C21: 52501 | D21: 0 | E21: 0 | F21: 0
A22: INSTRUCTIONAL (PHASED RETIREMENT) - LIBRARIAN | C22: 52502 | D22: 0 | E22: 0 | F22: 0
A23: INSTRUCTIONAL (PHASED RETIREMENT) - COUNSELOR | C23: 52503 | D23: 0 | E23: 0 | F23: 0
A24: INSTRUCTIONAL (PHASED RETIREMENT) - REGULAR PART-TIME (FRS PARTICIPANT) | C24: 52504 | D24: 0 | E24: 0 | F24: 0
A25: OTHER PROFESSIONAL | C25: 53000 | D25: 94617 | E25: 0 | F25: 94617
A26: OTHER PROFESSIONAL - OVERLOAD/SUPPLEMENTAL | C26: 53100 | D26: 0 | E26: 0 | F26: 0
A27: OTHER PROFESSIONAL - SUBSTITUTION | C27: 53200 | D27: 0 | E27: 0 | F27: 0
A28: OTHER PROFESSIONAL - PARA-PROFESSIONAL/ASSOCIATE/ASSISTANT | C28: 53300 | D28: 0 | E28: 0 | F28: 0
A29: OTHER PROFESSIONAL - REGULAR PART-TIME | C29: 53500 | D29: 0 | E29: 0 | F29: 0
A30: TECHNICAL, CLERICAL, TRADE AND SERVICE | C30: 54000 | D30: 48437 | E30: 0 | F30: 48437
A31: TECHNICAL, CLERICAL, TRADE AND SERVICE - OVERTIME | C31: 54100 | D31: 0 | E31: 0 | F31: 0
A32: TECHNICAL, CLERICAL, TRADE AND SERVICE - REGULAR (PART-TIME) | C32: 54500 | D32: 0 | E32: 0 | F32: 0
... A34: OPS - INSTRUCTIONAL | C34: 56000 | D34: 0 | E34: 0 | F34: 0
A35: OPS - INSTRUCTIONAL/ADJUNCT INSTRUCTOR | C35: 56001 | D35: 795763 | E35: 0 | F35: 795763
A36: OPS - LIBRARIAN | C36: 56002 | D36: 0 | E36: 0 | F36: 0
A37: OPS - COUNSELOR | C37: 56003 | D37: 0 | E37: 0 | F37: 0
A38: OPS - PARA-PROFESSIONAL | C38: 56006 | D38: 0 | E38: 0 | F38: 0
A39: OPS - INSTRUCTIONAL SUBSTITUTES | C39: 56100 | D39: 0 | E39: 0 | F39: 0
A40: OPS - OTHER PROFESSIONAL PART-TIME | C40: 56500 | D40: 0 | E40: 0 | F40: 0
A41: OPS - TECHNICAL, CLERICAL, TRADE AND SERVICE | C41: 57000 | D41: 0 | E41: 0 | F41: 0
A42: STUDENT EMPLOYMENT - INSTITUTIONAL WORK STUDY | C42: 58000 | D42: 0 | E42: 0 | F42: 0
A43: STUDENT EMPLOYMENT - COLLEGE WORK STUDY PROGRAM | C43: 58100 | D43: 0 | E43: 0 | F43: 0
...

Sheet Florida Keys
A1: COLLEGE: | B1: College of the Florida Keys
A2: UPPER LEVEL PLANNED EXPENDITURES AND SOURCES OF FUNDS
A3: BACCALAUREATE DEGREE PROGRAM COLLEGE OPERATING BUDGET
A4: FISCAL YEAR 2026-27
A7: Enter amounts only for cells highlighted in light yellow. | C7: 2026-27
A8: PLANNED EXPENDITURES | C8: GENERAL LEDGER CODE | D8: UNRESTRICTED SOURCES | E8: RESTRICTED SOURCES | F8: TOTAL UNRESTRICTED AND RESTRICTED SOURCES
A9: PERSONNEL COSTS
A10: EXECUTIVE MANAGEMENT | C10: 51000 | D10: 0 | E10: 0 | F10: 0
A11: INSTRUCTIONAL MANAGEMENT | C11: 51100 | D11: 0 | E11: 0 | F11: 0
A12: INSTITUTIONAL MANAGEMENT | C12: 51200 | D12: 0 | E12: 0 | F12: 0
A13: EXECUTIVE, ADMINISTRATIVE, MANAGERIAL SABBATICAL | C13: 51400 | D13: 0 | E13: 0 | F13: 0
A14: EXECUTIVE, ADMINISTRATIVE, MANAGERIAL REGULAR PART-TIME | C14: 51500 | D14: 0 | E14: 0 | F14: 0
A15: INSTRUCTIONAL | C15: 52000 | D15: 237058.46 | E15: 0 | F15: 237058.46
A16: INSTRUCTIONAL - OVERLOAD/SUPPLEMENTAL | C16: 52100 | D16: 23923.32 | E16: 0 | F16: 23923.32
A17: INSTRUCTIONAL - SUBSTITUTION | C17: 52200 | D17: 0 | E17: 0 | F17: 0
A18: INSTRUCTIONAL - PARA-PROFESSIONAL/ASSOCIATE/ASSISTANT | C18: 52300 | D18: 0 | E18: 0 | F18: 0
A19: INSTRUCTIONAL - SABBATICAL | C19: 52400 | D19: 0 | E19: 0 | F19: 0
A20: INSTRUCTIONAL (PHASED RETIREMENT ) | C20: 52500 | D20: 0 | E20: 0 | F20: 0
A21: INSTRUCTIONAL (PHASED RETIREMENT ) - INSTRUCTOR/PROFESSOR | C21: 52501 | D21: 0 | E21: 0 | F21: 0
A22: INSTRUCTIONAL (PHASED RETIREMENT) - LIBRARIAN | C22: 52502 | D22: 0 | E22: 0 | F22: 0
A23: INSTRUCTIONAL (PHASED RETIREMENT) - COUNSELOR | C23: 52503 | D23: 0 | E23: 0 | F23: 0
A24: INSTRUCTIONAL (PHASED RETIREMENT) - REGULAR PART-TIME (FRS PARTICIPANT) | C24: 52504 | D24: 0 | E24: 0 | F24: 0
A25: OTHER PROFESSIONAL | C25: 53000 | D25: 0 | E25: 0 | F25: 0
A26: OTHER PROFESSIONAL - OVERLOAD/SUPPLEMENTAL | C26: 53100 | D26: 0 | E26: 0 | F26: 0
A27: OTHER PROFESSIONAL - SUBSTITUTION | C27: 53200 | D27: 0 | E27: 0 | F27: 0
A28: OTHER PROFESSIONAL - PARA-PROFESSIONAL/ASSOCIATE/ASSISTANT | C28: 53300 | D28: 0 | E28: 0 | F28: 0
A29: OTHER PROFESSIONAL - REGULAR PART-TIME | C29: 53500 | D29: 0 | E29: 0 | F29: 0
A30: TECHNICAL, CLERICAL, TRADE AND SERVICE | C30: 54000 | D30: 0 | E30: 0 | F30: 0
A31: TECHNICAL, CLERICAL, TRADE AND SERVICE - OVERTIME | C31: 54100 | D31: 0 | E31: 0 | F31: 0
A32: TECHNICAL, CLERICAL, TRADE AND SERVICE - REGULAR (PART-TIME) | C32: 54500 | D32: 0 | E32: 0 | F32: 0
... A34: OPS - INSTRUCTIONAL | C34: 56000 | D34: 18015.06 | E34: 0 | F34: 18015.06
A35: OPS - INSTRUCTIONAL/ADJUNCT INSTRUCTOR | C35: 56001 | D35: 0 | E35: 0 | F35: 0
A36: OPS - LIBRARIAN | C36: 56002 | D36: 0 | E36: 0 | F36: 0
A37: OPS - COUNSELOR | C37: 56003 | D37: 0 | E37: 0 | F37: 0
A38: OPS - PARA-PROFESSIONAL | C38: 56006 | D38: 0 | E38: 0 | F38: 0
A39: OPS - INSTRUCTIONAL SUBSTITUTES | C39: 56100 | D39: 0 | E39: 0 | F39: 0
A40: OPS - OTHER PROFESSIONAL PART-TIME | C40: 56500 | D40: 0 | E40: 0 | F40: 0
A41: OPS - TECHNICAL, CLERICAL, TRADE AND SERVICE | C41: 57000 | D41: 948 | E41: 0 | F41: 948
A42: STUDENT EMPLOYMENT - INSTITUTIONAL WORK STUDY | C42: 58000 | D42: 0 | E42: 0 | F42: 0
A43: STUDENT EMPLOYMENT - COLLEGE WORK STUDY PROGRAM | C43: 58100 | D43: 0 | E43: 0 | F43: 0
...

Sheet Gulf Coast
A1: COLLEGE: | B1: Gulf Coast State College
A2: UPPER LEVEL PLANNED EXPENDITURES AND SOURCES OF FUNDS
A3: BACCALAUREATE DEGREE PROGRAM COLLEGE OPERATING BUDGET
A4: FISCAL YEAR 2026-27
A7: Enter amounts only for cells highlighted in light yellow. | C7: 2026-27
A8: PLANNED EXPENDITURES | C8: GENERAL LEDGER CODE | D8: UNRESTRICTED SOURCES | E8: RESTRICTED SOURCES | F8: TOTAL UNRESTRICTED AND RESTRICTED SOURCES
A9: PERSONNEL COSTS
A10: EXECUTIVE MANAGEMENT | C10: 51000 | D10: 0 | E10: 0 | F10: 0
A11: INSTRUCTIONAL MANAGEMENT | C11: 51100 | D11: 0 | E11: 0 | F11: 0
A12: INSTITUTIONAL MANAGEMENT | C12: 51200 | D12: 0 | E12: 0 | F12: 0
A13: EXECUTIVE, ADMINISTRATIVE, MANAGERIAL SABBATICAL | C13: 51400 | D13: 0 | E13: 0 | F13: 0
A14: EXECUTIVE, ADMINISTRATIVE, MANAGERIAL REGULAR PART-TIME | C14: 51500 | D14: 0 | E14: 0 | F14: 0
A15: INSTRUCTIONAL | C15: 52000 | D15: 349682 | E15: 0 | F15: 349682
A16: INSTRUCTIONAL - OVERLOAD/SUPPLEMENTAL | C16: 52100 | D16: 0 | E16: 0 | F16: 0
A17: INSTRUCTIONAL - SUBSTITUTION | C17: 52200 | D17: 0 | E17: 0 | F17: 0
A18: INSTRUCTIONAL - PARA-PROFESSIONAL/ASSOCIATE/ASSISTANT | C18: 52300 | D18: 0 | E18: 0 | F18: 0
A19: INSTRUCTIONAL - SABBATICAL | C19: 52400 | D19: 0 | E19: 0 | F19: 0
A20: INSTRUCTIONAL (PHASED RETIREMENT ) | C20: 52500 | D20: 0 | E20: 0 | F20: 0
A21: INSTRUCTIONAL (PHASED RETIREMENT ) - INSTRUCTOR/PROFESSOR | C21: 52501 | D21: 0 | E21: 0 | F21: 0
A22: INSTRUCTIONAL (PHASED RETIREMENT) - LIBRARIAN | C22: 52502 | D22: 0 | E22: 0 | F22: 0
A23: INSTRUCTIONAL (PHASED RETIREMENT) - COUNSELOR | C23: 52503 | D23: 0 | E23: 0 | F23: 0
A24: INSTRUCTIONAL (PHASED RETIREMENT) - REGULAR PART-TIME (FRS PARTICIPANT) | C24: 52504 | D24: 0 | E24: 0 | F24: 0
A25: OTHER PROFESSIONAL | C25: 53000 | D25: 0 | E25: 0 | F25: 0
A26: OTHER PROFESSIONAL - OVERLOAD/SUPPLEMENTAL | C26: 53100 | D26: 0 | E26: 0 | F26: 0
A27: OTHER PROFESSIONAL - SUBSTITUTION | C27: 53200 | D27: 0 | E27: 0 | F27: 0
A28: OTHER PROFESSIONAL - PARA-PROFESSIONAL/ASSOCIATE/ASSISTANT | C28: 53300 | D28: 0 | E28: 0 | F28: 0
A29: OTHER PROFESSIONAL - REGULAR PART-TIME | C29: 53500 | D29: 0 | E29: 0 | F29: 0
A30: TECHNICAL, CLERICAL, TRADE AND SERVICE | C30: 54000 | D30: 11793 | E30: 0 | F30: 11793
A31: TECHNICAL, CLERICAL, TRADE AND SERVICE - OVERTIME | C31: 54100 | D31: 0 | E31: 0 | F31: 0
A32: TECHNICAL, CLERICAL, TRADE AND SERVICE - REGULAR (PART-TIME) | C32: 54500 | D32: 0 | E32: 0 | F32: 0
... A34: OPS - INSTRUCTIONAL | C34: 56000 | D34: 0 | E34: 0 | F34: 0
A35: OPS - INSTRUCTIONAL/ADJUNCT INSTRUCTOR | C35: 56001 | D35: 0 | E35: 0 | F35: 0
A36: OPS - LIBRARIAN | C36: 56002 | D36: 0 | E36: 0 | F36: 0
A37: OPS - COUNSELOR | C37: 56003 | D37: 0 | E37: 0 | F37: 0
A38: OPS - PARA-PROFESSIONAL | C38: 56006 | D38: 0 | E38: 0 | F38: 0
A39: OPS - INSTRUCTIONAL SUBSTITUTES | C39: 56100 | D39: 0 | E39: 0 | F39: 0
A40: OPS - OTHER PROFESSIONAL PART-TIME | C40: 56500 | D40: 0 | E40: 0 | F40: 0
A41: OPS - TECHNICAL, CLERICAL, TRADE AND SERVICE | C41: 57000 | D41: 0 | E41: 0 | F41: 0
A42: STUDENT EMPLOYMENT - INSTITUTIONAL WORK STUDY | C42: 58000 | D42: 0 | E42: 0 | F42: 0
A43: STUDENT EMPLOYMENT - COLLEGE WORK STUDY PROGRAM | C43: 58100 | D43: 0 | E43: 0 | F43: 0
...

Sheet Hillsborough
A1: COLLEGE: | B1: Hillsborough College
A2: UPPER LEVEL PLANNED EXPENDITURES AND SOURCES OF FUNDS
A3: BACCALAUREATE DEGREE PROGRAM COLLEGE OPERATING BUDGET
A4: FISCAL YEAR 2026-27
A7: Enter amounts only for cells highlighted in light yellow. | C7: 2026-27
A8: PLANNED EXPENDITURES | C8: GENERAL LEDGER CODE | D8: UNRESTRICTED SOURCES | E8: RESTRICTED SOURCES | F8: TOTAL UNRESTRICTED AND RESTRICTED SOURCES
A9: PERSONNEL COSTS
A10: EXECUTIVE MANAGEMENT | C10: 51000 | D10: 0 | E10: 0 | F10: 0
A11: INSTRUCTIONAL MANAGEMENT | C11: 51100 | D11: 0 | E11: 0 | F11: 0
A12: INSTITUTIONAL MANAGEMENT | C12: 51200 | D12: 0 | E12: 0 | F12: 0
A13: EXECUTIVE, ADMINISTRATIVE, MANAGERIAL SABBATICAL | C13: 51400 | D13: 0 | E13: 0 | F13: 0
A14: EXECUTIVE, ADMINISTRATIVE, MANAGERIAL REGULAR PART-TIME | C14: 51500 | D14: 0 | E14: 0 | F14: 0
A15: INSTRUCTIONAL | C15: 52000 | D15: 211758 | E15: 0 | F15: 211758
A16: INSTRUCTIONAL - OVERLOAD/SUPPLEMENTAL | C16: 52100 | D16: 40000 | E16: 0 | F16: 40000
A17: INSTRUCTIONAL - SUBSTITUTION | C17: 52200 | D17: 0 | E17: 0 | F17: 0
A18: INSTRUCTIONAL - PARA-PROFESSIONAL/ASSOCIATE/ASSISTANT | C18: 52300 | D18: 0 | E18: 0 | F18: 0
A19: INSTRUCTIONAL - SABBATICAL | C19: 52400 | D19: 0 | E19: 0 | F19: 0
A20: INSTRUCTIONAL (PHASED RETIREMENT ) | C20: 52500 | D20: 0 | E20: 0 | F20: 0
A21: INSTRUCTIONAL (PHASED RETIREMENT ) - INSTRUCTOR/PROFESSOR | C21: 52501 | D21: 0 | E21: 0 | F21: 0
A22: INSTRUCTIONAL (PHASED RETIREMENT) - LIBRARIAN | C22: 52502 | D22: 0 | E22: 0 | F22: 0
A23: INSTRUCTIONAL (PHASED RETIREMENT) - COUNSELOR | C23: 52503 | D23: 0 | E23: 0 | F23: 0
A24: INSTRUCTIONAL (PHASED RETIREMENT) - REGULAR PART-TIME (FRS PARTICIPANT) | C24: 52504 | D24: 0 | E24: 0 | F24: 0
A25: OTHER PROFESSIONAL | C25: 53000 | D25: 0 | E25: 0 | F25: 0
A26: OTHER PROFESSIONAL - OVERLOAD/SUPPLEMENTAL | C26: 53100 | D26: 47157 | E26: 0 | F26: 47157
A27: OTHER PROFESSIONAL - SUBSTITUTION | C27: 53200 | D27: 0 | E27: 0 | F27: 0
A28: OTHER PROFESSIONAL - PARA-PROFESSIONAL/ASSOCIATE/ASSISTANT | C28: 53300 | D28: 0 | E28: 0 | F28: 0
A29: OTHER PROFESSIONAL - REGULAR PART-TIME | C29: 53500 | D29: 0 | E29: 0 | F29: 0
A30: TECHNICAL, CLERICAL, TRADE AND SERVICE | C30: 54000 | D30: 0 | E30: 0 | F30: 0
A31: TECHNICAL, CLERICAL, TRADE AND SERVICE - OVERTIME | C31: 54100 | D31: 0 | E31: 0 | F31: 0
A32: TECHNICAL, CLERICAL, TRADE AND SERVICE - REGULAR (PART-TIME) | C32: 54500 | D32: 0 | E32: 0 | F32: 0
... A34: OPS - INSTRUCTIONAL | C34: 56000 | D34: 0 | E34: 0 | F34: 0
A35: OPS - INSTRUCTIONAL/ADJUNCT INSTRUCTOR | C35: 56001 | D35: 0 | E35: 0 | F35: 0
A36: OPS - LIBRARIAN | C36: 56002 | D36: 0 | E36: 0 | F36: 0
A37: OPS - COUNSELOR | C37: 56003 | D37: 0 | E37: 0 | F37: 0
A38: OPS - PARA-PROFESSIONAL | C38: 56006 | D38: 0 | E38: 0 | F38: 0
A39: OPS - INSTRUCTIONAL SUBSTITUTES | C39: 56100 | D39: 0 | E39: 0 | F39: 0
A40: OPS - OTHER PROFESSIONAL PART-TIME | C40: 56500 | D40: 0 | E40: 0 | F40: 0
A41: OPS - TECHNICAL, CLERICAL, TRADE AND SERVICE | C41: 57000 | D41: 0 | E41: 0 | F41: 0
A42: STUDENT EMPLOYMENT - INSTITUTIONAL WORK STUDY | C42: 58000 | D42: 0 | E42: 0 | F42: 0
A43: STUDENT EMPLOYMENT - COLLEGE WORK STUDY PROGRAM | C43: 58100 | D43: 0 | E43: 0 | F43: 0
...

Sheet Indian River
A1: COLLEGE: | B1: Indian River State College
A2: UPPER LEVEL PLANNED EXPENDITURES AND SOURCES OF FUNDS
A3: BACCALAUREATE DEGREE PROGRAM COLLEGE OPERATING BUDGET
A4: FISCAL YEAR 2026-27
A7: Enter amounts only for cells highlighted in light yellow. | C7: 2026-27
A8: PLANNED EXPENDITURES | C8: GENERAL LEDGER CODE | D8: UNRESTRICTED SOURCES | E8: RESTRICTED SOURCES | F8: TOTAL UNRESTRICTED AND RESTRICTED SOURCES
A9: PERSONNEL COSTS
A10: EXECUTIVE MANAGEMENT | C10: 51000 | D10: 0 | E10: 0 | F10: 0
A11: INSTRUCTIONAL MANAGEMENT | C11: 51100 | D11: 0 | E11: 0 | F11: 0
A12: INSTITUTIONAL MANAGEMENT | C12: 51200 | D12: 0 | E12: 0 | F12: 0
A13: EXECUTIVE, ADMINISTRATIVE, MANAGERIAL SABBATICAL | C13: 51400 | D13: 0 | E13: 0 | F13: 0
A14: EXECUTIVE, ADMINISTRATIVE, MANAGERIAL REGULAR PART-TIME | C14: 51500 | D14: 0 | E14: 0 | F14: 0
A15: INSTRUCTIONAL | C15: 52000 | D15: 2322243 | E15: 0 | F15: 2322243
A16: INSTRUCTIONAL - OVERLOAD/SUPPLEMENTAL | C16: 52100 | D16: 0 | E16: 0 | F16: 0
A17: INSTRUCTIONAL - SUBSTITUTION | C17: 52200 | D17: 0 | E17: 0 | F17: 0
A18: INSTRUCTIONAL - PARA-PROFESSIONAL/ASSOCIATE/ASSISTANT | C18: 52300 | D18: 0 | E18: 0 | F18: 0
A19: INSTRUCTIONAL - SABBATICAL | C19: 52400 | D19: 0 | E19: 0 | F19: 0
A20: INSTRUCTIONAL (PHASED RETIREMENT ) | C20: 52500 | D20: 0 | E20: 0 | F20: 0
A21: INSTRUCTIONAL (PHASED RETIREMENT ) - INSTRUCTOR/PROFESSOR | C21: 52501 | D21: 0 | E21: 0 | F21: 0
A22: INSTRUCTIONAL (PHASED RETIREMENT) - LIBRARIAN | C22: 52502 | D22: 0 | E22: 0 | F22: 0
A23: INSTRUCTIONAL (PHASED RETIREMENT) - COUNSELOR | C23: 52503 | D23: 0 | E23: 0 | F23: 0
A24: INSTRUCTIONAL (PHASED RETIREMENT) - REGULAR PART-TIME (FRS PARTICIPANT) | C24: 52504 | D24: 0 | E24: 0 | F24: 0
A25: OTHER PROFESSIONAL | C25: 53000 | D25: 0 | E25: 0 | F25: 0
A26: OTHER PROFESSIONAL - OVERLOAD/SUPPLEMENTAL | C26: 53100 | D26: 0 | E26: 0 | F26: 0
A27: OTHER PROFESSIONAL - SUBSTITUTION | C27: 53200 | D27: 0 | E27: 0 | F27: 0
A28: OTHER PROFESSIONAL - PARA-PROFESSIONAL/ASSOCIATE/ASSISTANT | C28: 53300 | D28: 0 | E28: 0 | F28: 0
A29: OTHER PROFESSIONAL - REGULAR PART-TIME | C29: 53500 | D29: 0 | E29: 0 | F29: 0
A30: TECHNICAL, CLERICAL, TRADE AND SERVICE | C30: 54000 | D30: 0 | E30: 0 | F30: 0
A31: TECHNICAL, CLERICAL, TRADE AND SERVICE - OVERTIME | C31: 54100 | D31: 0 | E31: 0 | F31: 0
A32: TECHNICAL, CLERICAL, TRADE AND SERVICE - REGULAR (PART-TIME) | C32: 54500 | D32: 0 | E32: 0 | F32: 0
... A34: OPS - INSTRUCTIONAL | C34: 56000 | D34: 238160 | E34: 0 | F34: 238160
A35: OPS - INSTRUCTIONAL/ADJUNCT INSTRUCTOR | C35: 56001 | D35: 0 | E35: 0 | F35: 0
A36: OPS - LIBRARIAN | C36: 56002 | D36: 0 | E36: 0 | F36: 0
A37: OPS - COUNSELOR | C37: 56003 | D37: 0 | E37: 0 | F37: 0
A38: OPS - PARA-PROFESSIONAL | C38: 56006 | D38: 0 | E38: 0 | F38: 0
A39: OPS - INSTRUCTIONAL SUBSTITUTES | C39: 56100 | D39: 0 | E39: 0 | F39: 0
A40: OPS - OTHER PROFESSIONAL PART-TIME | C40: 56500 | D40: 0 | E40: 0 | F40: 0
A41: OPS - TECHNICAL, CLERICAL, TRADE AND SERVICE | C41: 57000 | D41: 0 | E41: 0 | F41: 0
A42: STUDENT EMPLOYMENT - INSTITUTIONAL WORK STUDY | C42: 58000 | D42: 0 | E42: 0 | F42: 0
A43: STUDENT EMPLOYMENT - COLLEGE WORK STUDY PROGRAM | C43: 58100 | D43: 0 | E43: 0 | F43: 0
...

Sheet Florida Gateway
A1: COLLEGE: | B1: Florida Gateway College
A2: UPPER LEVEL PLANNED EXPENDITURES AND SOURCES OF FUNDS
A3: BACCALAUREATE DEGREE PROGRAM COLLEGE OPERATING BUDGET
A4: FISCAL YEAR 2026-27
A7: Enter amounts only for cells highlighted in light yellow. | C7: 2026-27
A8: PLANNED EXPENDITURES | C8: GENERAL LEDGER CODE | D8: UNRESTRICTED SOURCES | E8: RESTRICTED SOURCES | F8: TOTAL UNRESTRICTED AND RESTRICTED SOURCES
A9: PERSONNEL COSTS
A10: EXECUTIVE MANAGEMENT | C10: 51000 | D10: 0 | E10: 0 | F10: 0
A11: INSTRUCTIONAL MANAGEMENT | C11: 51100 | D11: 0 | E11: 0 | F11: 0
A12: INSTITUTIONAL MANAGEMENT | C12: 51200 | D12: 0 | E12: 0 | F12: 0
A13: EXECUTIVE, ADMINISTRATIVE, MANAGERIAL SABBATICAL | C13: 51400 | D13: 0 | E13: 0 | F13: 0
A14: EXECUTIVE, ADMINISTRATIVE, MANAGERIAL REGULAR PART-TIME | C14: 51500 | D14: 0 | E14: 0 | F14: 0
A15: INSTRUCTIONAL | C15: 52000 | D15: 345266 | E15: 0 | F15: 345266
A16: INSTRUCTIONAL - OVERLOAD/SUPPLEMENTAL | C16: 52100 | D16: 44500 | E16: 0 | F16: 44500
A17: INSTRUCTIONAL - SUBSTITUTION | C17: 52200 | D17: 0 | E17: 0 | F17: 0
A18: INSTRUCTIONAL - PARA-PROFESSIONAL/ASSOCIATE/ASSISTANT | C18: 52300 | D18: 0 | E18: 0 | F18: 0
A19: INSTRUCTIONAL - SABBATICAL | C19: 52400 | D19: 0 | E19: 0 | F19: 0
A20: INSTRUCTIONAL (PHASED RETIREMENT ) | C20: 52500 | D20: 0 | E20: 0 | F20: 0
A21: INSTRUCTIONAL (PHASED RETIREMENT ) - INSTRUCTOR/PROFESSOR | C21: 52501 | D21: 0 | E21: 0 | F21: 0
A22: INSTRUCTIONAL (PHASED RETIREMENT) - LIBRARIAN | C22: 52502 | D22: 0 | E22: 0 | F22: 0
A23: INSTRUCTIONAL (PHASED RETIREMENT) - COUNSELOR | C23: 52503 | D23: 0 | E23: 0 | F23: 0
A24: INSTRUCTIONAL (PHASED RETIREMENT) - REGULAR PART-TIME (FRS PARTICIPANT) | C24: 52504 | D24: 0 | E24: 0 | F24: 0
A25: OTHER PROFESSIONAL | C25: 53000 | D25: 0 | E25: 0 | F25: 0
A26: OTHER PROFESSIONAL - OVERLOAD/SUPPLEMENTAL | C26: 53100 | D26: 0 | E26: 0 | F26: 0
A27: OTHER PROFESSIONAL - SUBSTITUTION | C27: 53200 | D27: 0 | E27: 0 | F27: 0
A28: OTHER PROFESSIONAL - PARA-PROFESSIONAL/ASSOCIATE/ASSISTANT | C28: 53300 | D28: 0 | E28: 0 | F28: 0
A29: OTHER PROFESSIONAL - REGULAR PART-TIME | C29: 53500 | D29: 0 | E29: 0 | F29: 0
A30: TECHNICAL, CLERICAL, TRADE AND SERVICE | C30: 54000 | D30: 0 | E30: 0 | F30: 0
A31: TECHNICAL, CLERICAL, TRADE AND SERVICE - OVERTIME | C31: 54100 | D31: 0 | E31: 0 | F31: 0
A32: TECHNICAL, CLERICAL, TRADE AND SERVICE - REGULAR (PART-TIME) | C32: 54500 | D32: 0 | E32: 0 | F32: 0
... A34: OPS - INSTRUCTIONAL | C34: 56000 | D34: 0 | E34: 0 | F34: 0
A35: OPS - INSTRUCTIONAL/ADJUNCT INSTRUCTOR | C35: 56001 | D35: 131000 | E35: 0 | F35: 131000
A36: OPS - LIBRARIAN | C36: 56002 | D36: 0 | E36: 0 | F36: 0
A37: OPS - COUNSELOR | C37: 56003 | D37: 0 | E37: 0 | F37: 0
A38: OPS - PARA-PROFESSIONAL | C38: 56006 | D38: 0 | E38: 0 | F38: 0
A39: OPS - INSTRUCTIONAL SUBSTITUTES | C39: 56100 | D39: 0 | E39: 0 | F39: 0
A40: OPS - OTHER PROFESSIONAL PART-TIME | C40: 56500 | D40: 0 | E40: 0 | F40: 0
A41: OPS - TECHNICAL, CLERICAL, TRADE AND SERVICE | C41: 57000 | D41: 0 | E41: 0 | F41: 0
A42: STUDENT EMPLOYMENT - INSTITUTIONAL WORK STUDY | C42: 58000 | D42: 0 | E42: 0 | F42: 0
A43: STUDENT EMPLOYMENT - COLLEGE WORK STUDY PROGRAM | C43: 58100 | D43: 0 | E43: 0 | F43: 0
...

Sheet Lake-Sumter
A1: COLLEGE: | B1: Lake-Sumter State College
A2: UPPER LEVEL PLANNED EXPENDITURES AND SOURCES OF FUNDS
A3: BACCALAUREATE DEGREE PROGRAM COLLEGE OPERATING BUDGET
A4: FISCAL YEAR 2026-27
A7: Enter amounts only for cells highlighted in light yellow. | C7: 2026-27
A8: PLANNED EXPENDITURES | C8: GENERAL LEDGER CODE | D8: UNRESTRICTED SOURCES | E8: RESTRICTED SOURCES | F8: TOTAL UNRESTRICTED AND RESTRICTED SOURCES
A9: PERSONNEL COSTS
A10: EXECUTIVE MANAGEMENT | C10: 51000 | D10: 0 | E10: 0 | F10: 0
A11: INSTRUCTIONAL MANAGEMENT | C11: 51100 | D11: 335958 | E11: 0 | F11: 335958
A12: INSTITUTIONAL MANAGEMENT | C12: 51200 | D12: 0 | E12: 0 | F12: 0
A13: EXECUTIVE, ADMINISTRATIVE, MANAGERIAL SABBATICAL | C13: 51400 | D13: 0 | E13: 0 | F13: 0
A14: EXECUTIVE, ADMINISTRATIVE, MANAGERIAL REGULAR PART-TIME | C14: 51500 | D14: 0 | E14: 0 | F14: 0
A15: INSTRUCTIONAL | C15: 52000 | D15: 207556 | E15: 0 | F15: 207556
A16: INSTRUCTIONAL - OVERLOAD/SUPPLEMENTAL | C16: 52100 | D16: 26250 | E16: 0 | F16: 26250
A17: INSTRUCTIONAL - SUBSTITUTION | C17: 52200 | D17: 0 | E17: 0 | F17: 0
A18: INSTRUCTIONAL - PARA-PROFESSIONAL/ASSOCIATE/ASSISTANT | C18: 52300 | D18: 0 | E18: 0 | F18: 0
A19: INSTRUCTIONAL - SABBATICAL | C19: 52400 | D19: 0 | E19: 0 | F19: 0
A20: INSTRUCTIONAL (PHASED RETIREMENT ) | C20: 52500 | D20: 0 | E20: 0 | F20: 0
A21: INSTRUCTIONAL (PHASED RETIREMENT ) - INSTRUCTOR/PROFESSOR | C21: 52501 | D21: 0 | E21: 0 | F21: 0
A22: INSTRUCTIONAL (PHASED RETIREMENT) - LIBRARIAN | C22: 52502 | D22: 0 | E22: 0 | F22: 0
A23: INSTRUCTIONAL (PHASED RETIREMENT) - COUNSELOR | C23: 52503 | D23: 0 | E23: 0 | F23: 0
A24: INSTRUCTIONAL (PHASED RETIREMENT) - REGULAR PART-TIME (FRS PARTICIPANT) | C24: 52504 | D24: 0 | E24: 0 | F24: 0
A25: OTHER PROFESSIONAL | C25: 53000 | D25: 0 | E25: 0 | F25: 0
A26: OTHER PROFESSIONAL - OVERLOAD/SUPPLEMENTAL | C26: 53100 | D26: 5100 | E26: 0 | F26: 5100
A27: OTHER PROFESSIONAL - SUBSTITUTION | C27: 53200 | D27: 0 | E27: 0 | F27: 0
A28: OTHER PROFESSIONAL - PARA-PROFESSIONAL/ASSOCIATE/ASSISTANT | C28: 53300 | D28: 0 | E28: 0 | F28: 0
A29: OTHER PROFESSIONAL - REGULAR PART-TIME | C29: 53500 | D29: 0 | E29: 0 | F29: 0
A30: TECHNICAL, CLERICAL, TRADE AND SERVICE | C30: 54000 | D30: 0 | E30: 0 | F30: 0
A31: TECHNICAL, CLERICAL, TRADE AND SERVICE - OVERTIME | C31: 54100 | D31: 0 | E31: 0 | F31: 0
A32: TECHNICAL, CLERICAL, TRADE AND SERVICE - REGULAR (PART-TIME) | C32: 54500 | D32: 0 | E32: 0 | F32: 0
... A34: OPS - INSTRUCTIONAL | C34: 56000 | D34: 0 | E34: 0 | F34: 0
A35: OPS - INSTRUCTIONAL/ADJUNCT INSTRUCTOR | C35: 56001 | D35: 381587 | E35: 0 | F35: 381587
A36: OPS - LIBRARIAN | C36: 56002 | D36: 0 | E36: 0 | F36: 0
A37: OPS - COUNSELOR | C37: 56003 | D37: 0 | E37: 0 | F37: 0
A38: OPS - PARA-PROFESSIONAL | C38: 56006 | D38: 0 | E38: 0 | F38: 0
A39: OPS - INSTRUCTIONAL SUBSTITUTES | C39: 56100 | D39: 0 | E39: 0 | F39: 0
A40: OPS - OTHER PROFESSIONAL PART-TIME | C40: 56500 | D40: 0 | E40: 0 | F40: 0
A41: OPS - TECHNICAL, CLERICAL, TRADE AND SERVICE | C41: 57000 | D41: 0 | E41: 0 | F41: 0
A42: STUDENT EMPLOYMENT - INSTITUTIONAL WORK STUDY | C42: 58000 | D42: 0 | E42: 0 | F42: 0
A43: STUDENT EMPLOYMENT - COLLEGE WORK STUDY PROGRAM | C43: 58100 | D43: 0 | E43: 0 | F43: 0
...

Sheet State College of Florida
A1: COLLEGE: | B1: State College of Florida, Manatee-Sarasota
A2: UPPER LEVEL PLANNED EXPENDITURES AND SOURCES OF FUNDS
A3: BACCALAUREATE DEGREE PROGRAM COLLEGE OPERATING BUDGET
A4: FISCAL YEAR 2026-27
A7: Enter amounts only for cells highlighted in light yellow. | C7: 2026-27
A8: PLANNED EXPENDITURES | C8: GENERAL LEDGER CODE | D8: UNRESTRICTED SOURCES | E8: RESTRICTED SOURCES | F8: TOTAL UNRESTRICTED AND RESTRICTED SOURCES
A9: PERSONNEL COSTS
A10: EXECUTIVE MANAGEMENT | C10: 51000 | D10: 0 | E10: 0 | F10: 0
A11: INSTRUCTIONAL MANAGEMENT | C11: 51100 | D11: 0 | E11: 0 | F11: 0
A12: INSTITUTIONAL MANAGEMENT | C12: 51200 | D12: 0 | E12: 0 | F12: 0
A13: EXECUTIVE, ADMINISTRATIVE, MANAGERIAL SABBATICAL | C13: 51400 | D13: 0 | E13: 0 | F13: 0
A14: EXECUTIVE, ADMINISTRATIVE, MANAGERIAL REGULAR PART-TIME | C14: 51500 | D14: 0 | E14: 0 | F14: 0
A15: INSTRUCTIONAL | C15: 52000 | D15: 650529 | E15: 0 | F15: 650529
A16: INSTRUCTIONAL - OVERLOAD/SUPPLEMENTAL | C16: 52100 | D16: 242000 | E16: 0 | F16: 242000
A17: INSTRUCTIONAL - SUBSTITUTION | C17: 52200 | D17: 1000 | E17: 0 | F17: 1000
A18: INSTRUCTIONAL - PARA-PROFESSIONAL/ASSOCIATE/ASSISTANT | C18: 52300 | D18: 0 | E18: 0 | F18: 0
A19: INSTRUCTIONAL - SABBATICAL | C19: 52400 | D19: 0 | E19: 0 | F19: 0
A20: INSTRUCTIONAL (PHASED RETIREMENT ) | C20: 52500 | D20: 0 | E20: 0 | F20: 0
A21: INSTRUCTIONAL (PHASED RETIREMENT ) - INSTRUCTOR/PROFESSOR | C21: 52501 | D21: 0 | E21: 0 | F21: 0
A22: INSTRUCTIONAL (PHASED RETIREMENT) - LIBRARIAN | C22: 52502 | D22: 0 | E22: 0 | F22: 0
A23: INSTRUCTIONAL (PHASED RETIREMENT) - COUNSELOR | C23: 52503 | D23: 0 | E23: 0 | F23: 0
A24: INSTRUCTIONAL (PHASED RETIREMENT) - REGULAR PART-TIME (FRS PARTICIPANT) | C24: 52504 | D24: 0 | E24: 0 | F24: 0
A25: OTHER PROFESSIONAL | C25: 53000 | D25: 65000 | E25: 0 | F25: 65000
A26: OTHER PROFESSIONAL - OVERLOAD/SUPPLEMENTAL | C26: 53100 | D26: 0 | E26: 0 | F26: 0
A27: OTHER PROFESSIONAL - SUBSTITUTION | C27: 53200 | D27: 0 | E27: 0 | F27: 0
A28: OTHER PROFESSIONAL - PARA-PROFESSIONAL/ASSOCIATE/ASSISTANT | C28: 53300 | D28: 0 | E28: 0 | F28: 0
A29: OTHER PROFESSIONAL - REGULAR PART-TIME | C29: 53500 | D29: 0 | E29: 0 | F29: 0
A30: TECHNICAL, CLERICAL, TRADE AND SERVICE | C30: 54000 | D30: 0 | E30: 0 | F30: 0
A31: TECHNICAL, CLERICAL, TRADE AND SERVICE - OVERTIME | C31: 54100 | D31: 0 | E31: 0 | F31: 0
A32: TECHNICAL, CLERICAL, TRADE AND SERVICE - REGULAR (PART-TIME) | C32: 54500 | D32: 0 | E32: 0 | F32: 0
... A34: OPS - INSTRUCTIONAL | C34: 56000 | D34: 0 | E34: 0 | F34: 0
A35: OPS - INSTRUCTIONAL/ADJUNCT INSTRUCTOR | C35: 56001 | D35: 0 | E35: 0 | F35: 0
A36: OPS - LIBRARIAN | C36: 56002 | D36: 0 | E36: 0 | F36: 0
A37: OPS - COUNSELOR | C37: 56003 | D37: 0 | E37: 0 | F37: 0
A38: OPS - PARA-PROFESSIONAL | C38: 56006 | D38: 0 | E38: 0 | F38: 0
A39: OPS - INSTRUCTIONAL SUBSTITUTES | C39: 56100 | D39: 357000 | E39: 0 | F39: 357000
A40: OPS - OTHER PROFESSIONAL PART-TIME | C40: 56500 | D40: 0 | E40: 0 | F40: 0
A41: OPS - TECHNICAL, CLERICAL, TRADE AND SERVICE | C41: 57000 | D41: 0 | E41: 0 | F41: 0
A42: STUDENT EMPLOYMENT - INSTITUTIONAL WORK STUDY | C42: 58000 | D42: 0 | E42: 0 | F42: 0
A43: STUDENT EMPLOYMENT - COLLEGE WORK STUDY PROGRAM | C43: 58100 | D43: 0 | E43: 0 | F43: 0
...

Sheet Miami Dade
A1: COLLEGE: | B1: Miami Dade College
A2: UPPER LEVEL PLANNED EXPENDITURES AND SOURCES OF FUNDS
A3: BACCALAUREATE DEGREE PROGRAM COLLEGE OPERATING BUDGET
A4: FISCAL YEAR 2026-27
A7: Enter amounts only for cells highlighted in light yellow. | C7: 2026-27
A8: PLANNED EXPENDITURES | C8: GENERAL LEDGER CODE | D8: UNRESTRICTED SOURCES | E8: RESTRICTED SOURCES | F8: TOTAL UNRESTRICTED AND RESTRICTED SOURCES
A9: PERSONNEL COSTS
A10: EXECUTIVE MANAGEMENT | C10: 51000 | D10: 0 | E10: 0 | F10: 0
A11: INSTRUCTIONAL MANAGEMENT | C11: 51100 | D11: 266993 | E11: 0 | F11: 266993
A12: INSTITUTIONAL MANAGEMENT | C12: 51200 | D12: 0 | E12: 0 | F12: 0
A13: EXECUTIVE, ADMINISTRATIVE, MANAGERIAL SABBATICAL | C13: 51400 | D13: 0 | E13: 0 | F13: 0
A14: EXECUTIVE, ADMINISTRATIVE, MANAGERIAL REGULAR PART-TIME | C14: 51500 | D14: 0 | E14: 0 | F14: 0
A15: INSTRUCTIONAL | C15: 52000 | D15: 3680386 | E15: 0 | F15: 3680386
A16: INSTRUCTIONAL - OVERLOAD/SUPPLEMENTAL | C16: 52100 | D16: 0 | E16: 0 | F16: 0
A17: INSTRUCTIONAL - SUBSTITUTION | C17: 52200 | D17: 0 | E17: 0 | F17: 0
A18: INSTRUCTIONAL - PARA-PROFESSIONAL/ASSOCIATE/ASSISTANT | C18: 52300 | D18: 0 | E18: 0 | F18: 0
A19: INSTRUCTIONAL - SABBATICAL | C19: 52400 | D19: 0 | E19: 0 | F19: 0
A20: INSTRUCTIONAL (PHASED RETIREMENT ) | C20: 52500 | D20: 0 | E20: 0 | F20: 0
A21: INSTRUCTIONAL (PHASED RETIREMENT ) - INSTRUCTOR/PROFESSOR | C21: 52501 | D21: 0 | E21: 0 | F21: 0
A22: INSTRUCTIONAL (PHASED RETIREMENT) - LIBRARIAN | C22: 52502 | D22: 0 | E22: 0 | F22: 0
A23: INSTRUCTIONAL (PHASED RETIREMENT) - COUNSELOR | C23: 52503 | D23: 0 | E23: 0 | F23: 0
A24: INSTRUCTIONAL (PHASED RETIREMENT) - REGULAR PART-TIME (FRS PARTICIPANT) | C24: 52504 | D24: 0 | E24: 0 | F24: 0
A25: OTHER PROFESSIONAL | C25: 53000 | D25: 566199 | E25: 0 | F25: 566199
A26: OTHER PROFESSIONAL - OVERLOAD/SUPPLEMENTAL | C26: 53100 | D26: 3100 | E26: 0 | F26: 3100
A27: OTHER PROFESSIONAL - SUBSTITUTION | C27: 53200 | D27: 0 | E27: 0 | F27: 0
A28: OTHER PROFESSIONAL - PARA-PROFESSIONAL/ASSOCIATE/ASSISTANT | C28: 53300 | D28: 0 | E28: 0 | F28: 0
A29: OTHER PROFESSIONAL - REGULAR PART-TIME | C29: 53500 | D29: 238709 | E29: 0 | F29: 238709
A30: TECHNICAL, CLERICAL, TRADE AND SERVICE | C30: 54000 | D30: 76555 | E30: 0 | F30: 76555
A31: TECHNICAL, CLERICAL, TRADE AND SERVICE - OVERTIME | C31: 54100 | D31: 204 | E31: 0 | F31: 204
A32: TECHNICAL, CLERICAL, TRADE AND SERVICE - REGULAR (PART-TIME) | C32: 54500 | D32: 35955 | E32: 0 | F32: 35955
... A34: OPS - INSTRUCTIONAL | C34: 56000 | D34: 0 | E34: 0 | F34: 0
A35: OPS - INSTRUCTIONAL/ADJUNCT INSTRUCTOR | C35: 56001 | D35: 0 | E35: 0 | F35: 0
A36: OPS - LIBRARIAN | C36: 56002 | D36: 0 | E36: 0 | F36: 0
A37: OPS - COUNSELOR | C37: 56003 | D37: 0 | E37: 0 | F37: 0
A38: OPS - PARA-PROFESSIONAL | C38: 56006 | D38: 0 | E38: 0 | F38: 0
A39: OPS - INSTRUCTIONAL SUBSTITUTES | C39: 56100 | D39: 0 | E39: 0 | F39: 0
A40: OPS - OTHER PROFESSIONAL PART-TIME | C40: 56500 | D40: 164734 | E40: 0 | F40: 164734
A41: OPS - TECHNICAL, CLERICAL, TRADE AND SERVICE | C41: 57000 | D41: 63889 | E41: 0 | F41: 63889
A42: STUDENT EMPLOYMENT - INSTITUTIONAL WORK STUDY | C42: 58000 | D42: 0 | E42: 0 | F42: 0
A43: STUDENT EMPLOYMENT - COLLEGE WORK STUDY PROGRAM | C43: 58100 | D43: 0 | E43: 0 | F43: 0
...

Sheet North Florida
A1: COLLEGE: | B1: North Florida College
A2: UPPER LEVEL PLANNED EXPENDITURES AND SOURCES OF FUNDS
A3: BACCALAUREATE DEGREE PROGRAM COLLEGE OPERATING BUDGET
A4: FISCAL YEAR 2026-27
A7: Enter amounts only for cells highlighted in light yellow. | C7: 2026-27
A8: PLANNED EXPENDITURES | C8: GENERAL LEDGER CODE | D8: UNRESTRICTED SOURCES | E8: RESTRICTED SOURCES | F8: TOTAL UNRESTRICTED AND RESTRICTED SOURCES
A9: PERSONNEL COSTS
A10: EXECUTIVE MANAGEMENT | C10: 51000 | D10: 0 | E10: 0 | F10: 0
A11: INSTRUCTIONAL MANAGEMENT | C11: 51100 | D11: 42532 | E11: 0 | F11: 42532
A12: INSTITUTIONAL MANAGEMENT | C12: 51200 | D12: 0 | E12: 0 | F12: 0
A13: EXECUTIVE, ADMINISTRATIVE, MANAGERIAL SABBATICAL | C13: 51400 | D13: 0 | E13: 0 | F13: 0
A14: EXECUTIVE, ADMINISTRATIVE, MANAGERIAL REGULAR PART-TIME | C14: 51500 | D14: 0 | E14: 0 | F14: 0
A15: INSTRUCTIONAL | C15: 52000 | D15: 210515 | E15: 0 | F15: 210515
A16: INSTRUCTIONAL - OVERLOAD/SUPPLEMENTAL | C16: 52100 | D16: 30000 | E16: 0 | F16: 30000
A17: INSTRUCTIONAL - SUBSTITUTION | C17: 52200 | D17: 0 | E17: 0 | F17: 0
A18: INSTRUCTIONAL - PARA-PROFESSIONAL/ASSOCIATE/ASSISTANT | C18: 52300 | D18: 0 | E18: 0 | F18: 0
A19: INSTRUCTIONAL - SABBATICAL | C19: 52400 | D19: 0 | E19: 0 | F19: 0
A20: INSTRUCTIONAL (PHASED RETIREMENT ) | C20: 52500 | D20: 0 | E20: 0 | F20: 0
A21: INSTRUCTIONAL (PHASED RETIREMENT ) - INSTRUCTOR/PROFESSOR | C21: 52501 | D21: 0 | E21: 0 | F21: 0
A22: INSTRUCTIONAL (PHASED RETIREMENT) - LIBRARIAN | C22: 52502 | D22: 0 | E22: 0 | F22: 0
A23: INSTRUCTIONAL (PHASED RETIREMENT) - COUNSELOR | C23: 52503 | D23: 0 | E23: 0 | F23: 0
A24: INSTRUCTIONAL (PHASED RETIREMENT) - REGULAR PART-TIME (FRS PARTICIPANT) | C24: 52504 | D24: 0 | E24: 0 | F24: 0
A25: OTHER PROFESSIONAL | C25: 53000 | D25: 0 | E25: 0 | F25: 0
A26: OTHER PROFESSIONAL - OVERLOAD/SUPPLEMENTAL | C26: 53100 | D26: 0 | E26: 0 | F26: 0
A27: OTHER PROFESSIONAL - SUBSTITUTION | C27: 53200 | D27: 0 | E27: 0 | F27: 0
A28: OTHER PROFESSIONAL - PARA-PROFESSIONAL/ASSOCIATE/ASSISTANT | C28: 53300 | D28: 0 | E28: 0 | F28: 0
A29: OTHER PROFESSIONAL - REGULAR PART-TIME | C29: 53500 | D29: 0 | E29: 0 | F29: 0
A30: TECHNICAL, CLERICAL, TRADE AND SERVICE | C30: 54000 | D30: 0 | E30: 0 | F30: 0
A31: TECHNICAL, CLERICAL, TRADE AND SERVICE - OVERTIME | C31: 54100 | D31: 0 | E31: 0 | F31: 0
A32: TECHNICAL, CLERICAL, TRADE AND SERVICE - REGULAR (PART-TIME) | C32: 54500 | D32: 0 | E32: 0 | F32: 0
... A34: OPS - INSTRUCTIONAL | C34: 56000 | D34: 49000 | E34: 0 | F34: 49000
A35: OPS - INSTRUCTIONAL/ADJUNCT INSTRUCTOR | C35: 56001 | D35: 0 | E35: 0 | F35: 0
A36: OPS - LIBRARIAN | C36: 56002 | D36: 0 | E36: 0 | F36: 0
A37: OPS - COUNSELOR | C37: 56003 | D37: 0 | E37: 0 | F37: 0
A38: OPS - PARA-PROFESSIONAL | C38: 56006 | D38: 0 | E38: 0 | F38: 0
