Workbook
Name ARRA: [1]List!$C$1:$C$2
Name Credit_Resident_Tuition_per_Credit_Hour: '20-21 Exemptions & Waivers'!$K$11
Name Out_Of_State_Fee_per_Credit_Hour: '20-21 Exemptions & Waivers'!$L$11
Name RD: [2]List!$A$1:$A$2
Name Resident_Tuition_per_Credit_Hour: '20-21 Exemptions & Waivers'!$K$11
Name SOF: [2]List!$B$1:$B$4
Name YesOrNo: #REF!

Sheet Instructions
A1: Double click on document to view all three pages of instructions.

Sheet 20-21 Exemptions & Waivers
A1: SELECT COLLEGE NAME
A2: Summary of Student Fee Exemptions and Waivers
A3: For the 2020-2021 Fiscal Year | H3: Data Validation:
D5: Version: | E5: 2021.v01
H6: Where feasible to check, | K6: Tuition & Fee Rates for Reference / Validation:
A7: Title | B7: Authority | C7: Unduplicated | D7: SSH/ | E7: Amount | H7: cells are set to red flag if | K7: Resident Tuition | L7: Out-Of-State | M7: Resident | N7: Non-resident | O7: Expected Range
C8: Headcount | D8: CHE | H8: outside +/- 5% from | K8: per Credit Hour | L8: Fee per | M8: Tuition & Fees | N8: Tuition & Fees
A9: EXEMPTIONS: | H9: published rates | L9: Credit Hour | M9: per Credit Hour | N9: per Credit Hour
A10: 54 FTE Exemption Authority (Maximum of 54 FTE or 1% of Total FTE) | B10: § 1009.25(2), F.S. | F10: Unlocked Work Area | H10: Amount per Credit Hour:
A11: Tuition only, do not include fees | B11: FTE check: | C11: 0 | D11: 0 | E11: 0 | F11: Use resident rates | H11: =E11/D11 -> #DIV/0!
A12: Out-of-State Fees | B12: =D11/30 -> 0 | C12: 0 | D12: 0 | E12: 0 | F12: Document students | H12: =E12/D11 -> #DIV/0! | J12: Credit Programs | K12: =VLOOKUP($A$1,Data!$C$4:$J$32,5,FALSE) -> Credit Resident Tuition per Credit Hour | L12: =VLOOKUP($A$1,Data!$C$4:$J$32,6,FALSE) -> Credit Out-Of-State Fee per Credit Hour | M12: =VLOOKUP($A$1,Data!$C$4:$J$32,7,FALSE) -> Credit Resident Tuition & Fees per Credit Hour | N12: =VLOOKUP($A$1,Data!$C$4:$J$32,8,FALSE) -> Credit Non-resident Tuition & Fees per Credit Hour | O12: Published Rate
A13: FCS institution student fees per F.S. 1009.23 | B13: ="(Max of: "&Data!F2&" FTE)" -> (Max of: Max of 54 or 1% of FTE FTE) | C13: 0 | D13: 0 | E13: 0 | F13: displaced by Hurricane | H13: =E13/D11 -> #DIV/0! | J13: Credit Programs | K13: =$O$13*K12 -> #VALUE! | L13: =$O$13*L12 -> #VALUE! | M13: =$O$13*M12 -> #VALUE! | N13: =$O$13*N12 -> #VALUE! | O13: 0.95
A14: TOTAL 54 FTE or 1% FTE EXEMPTION | C14: =C11 -> 0 | D14: =SUM(D11:D12) -> 0 | E14: =SUM(E11:E13) -> 0 | F14: Dorian in the work area. | H14: =E14/D14 -> #DIV/0! | J14: Credit Programs | K14: =$O$14*K12 -> #VALUE! | L14: =$O$14*L12 -> #VALUE! | M14: =$O$14*M12 -> #VALUE! | N14: =$O$14*N12 -> #VALUE! | O14: 1.05
A15: Dual Enrollment (Provide additional information in working space below) | B15: § 1009.25(1)(a), F.S. | C15: =VLOOKUP($A$1,Data!$C$4:$BT$32,18,FALSE) -> Dual Enrolled | D15: =VLOOKUP($A$1,Data!$C$4:$BT$32,46,FALSE) -> Dual Enrolled | E15: 0 | F15: Use resident rates; Report Dual Enrollment using the same methodology for determining the exemption amount as done in previous years. The new standard tuition being charged to school districts does not impact the amount exempted for the student. | H15: =E15/D15 -> #VALUE!
A16: Apprenticeship | B16: § 1009.25(1)(b), F.S. | C16: =VLOOKUP($A$1,Data!$C$4:$BT$32,19,FALSE) -> Apprentice | D16: =VLOOKUP($A$1,Data!$C$4:$BT$32,47,FALSE) -> Apprentice | E16: 0 | H16: =E16/D16 -> #VALUE! | J16: PSAV Programs | K16: =VLOOKUP($A$1,Data!$C$4:$N$32,9,FALSE) -> PSAV Resident Tuition per Credit Hour | L16: =VLOOKUP($A$1,Data!$C$4:$N$32,10,FALSE) -> PSAV Out-Of-State Fee per Credit Hour | M16: =VLOOKUP($A$1,Data!$C$4:$N$32,11,FALSE) -> PSAV Resident Tuition & Fees per Credit Hour | N16: =VLOOKUP($A$1,Data!$C$4:$N$32,12,FALSE) -> PSAV Non-resident Tuition & Fees per Credit Hour | O16: Published Rate
A17: Custody of Dept. of Children and Families | B17: § 1009.25(1)(c), F.S. | C17: =VLOOKUP($A$1,Data!$C$4:$BT$32,22,FALSE) -> Custody of DCF | D17: =VLOOKUP($A$1,Data!$C$4:$BT$32,50,FALSE) -> Road To Independ. | E17: 0 | F17: Use resident rates | H17: =E17/D17 -> #VALUE! | J17: PSAV Programs | K17: =$O$17*K16 -> #VALUE! | L17: =$O$17*L16 -> #VALUE! | M17: =$O$17*M16 -> #VALUE! | N17: =$O$17*N16 -> #VALUE! | O17: 0.95
A18: Custody of a Relative | B18: § 1009.25(1)(d), F.S. | C18: =VLOOKUP($A$1,Data!$C$4:$BT$32,23,FALSE) -> Relative Caregiver | D18: =VLOOKUP($A$1,Data!$C$4:$BT$32,51,FALSE) -> Relative Caregiver | E18: 0 | F18: Use resident rates | H18: =E18/D18 -> #VALUE! | J18: PSAV Programs | K18: =$O$18*K16 -> #VALUE! | L18: =$O$18*L16 -> #VALUE! | M18: =$O$18*M16 -> #VALUE! | N18: =$O$18*N16 -> #VALUE! | O18: 1.05
A19: Adopted from Dept. of Children and Family Services after 05/05/1997 | B19: § 1009.25(1)(d), F.S. | C19: =VLOOKUP($A$1,Data!$C$4:$BT$32,24,FALSE) -> Adopted From DCFS | D19: =VLOOKUP($A$1,Data!$C$4:$BT$32,52,FALSE) -> Adopted From DCFS | E19: 0 | F19: Use resident rates | H19: =E19/D19 -> #VALUE!
A20: Guardian Assistance Program | B20: § 1009.25(1)(d), F.S. | C20: =VLOOKUP($A$1,Data!$C$4:$BT$32,39,FALSE) -> Guardianship Assistance Program Waiver | D20: =VLOOKUP($A$1,Data!$C$4:$BT$32,66,FALSE) -> Guardianship Assistance Program Waiver | E20: 0 | H20: =E20/D20 -> #VALUE! | J20: Baccalaureate | K20: =VLOOKUP($A$1,Data!$C$4:$R$32,13,FALSE) -> Baccalaureate Resident Tutition per Credit Hour | L20: =VLOOKUP($A$1,Data!$C$4:$R$32,14,FALSE) -> Baccalaureate Out-Of-State Fee per Credit Hour | M20: =VLOOKUP($A$1,Data!$C$4:$R$32,15,FALSE) -> Baccalaureate Resident Tutition & Fees per Credit Hour | N20: =VLOOKUP($A$1,Data!$C$4:$R$32,16,FALSE) -> Baccalaureate Non-Resident Tutition & Fees per Credit Hour | O20: Published Rate
A21: Welfare Transition Program | B21: § 1009.25(1)(e), F.S. | C21: =VLOOKUP($A$1,Data!$C$4:$BT$32,42,FALSE) -> Welfare Transition Program Waiver | D21: =VLOOKUP($A$1,Data!$C$4:$BT$32,69,FALSE) -> Welfare Transition Program Waiver | E21: 0 | H21: =E21/D21 -> #VALUE! | J21: Baccalaureate | K21: =$O$21*K20 -> #VALUE! | L21: =$O$21*L20 -> #VALUE! | M21: =$O$21*M20 -> #VALUE! | N21: =$O$21*N20 -> #VALUE! | O21: 0.95
A22: Homeless | B22: § 1009.25(1)(f), F.S. | C22: =VLOOKUP($A$1,Data!$C$4:$BT$32,21,FALSE) -> Homeless | D22: =VLOOKUP($A$1,Data!$C$4:$BT$32,49,FALSE) -> Homeless | E22: 0 | F22: Use resident rates | H22: =E22/D22 -> #VALUE! | J22: Baccalaureate | K22: =$O$22*K20 -> #VALUE! | L22: =$O$22*L20 -> #VALUE! | M22: =$O$22*M20 -> #VALUE! | N22: =$O$22*N20 -> #VALUE! | O22: 1.05
A23: Child Protection and Child Welfare Personnel | B23: § 1009.25(1)(h), F.S. | C23: =VLOOKUP($A$1,Data!$C$4:$BT$32,35,FALSE) -> Child Protection and Child Welfare Personnel | D23: =VLOOKUP($A$1,Data!$C$4:$BT$32,62,FALSE) -> Child Protection and Child Welfare Personnel | E23: 0 | H23: =E23/D23 -> #VALUE!
A24: Children or Spouses of Law Enforcement, Correctional, or Probation Officer | B24: § 112.19(3), F.S. | C24: =VLOOKUP($A$1,Data!$C$4:$BT$32,26,FALSE) -> Child or Spouse of Law Officers Killed on Duty | D24: =VLOOKUP($A$1,Data!$C$4:$BT$32,54,FALSE) -> Child or Spouse of Law Officers Killed on Duty | E24: 0 | F24: Use resident rates | H24: =E24/D24 -> #VALUE! | J24: If you fall outside the +/- 5% threshold for any line item (red-flagged),
A25: Children or Spouses of Firefighters | B25: § 112.191(3), F.S. | C25: =VLOOKUP($A$1,Data!$C$4:$BT$32,27,FALSE) -> Child or Spouse of Fire Fighters Killed on Duty | D25: =VLOOKUP($A$1,Data!$C$4:$BT$32,55,FALSE) -> Child or Spouse of Fire Fighters Killed on Duty | E25: 0 | F25: Use resident rates | H25: =E25/D25 -> #VALUE! | J25: please provide an explanation in the unlocked work area beside each amount.
A26: Children or Spouses of Emergency Medical Technicians and Paramedics | B26: § 112.1912(2)(a), F.S. | C26: =VLOOKUP($A$1,Data!$C$4:$BT$32,36,FALSE) -> Child or Spouse of Emergency Medical Tech or Paramedic Killed in the Line of Duty | D26: =VLOOKUP($A$1,Data!$C$4:$BT$32,63,FALSE) -> Child or Spouse of Emergency Medical Tech or Paramedic Killed in the Line of Duty | E26: 0 | F26: Use resident rates | H26: =E26/D26 -> #VALUE!
A27: Children or Spouses of Active Duty Military | B27: § 295.061(8)(a), F.S. | C27: =VLOOKUP($A$1,Data!$C$4:$BT$32,37,FALSE) -> Child or Spouse of Active Duty Military Member Killed in the Line of Duty | D27: =VLOOKUP($A$1,Data!$C$4:$BT$32,64,FALSE) -> Child or Spouse of Active Duty Military Member Killed in the Line of Duty | E27: 0 | F27: Use resident rates | H27: =E27/D27 -> #VALUE!
A28: Children or Spouses of Florida National Guard | B28: § 250.34(4), F.S. | C28: 0 | D28: 0 | E28: 0 | F28: Use resident rates | H28: =E28/D28 -> #DIV/0!
A29: Dependents of Teachers or School Administrators | B29: § 112.1915(3)(d), F.S. | C29: =VLOOKUP($A$1,Data!$C$4:$BT$32,40,FALSE) -> Child of Deceased Teachers or School Administrators | D29: =VLOOKUP($A$1,Data!$C$4:$BT$32,67,FALSE) -> Child of Deceased Teachers or School Administrators | E29: 0 | F29: Use resident rates | H29: =E29/D29 -> #VALUE!
A30: Other Exemptions (Please itemize details in working space below) | C30: 0 | D30: 0 | E30: 0 | H30: =E30/D30 -> #DIV/0!
A31: TOTAL OTHER EXEMPTIONS (Excluding 54 FTE Exemption) | C31: =SUM(C15:C30) -> 0 | D31: =SUM(D15:D30) -> 0 | E31: =SUM(E15:E30) -> 0 | H31: =E31/D31 -> #DIV/0! | J31: Fees included above for columns M & N include:
A32: WAIVERS: | J32: Student Financial Aid Fee
A33: 8 Percent Workforce Developmental Education | B33: § 1009.26(1), F.S./G.A.A. Proviso | C33: =VLOOKUP($A$1,Data!$C$4:$BT$32,17,FALSE) -> Vocational Waiver | D33: =VLOOKUP($A$1,Data!$C$4:$BT$32,45,FALSE) -> Vocational Waiver | E33: 0 | H33: =E33/D33 -> #VALUE! | J33: Student Activity Fee
A34: College Employees or their Dependents | B34: § 1009.26(1), F.S. | C34: =VLOOKUP($A$1,Data!$C$4:$BT$32,41,FALSE) -> College Employees or their Dependents | D34: =VLOOKUP($A$1,Data!$C$4:$BT$32,68,FALSE) -> College Employees or their Dependents | E34: 0 | H34: =E34/D34 -> #VALUE! | J34: Capital Improvement Fee
A35: Purple Hearts | B35: § 1009.26(8), F.S. | C35: =VLOOKUP($A$1,Data!$C$4:$BT$32,28,FALSE) -> Purple Heart Recipients | D35: =VLOOKUP($A$1,Data!$C$4:$BT$32,56,FALSE) -> Purple Heart Recipients | E35: 0 | H35: =E35/D35 -> #VALUE! | J35: Technology Fee
A36: Certain Classroom Teachers | B36: § 1009.26(10), F.S. | C36: =VLOOKUP($A$1,Data!$C$4:$BT$32,30,FALSE) -> Public School Classroom Teacher | D36: =VLOOKUP($A$1,Data!$C$4:$BT$32,58,FALSE) -> Public School Classroom Teacher | E36: 0 | H36: =E36/D36 -> #VALUE!
A37: State Employee Waivers | B37: § 1009.265, F.S. | C37: =VLOOKUP($A$1,Data!$C$4:$BT$32,20,FALSE) -> State Employee | D37: =VLOOKUP($A$1,Data!$C$4:$BT$32,48,FALSE) -> State Employee | E37: 0 | H37: =E37/D37 -> #VALUE!
A38: Wrongfully Incarcerated Persons | B38: § 961.06(1)(b), F.S. | C38: =VLOOKUP($A$1,Data!$C$4:$BT$32,29,FALSE) -> Victim Wrongful Incarceration | D38: =VLOOKUP($A$1,Data!$C$4:$BT$32,57,FALSE) -> Victim Wrongful Incarceration | E38: 0 | F38: Use resident rates | H38: =E38/D38 -> #VALUE! | J38: Other fees such as lab fees, parking, etc. may cause amounts
A39: Spouses of Deceased State Employees | B39: §§ 1009.26(7), 440.16(1)(c), F.S. | C39: =VLOOKUP($A$1,Data!$C$4:$BT$32,25,FALSE) -> Spouses of Deceased St.Empl. | D39: =VLOOKUP($A$1,Data!$C$4:$BT$32,53,FALSE) -> Spouses of Deceased St.Empl. | E39: 0 | H39: =E39/D39 -> #VALUE! | J39: per credit hour to average higher than the rates posted above.
A40: Linkage Institutes | B40: § 288.8175(5), F.S. | C40: =VLOOKUP($A$1,Data!$C$4:$BT$32,43,FALSE) -> Linkage Institutes | D40: =VLOOKUP($A$1,Data!$C$4:$BT$32,70,FALSE) -> Linkage Institutes | E40: 0 | H40: =E40/D40 -> #VALUE!
A41: $10,000 Degree Waiver | B41: § 1009.26(11), F.S. | C41: =VLOOKUP($A$1,Data!$C$4:$BT$32,32,FALSE) -> Baccalaureate 10K Fee Waiver | D41: =VLOOKUP($A$1,Data!$C$4:$BT$32,60,FALSE) -> Baccalaureate $10K | E41: 0 | H41: =E41/D41 -> #VALUE! | J41: Some categories may include blended student populations between credit
...

Sheet Data
E2: Max of 54 or 1% of Total FTE: | F2: =VLOOKUP('20-21 Exemptions & Waivers'!A1,Data!C4:F32,4,FALSE) -> Max of 54 or 1% of FTE | G2: Use Fees for Fall 2020-21 | AF2: HEADCOUNTS | BH2: CREDIT HOURS
C3: 1 | D3: 2 | E3: 3 | F3: 4 | G3: 5 | H3: 6 | I3: 7 | J3: 8 | K3: 9 | L3: 10 | M3: 11 | N3: 12 | O3: 13 | P3: 14 | Q3: 15 | R3: 16 | S3: 17 | T3: 18 | U3: 19 | V3: 20 | W3: 21 | X3: 22 | Y3: 23 | Z3: 24 | AA3: 25 | AB3: 26 | AC3: 27 | AD3: 28 | AE3: 29 | AF3: 30 | AG3: 31 | AH3: 32 | AI3: 33 | AJ3: 34 | AK3: 35 | AL3: 36 | AM3: 37 | AN3: 38 | AO3: 39 | AP3: 40 | AQ3: 41 | AR3: 42 | AS3: 43 | AT3: 44 | AU3: 45 | AV3: 46 | AW3: 47 | AX3: 48 | AY3: 49 | AZ3: 50 | BA3: 51 | BB3: 52 | BC3: 53 | BD3: 54 | BE3: 55 | BF3: 56 | BG3: 57 | BH3: 58 | BI3: 59 | BJ3: 60 | BK3: 61 | BL3: 62 | BM3: 63 | BN3: 64 | BO3: 65 | BP3: 66 | BQ3: 67 | BR3: 68 | BS3: 69 | BT3: 70 | BU3: 71
C4: SELECT COLLEGE NAME | D4: Total FTE-3 | E4: 1% of FTE | F4: Max of 54 or 1% of FTE | G4: Credit Resident Tuition per Credit Hour | H4: Credit Out-Of-State Fee per Credit Hour | I4: Credit Resident Tuition & Fees per Credit Hour | J4: Credit Non-resident Tuition & Fees per Credit Hour | K4: PSAV Resident Tuition per Credit Hour | L4: PSAV Out-Of-State Fee per Credit Hour | M4: PSAV Resident Tuition & Fees per Credit Hour | N4: PSAV Non-resident Tuition & Fees per Credit Hour | O4: Baccalaureate Resident Tutition per Credit Hour | P4: Baccalaureate Out-Of-State Fee per Credit Hour | Q4: Baccalaureate Resident Tutition & Fees per Credit Hour | R4: Baccalaureate Non-Resident Tutition & Fees per Credit Hour | S4: Vocational Waiver | T4: Dual Enrolled | U4: Apprentice | V4: State Employee | W4: Homeless | X4: Custody of DCF | Y4: Relative Caregiver | Z4: Adopted From DCFS | AA4: Spouses of Deceased St.Empl. | AB4: Child or Spouse of Law Officers Killed on Duty | AC4: Child or Spouse of Fire Fighters Killed on Duty | AD4: Purple Heart Recipients | AE4: Victim Wrongful Incarceration | AF4: Public School Classroom Teacher | AG4: Upper Division Non-Resident | AH4: Baccalaureate 10K Fee Waiver | AI4: Unauthorized Waivers | AJ4: Active Duty Military Assistance Program | AK4: Child Protection and Child Welfare Personnel | AL4: Child or Spouse of Emergency Medical Tech or Paramedic Killed in the Line of Duty | AM4: Child or Spouse of Active Duty Military Member Killed in the Line of Duty | AN4: College Discretionary FTE Exemption | AO4: Guardianship Assistance Program Waiver | AP4: Child of Deceased Teachers or School Administrators | AQ4: College Employees or their Dependents | AR4: Welfare Transition Program Waiver | AS4: Linkage Institutes | AT4: Child or Spouse of National Guard Member Killed in the Line of Duty | AU4: Vocational Waiver | AV4: Dual Enrolled | AW4: Apprentice | AX4: State Employee | AY4: Homeless | AZ4: Road To Independ. | BA4: Relative Caregiver | BB4: Adopted From DCFS | BC4: Spouses of Deceased St.Empl. | BD4: Child or Spouse of Law Officers Killed on Duty | BE4: Child or Spouse of Fire Fighters Killed on Duty | BF4: Purple Heart Recipients | BG4: Victim Wrongful Incarceration | BH4: Public School Classroom Teacher | BI4: Upper Division Non-Resident | BJ4: Baccalaureate $10K | BK4: Active Duty Military Assistance Program | BL4: Child Protection and Child Welfare Personnel | BM4: Child or Spouse of Emergency Medical Tech or Paramedic Killed in the Line of Duty | BN4: Child or Spouse of Active Duty Military Member Killed in the Line of Duty | BO4: College Discretionary FTE Exemption | BP4: Guardianship Assistance Program Waiver | BQ4: Child of Deceased Teachers or School Administrators | BR4: College Employees or their Dependents | BS4: Welfare Transition Program Waiver | BT4: Linkage Institutes | BU4: Child or Spouse of Florida National Guard Member Killed in the Line of Duty
B5: 1 | C5: Eastern Florida State College | D5: 9941.6 | E5: =D5*0.01 -> 99.416 | F5: =MAX(54,E5) -> 99.416 | G5: 78.84 | H5: 236.69 | I5: 104 | J5: 405.76 | K5: 69.6 | L5: 209.7 | M5: 76.8 | N5: 307.5 | O5: 91.79 | P5: 292.63 | Q5: 128.51 | R5: 508.92 | S5: 0 | T5: 3624 | U5: 0 | V5: 35 | W5: 9 | X5: 33 | Y5: 15 | Z5: 71 | AA5: 0 | AB5: 1 | AC5: 0 | AD5: 3 | AE5: 0 | AF5: 1 | AG5: 12 | AH5: 0 | AI5: 0 | AJ5: 0 | AK5: 0 | AL5: 0 | AM5: 0 | AN5: 0 | AO5: 2 | AP5: 0 | AQ5: 0 | AR5: 0 | AS5: 2 | AT5: 0 | AU5: 0 | AV5: 59895 | AW5: 0 | AX5: 285 | AY5: 125 | AZ5: 539.7 | BA5: 242 | BB5: 1296 | BC5: 0 | BD5: 3 | BE5: 0 | BF5: 41 | BG5: 0 | BH5: 8 | BI5: 106 | BJ5: 0 | BK5: 0 | BL5: 0 | BM5: 0 | BN5: 0 | BO5: 0 | BP5: 18 | BQ5: 0 | BR5: 546 | BS5: 0 | BT5: 30 | BU5: 0
B6: 2 | C6: Broward College | D6: 24405.4 | E6: =D6*0.01 -> 244.054 | F6: =MAX(54,E6) -> 244.054 | G6: 82 | H6: 226.4 | I6: 111.9 | J6: 367 | K6: 73.4 | L6: 209.75 | M6: 84.35 | N6: 325.6 | O6: 91.79 | P6: 384.72 | Q6: 124.89 | R6: 583.45 | S6: 0 | T6: 6001 | U6: 0 | V6: 89 | W6: 120 | X6: 250 | Y6: 29 | Z6: 74 | AA6: 0 | AB6: 1 | AC6: 0 | AD6: 1 | AE6: 0 | AF6: 0 | AG6: 104 | AH6: 0 | AI6: 0 | AJ6: 0 | AK6: 0 | AL6: 0 | AM6: 0 | AN6: 0 | AO6: 0 | AP6: 0 | AQ6: 0 | AR6: 0 | AS6: 6 | AT6: 0 | AU6: 0 | AV6: 65198 | AW6: 0 | AX6: 586 | AY6: 1680 | AZ6: 3495 | BA6: 398 | BB6: 1105 | BC6: 0 | BD6: 18 | BE6: 0 | BF6: 8 | BG6: 0 | BH6: 0 | BI6: 1176 | BJ6: 0 | BK6: 0 | BL6: 0 | BM6: 0 | BN6: 0 | BO6: 0 | BP6: 0 | BQ6: 0 | BR6: 0 | BS6: 0 | BT6: 107 | BU6: 0
B7: 3 | C7: College of Central Florida | D7: 4514.7 | E7: =D7*0.01 -> 45.147 | F7: =MAX(54,E7) -> 54 | G7: 82.78 | H7: 248.34 | I7: 112.92 | J7: 438.2 | K7: 74.46 | L7: 223.38 | M7: 89.35 | N7: 357.4 | O7: 95.45 | P7: 353.16 | Q7: 129.27 | R7: 591.39 | S7: 0 | T7: 1429 | U7: 0 | V7: 48 | W7: 4 | X7: 48 | Y7: 0 | Z7: 39 | AA7: 0 | AB7: 0 | AC7: 0 | AD7: 2 | AE7: 0 | AF7: 0 | AG7: 54 | AH7: 0 | AI7: 0 | AJ7: 0 | AK7: 0 | AL7: 0 | AM7: 0 | AN7: 0 | AO7: 0 | AP7: 0 | AQ7: 0 | AR7: 0 | AS7: 0 | AT7: 0 | AU7: 0 | AV7: 20793 | AW7: 0 | AX7: 417 | AY7: 63 | AZ7: 723 | BA7: 0 | BB7: 635 | BC7: 0 | BD7: 0 | BE7: 0 | BF7: 28 | BG7: 0 | BH7: 0 | BI7: 673 | BJ7: 0 | BK7: 0 | BL7: 0 | BM7: 0 | BN7: 0 | BO7: 0 | BP7: 0 | BQ7: 0 | BR7: 0 | BS7: 0 | BT7: 0 | BU7: 0
B8: 4 | C8: Chipola College | D8: 1350.3 | E8: =D8*0.01 -> 13.503 | F8: =MAX(54,E8) -> 54 | G8: 78.84 | H8: 194.35 | I8: 102 | J8: 296.35 | K8: 69.9 | L8: 199.8 | M8: 76.5 | N8: 276.3 | O8: 91.79 | P8: 194.35 | Q8: 115 | R8: 309.35 | S8: 0 | T8: 655 | U8: 0 | V8: 9 | W8: 0 | X8: 4 | Y8: 9 | Z8: 16 | AA8: 0 | AB8: 0 | AC8: 0 | AD8: 0 | AE8: 0 | AF8: 0 | AG8: 4 | AH8: 0 | AI8: 0 | AJ8: 0 | AK8: 0 | AL8: 0 | AM8: 0 | AN8: 0 | AO8: 0 | AP8: 0 | AQ8: 0 | AR8: 0 | AS8: 0 | AT8: 0 | AU8: 0 | AV8: 8169 | AW8: 0 | AX8: 51 | AY8: 0 | AZ8: 77 | BA8: 167 | BB8: 355.4 | BC8: 0 | BD8: 0 | BE8: 0 | BF8: 0 | BG8: 0 | BH8: 0 | BI8: 75 | BJ8: 0 | BK8: 0 | BL8: 0 | BM8: 0 | BN8: 0 | BO8: 0 | BP8: 0 | BQ8: 0 | BR8: 0 | BS8: 0 | BT8: 0 | BU8: 0
B9: 5 | C9: Daytona State College | D9: 10244.6 | E9: =D9*0.01 -> 102.446 | F9: =MAX(54,E9) -> 102.446 | G9: 79.22 | H9: 231.96 | I9: 102.38 | J9: 398.65 | K9: 68.53 | L9: 207.56 | M9: 82.24 | N9: 328.96 | O9: 91.79 | P9: 458.64 | Q9: 120.32 | R9: 623.29 | S9: 7 | T9: 3256 | U9: 328 | V9: 59 | W9: 68 | X9: 58 | Y9: 26 | Z9: 130 | AA9: 0 | AB9: 0 | AC9: 0 | AD9: 1 | AE9: 0 | AF9: 0 | AG9: 42 | AH9: 0 | AI9: 0 | AJ9: 0 | AK9: 0 | AL9: 0 | AM9: 0 | AN9: 0 | AO9: 0 | AP9: 0 | AQ9: 0 | AR9: 0 | AS9: 0 | AT9: 0 | AU9: 64.1 | AV9: 43617.2 | AW9: 17720.4 | AX9: 607 | AY9: 1029.5 | AZ9: 808.5 | BA9: 435 | BB9: 1980 | BC9: 0 | BD9: 0 | BE9: 0 | BF9: 21 | BG9: 0 | BH9: 0 | BI9: 504 | BJ9: 0 | BK9: 0 | BL9: 0 | BM9: 0 | BN9: 0 | BO9: 0 | BP9: 0 | BQ9: 0 | BR9: 0 | BS9: 0 | BT9: 0 | BU9: 0
B10: 6 | C10: Florida SouthWestern State College | D10: 9802 | E10: =D10*0.01 -> 98.02 | F10: =MAX(54,E10) -> 98.02 | G10: 81.21 | H10: 243.79 | I10: 111.36 | J10: 430.63 | K10: 72.03 | L10: 216.08 | M10: 82.85 | N10: 331.34 | O10: 91.79 | P10: 511.41 | Q10: 123.71 | R10: 793.34 | S10: 0 | T10: 2923 | U10: 0 | V10: 55 | W10: 9 | X10: 0 | Y10: 0 | Z10: 142 | AA10: 0 | AB10: 0 | AC10: 0 | AD10: 1 | AE10: 0 | AF10: 0 | AG10: 6 | AH10: 0 | AI10: 350 | AJ10: 0 | AK10: 0 | AL10: 0 | AM10: 0 | AN10: 328 | AO10: 0 | AP10: 0 | AQ10: 0 | AR10: 0 | AS10: 0 | AT10: 0 | AU10: 0 | AV10: 42653 | AW10: 0 | AX10: 471 | AY10: 161 | AZ10: 0 | BA10: 0 | BB10: 2245 | BC10: 0 | BD10: 0 | BE10: 0 | BF10: 6 | BG10: 0 | BH10: 0 | BI10: 104 | BJ10: 0 | BK10: 0 | BL10: 0 | BM10: 0 | BN10: 0 | BO10: 3456 | BP10: 0 | BQ10: 0 | BR10: 699 | BS10: 0 | BT10: 0 | BU10: 0
B11: 7 | C11: Florida State College at Jacksonville | D11: 15457.2 | E11: =D11*0.01 -> 154.572 | F11: =MAX(54,E11) -> 154.572 | G11: 82.78 | H11: 248.33 | I11: 104.88 | J11: 401.27 | K11: 73.2 | L11: 219.6 | M11: 87.6 | N11: 350.64 | O11: 91.79 | P11: 239.32 | Q11: 116.52 | R11: 401.27 | S11: 0 | T11: 3919 | U11: 0 | V11: 0 | W11: 19 | X11: 274 | Y11: 0 | Z11: 0 | AA11: 0 | AB11: 0 | AC11: 0 | AD11: 3 | AE11: 0 | AF11: 0 | AG11: 85 | AH11: 0 | AI11: 0 | AJ11: 329 | AK11: 0 | AL11: 0 | AM11: 0 | AN11: 58 | AO11: 0 | AP11: 0 | AQ11: 0 | AR11: 0 | AS11: 6 | AT11: 0 | AU11: 0 | AV11: 35721.4 | AW11: 0 | AX11: 0 | AY11: 202.3 | AZ11: 4116.9 | BA11: 0 | BB11: 0 | BC11: 0 | BD11: 0 | BE11: 0 | BF11: 26 | BG11: 0 | BH11: 0 | BI11: 917 | BJ11: 0 | BK11: 2953.8 | BL11: 0 | BM11: 0 | BN11: 0 | BO11: 1338.7 | BP11: 0 | BQ11: 0 | BR11: 0 | BS11: 0 | BT11: 113 | BU11: 0
B12: 8 | C12: The College of the Florida Keys | D12: 789.3 | E12: =D12*0.01 -> 7.893 | F12: =MAX(54,E12) -> 54 | G12: 82.78 | H12: 248.33 | I12: 109.22 | J12: 438.73 | K12: 73.4 | L12: 220.19 | M12: 88.08 | N12: 352.31 | O12: 91.79 | P12: 357 | Q12: 128.5 | R12: 592.6 | S12: 0 | T12: 200 | U12: 35 | V12: 3 | W12: 4 | X12: 2 | Y12: 0 | Z12: 4 | AA12: 0 | AB12: 0 | AC12: 0 | AD12: 0 | AE12: 0 | AF12: 0 | AG12: 8 | AH12: 0 | AI12: 0 | AJ12: 0 | AK12: 0 | AL12: 0 | AM12: 0 | AN12: 0 | AO12: 0 | AP12: 0 | AQ12: 0 | AR12: 0 | AS12: 0 | AT12: 0 | AU12: 0 | AV12: 2207 | AW12: 1564.1 | AX12: 19 | AY12: 82 | AZ12: 34 | BA12: 0 | BB12: 36 | BC12: 0 | BD12: 0 | BE12: 0 | BF12: 0 | BG12: 0 | BH12: 0 | BI12: 84 | BJ12: 0 | BK12: 0 | BL12: 0 | BM12: 0 | BN12: 0 | BO12: 0 | BP12: 0 | BQ12: 0 | BR12: 0 | BS12: 0 | BT12: 0 | BU12: 0
B13: 9 | C13: Gulf Coast State College | D13: 3004.3 | E13: =D13*0.01 -> 30.043 | F13: =MAX(54,E13) -> 54 | G13: 72.92 | H13: 221.42 | I13: 94.8 | J13: 355.76 | K13: 69.93 | L13: 209.79 | M13: 83.92 | N13: 335.67 | O13: 91.79 | P13: 436.86 | Q13: 113.64 | R13: 620.39 | S13: 0 | T13: 1326 | U13: 0 | V13: 38 | W13: 2 | X13: 0 | Y13: 0 | Z13: 48 | AA13: 0 | AB13: 1 | AC13: 0 | AD13: 1 | AE13: 0 | AF13: 0 | AG13: 1 | AH13: 0 | AI13: 0 | AJ13: 0 | AK13: 0 | AL13: 0 | AM13: 0 | AN13: 0 | AO13: 0 | AP13: 0 | AQ13: 0 | AR13: 0 | AS13: 0 | AT13: 0 | AU13: 0 | AV13: 12067 | AW13: 0 | AX13: 422 | AY13: 22 | AZ13: 0 | BA13: 0 | BB13: 686.7 | BC13: 0 | BD13: 3.6 | BE13: 0 | BF13: 41 | BG13: 0 | BH13: 0 | BI13: 3 | BJ13: 0 | BK13: 0 | BL13: 0 | BM13: 0 | BN13: 0 | BO13: 0 | BP13: 0 | BQ13: 0 | BR13: 0 | BS13: 0 | BT13: 0 | BU13: 0
B14: 10 | C14: Hillsborough Community College | D14: 19539.1 | E14: =D14*0.01 -> 195.391 | F14: =MAX(54,E14) -> 195.391 | G14: 80.45 | H14: 241.54 | I14: 103.85 | J14: 379.07 | K14: 71.51 | L14: 214.55 | M14: 78.55 | N14: 314.25 | O14: 0 | P14: 0 | Q14: 0 | R14: 0 | S14: 0 | T14: 7649 | U14: 658 | V14: 62 | W14: 42 | X14: 59 | Y14: 42 | Z14: 162 | AA14: 0 | AB14: 1 | AC14: 0 | AD14: 2 | AE14: 0 | AF14: 2 | AG14: 0 | AH14: 0 | AI14: 559 | AJ14: 100 | AK14: 0 | AL14: 0 | AM14: 0 | AN14: 0 | AO14: 0 | AP14: 0 | AQ14: 0 | AR14: 0 | AS14: 0 | AT14: 0 | AU14: 0 | AV14: 72861 | AW14: 43098.1 | AX14: 628 | AY14: 637.7 | AZ14: 873 | BA14: 651 | BB14: 2490 | BC14: 0 | BD14: 6 | BE14: 0 | BF14: 26 | BG14: 0 | BH14: 8 | BI14: 0 | BJ14: 0 | BK14: 1098 | BL14: 0 | BM14: 0 | BN14: 0 | BO14: 0 | BP14: 0 | BQ14: 0 | BR14: 1518.7 | BS14: 0 | BT14: 0 | BU14: 0
B15: 11 | C15: Indian River State College | D15: 10859.5 | E15: =D15*0.01 -> 108.595 | F15: =MAX(54,E15) -> 108.595 | G15: 81.21 | H15: 243.78 | I15: 103.83 | J15: 390.49 | K15: 72 | L15: 216 | M15: 76.8 | N15: 306.3 | O15: 91.79 | P15: 377.84 | Q15: 117.1 | R15: 536.04 | S15: 18 | T15: 4770 | U15: 362 | V15: 79 | W15: 22 | X15: 30 | Y15: 12 | Z15: 90 | AA15: 0 | AB15: 0 | AC15: 0 | AD15: 2 | AE15: 0 | AF15: 0 | AG15: 29 | AH15: 0 | AI15: 2 | AJ15: 0 | AK15: 0 | AL15: 0 | AM15: 0 | AN15: 0 | AO15: 0 | AP15: 0 | AQ15: 0 | AR15: 0 | AS15: 0 | AT15: 0 | AU15: 146 | AV15: 61857.2 | AW15: 16178.7 | AX15: 959 | AY15: 246.5 | AZ15: 420.4 | BA15: 209.8 | BB15: 1485.9 | BC15: 0 | BD15: 0 | BE15: 0 | BF15: 9 | BG15: 0 | BH15: 0 | BI15: 403 | BJ15: 0 | BK15: 0 | BL15: 0 | BM15: 0 | BN15: 0 | BO15: 0 | BP15: 0 | BQ15: 0 | BR15: 0 | BS15: 0 | BT15: 0 | BU15: 0
B16: 12 | C16: Florida Gateway College | D16: 2182.3 | E16: =D16*0.01 -> 21.823 | F16: =MAX(54,E16) -> 54 | G16: 78.94 | H16: 236.82 | I16: 102.32 | J16: 390.57 | K16: 69.9 | L16: 209.7 | M16: 83.89 | N16: 335.52 | O16: 91.79 | P16: 275.37 | Q16: 119.33 | R16: 449.78 | S16: 0 | T16: 922 | U16: 0 | V16: 73 | W16: 2 | X16: 5 | Y16: 8 | Z16: 35 | AA16: 0 | AB16: 0 | AC16: 0 | AD16: 0 | AE16: 0 | AF16: 0 | AG16: 8 | AH16: 0 | AI16: 0 | AJ16: 0 | AK16: 0 | AL16: 0 | AM16: 0 | AN16: 0 | AO16: 0 | AP16: 0 | AQ16: 0 | AR16: 0 | AS16: 0 | AT16: 0 | AU16: 0 | AV16: 12484.5 | AW16: 0 | AX16: 771 | AY16: 24 | AZ16: 59 | BA16: 151 | BB16: 669.6 | BC16: 0 | BD16: 0 | BE16: 0 | BF16: 0 | BG16: 0 | BH16: 0 | BI16: 109 | BJ16: 0 | BK16: 0 | BL16: 0 | BM16: 0 | BN16: 0 | BO16: 0 | BP16: 0 | BQ16: 0 | BR16: 0 | BS16: 0 | BT16: 0 | BU16: 0
... B32: 28 | C32: Valencia College | D32: 34235.1 | E32: =D32*0.01 -> 342.351 | F32: =MAX(54,E32) -> 342.351 | G32: 82.66 | H32: 247.87 | I32: 103.06 | J32: 390.96 | K32: 73.4 | L32: 220.19 | M32: 80.48 | N32: 315.34 | O32: 91.79 | P32: 275.37 | Q32: 112.19 | R32: 427.59 | S32: 0 | T32: 7114 | U32: 0 | V32: 70 | W32: 76 | X32: 94 | Y32: 54 | Z32: 181 | AA32: 0 | AB32: 0 | AC32: 1 | AD32: 2 | AE32: 0 | AF32: 6 | AG32: 83 | AH32: 0 | AI32: 24 | AJ32: 0 | AK32: 0 | AL32: 0 | AM32: 0 | AN32: 0 | AO32: 0 | AP32: 0 | AQ32: 0 | AR32: 0 | AS32: 27 | AT32: 0 | AU32: 0 | AV32: 115194 | AW32: 0 | AX32: 615 | AY32: 996 | AZ32: 1531 | BA32: 883 | BB32: 2933 | BC32: 0 | BD32: 0 | BE32: 6 | BF32: 24 | BG32: 0 | BH32: 41 | BI32: 1182 | BJ32: 0 | BK32: 0 | BL32: 0 | BM32: 0 | BN32: 0 | BO32: 0 | BP32: 0 | BQ32: 0 | BR32: 0 | BS32: 0 | BT32: 540 | BU32: 0
