Workbook

Sheet Summary Analytics
B1: THE FLORIDA COLLEGE SYSTEM
B2: 2017-2018
B3: ADMINISTRATIVE COST REPORT SUMMARY ANALYTICS
I5: Prior Year's Data:
B6: COLLEGE | C6: ADMINISTRATIVE COST | D6: % OF INSTITUTIONAL SUPPORT EXCLUDED | E6: ADMINISTRATIVE COST % OVER COST ANALYSIS TOTAL EXPENDITURES EXCLUDING TRANSFERS | F6: 2017-18 FTE-3 | G6: ADMINISTRATIVE COST PER FUNDABLE FTE | I6: 2016-17 ADMINISTRATIVE COST % OVER COST ANALYSIS TOTAL EXPENDITURES EXCLUDING TRANSFERS | J6: AMOUNT CHANGE
A7: 1 | B7: Eastern Florida State College | C7: 6887578.1 | D7: 0.43854842 | E7: 0.093224938 | F7: 10730.9 | G7: 641.84534 | I7: 0.087944778 | J7: 0.00528016
A8: 2 | B8: Broward College | C8: 14488147 | D8: 0.55366097 | E8: 0.081855422 | F8: 28626.3 | G8: 506.11315 | I8: 0.10704052 | J8: -0.025185097
A9: 3 | B9: College of Central Florida | C9: 2388899.7 | D9: 0.65370019 | E9: 0.061777969 | F9: 5099.6 | G9: 468.44845 | I9: 0.06048699 | J9: 0.0012909786
A10: 4 | B10: Chipola College | C10: 1558626 | D10: 0.56582069 | E10: 0.10441444 | F10: 1438.5 | G10: 1083.5078 | I10: 0.10146637 | J10: 0.0029480678
A11: 5 | B11: Daytona State College | C11: 7291794 | D11: 0.46952058 | E11: 0.093421964 | F11: 11405.6 | G11: 639.317 | I11: 0.094234878 | J11: -0.00081291361
A12: 6 | B12: Florida SouthWestern State College | C12: 5536519 | D12: 0.52576026 | E12: 0.083288247 | F12: 11104.3 | G12: 498.59235 | I12: 0.085131876 | J12: -0.0018436293
A13: 7 | B13: Florida State College at Jacksonville | C13: 7015768 | D13: 0.70399809 | E13: 0.051017755 | F13: 16807.5 | G13: 417.41889 | I13: 0.058839839 | J13: -0.0078220839
A14: 8 | B14: Florida Keys Community College | C14: 1114439.5 | D14: 0.57815672 | E14: 0.10938229 | F14: 714.3 | G14: 1560.1841 | I14: 0.23584235 | J14: -0.12646006
A15: 9 | B15: Gulf Coast State College | C15: 2750561.8 | D15: 0.55518784 | E15: 0.085248478 | F15: 3584.8 | G15: 767.2846 | I15: 0.084058749 | J15: 0.0011897289
A16: 10 | B16: Hillsborough Community College | C16: 10176672 | D16: 0.52029982 | E16: 0.089501358 | F16: 20009.9 | G16: 508.58186 | I16: 0.090228424 | J16: -0.00072706575
A17: 11 | B17: Indian River State College | C17: 3383785 | D17: 0.54821798 | E17: 0.040127281 | F17: 13317.5 | G17: 254.0856 | I17: 0.040492972 | J17: -0.00036569018
A18: 12 | B18: Florida Gateway College | C18: 1843589.1 | D18: 0.59582776 | E18: 0.094855711 | F18: 2335.6 | G18: 789.3428 | I18: 0.10400668 | J18: -0.0091509691
... A34: 28 | B34: Valencia College | C34: 16018653 | D34: 0.50459869 | E34: 0.081002853 | F34: 30827.2 | G34: 519.62726 | I34: 0.07875588 | J34: 0.0022469732
B35: FCS | C35: 1.7727264e+08 | D35: 0.54332004 | E35: 0.082119118 | F35: 320042.5 | G35: 553.90343 | I35: 0.081765698 | J35: 0.00035342026
B37: Highest: | D37: 0.71509075 | E37: 0.13390394 | F37: 48188.2 | G37: 1560.1841 | I37: 0.23584235
B38: Lowest: | D38: 0.20036218 | E38: 0.039590555 | F38: 714.3 | G38: 244.3999 | I38: 0.038654686
B39: Range: | D39: 0.51472858 | E39: 0.094313383 | F39: 47473.9 | G39: 1315.7842 | I39: 0.19718766

Sheet Comparative Matrices
E1: THE FLORIDA COLLEGE SYSTEM
E2: 2017-2018
E3: ADMINISTRATIVE COST REPORT COMPARATIVE MATRICES
AD5: *Determined by reporting preponderance.
F6: YES / NO / PARTIAL MATRIX (Yes means it is administrative) | AK6: Count of | AL6: Count of | AM6: Count of | AN6: Total | AO6: % of | AP6: % of | AQ6: % of
F7: COLLEGE | G7: Eastern Florida State College | H7: Broward College | I7: College of Central Florida | J7: Chipola College | K7: Daytona State College | L7: Florida SouthWestern State College | M7: Florida State College at Jacksonville | N7: Florida Keys Community College | O7: Gulf Coast State College | P7: Hillsborough Community College | Q7: Indian River State College | R7: Florida Gateway College | S7: Lake-Sumter Community College | T7: State College of Florida, Manatee-Sarasota | U7: Miami Dade College | V7: North Florida Community College | W7: Northwest Florida State College | X7: Palm Beach State College | Y7: Pasco-Hernando State College | Z7: Pensacola State College | AA7: Polk State College | AB7: St. Johns River State College | AC7: St. Petersburg College | AD7: Santa Fe College | AE7: Seminole State College of Florida | AF7: South Florida State College | AG7: Tallahassee Community College | AH7: Valencia College | AI7: FCS* | AK7: Yes | AL7: No | AM7: Partial | AO7: Yes | AP7: No | AQ7: Partial
A8: 16000000 | D8: Institutional Support Control (Administrative)
B9: 16100000 | E9: Executive Management Control
C10: 16110000 | F10: College-Wide Management | G10: Yes | O10: Partial | S10: Yes | AI10: Yes | AK10: =COUNTIF(G10:AH10,"Yes") -> 2 | AL10: =COUNTIF(G10:AH10,"No") -> 0 | AM10: =COUNTIF(G10:AH10,"Partial") -> 1 | AN10: =SUM(AK10:AM10) -> 3 | AO10: =IFERROR(AK10/$AN10,0) -> 0.66666667 | AP10: =IFERROR(AL10/$AN10,0) -> 0 | AQ10: =IFERROR(AM10/$AN10,0) -> 0.33333333
C11: 16111000 | F11: District Board of Trustees | I11: yes | K11: Yes | L11: Yes | M11: Yes | N11: Yes | O11: Yes | Q11: Yes | R11: Yes | T11: Yes | U11: Yes | V11: Yes | W11: Yes | X11: Yes | Y11: Yes | Z11: yes | AA11: Yes | AB11: Yes | AC11: Yes | AD11: Yes | AE11: Yes | AF11: Yes | AG11: Partial | AH11: Yes | AI11: Yes | AK11: =COUNTIF(G11:AH11,"Yes") -> 22 | AL11: =COUNTIF(G11:AH11,"No") -> 0 | AM11: =COUNTIF(G11:AH11,"Partial") -> 1 | AN11: =SUM(AK11:AM11) -> 23 | AO11: =IFERROR(AK11/$AN11,0) -> 0.95652174 | AP11: =IFERROR(AL11/$AN11,0) -> 0 | AQ11: =IFERROR(AM11/$AN11,0) -> 0.043478261
C12: 16112000 | F12: President | G12: Yes | H12: Partial | I12: yes | K12: Yes | L12: Yes | M12: Yes | N12: Partial | O12: Yes | P12: Yes | Q12: Yes | R12: Yes | S12: Yes | T12: Partial | U12: Yes | V12: Yes | W12: Yes | X12: Yes | Y12: Yes | Z12: yes | AA12: Yes | AB12: Yes | AC12: Yes | AD12: Yes | AE12: Yes | AF12: Yes | AG12: Yes | AH12: Yes | AI12: Yes | AK12: =COUNTIF(G12:AH12,"Yes") -> 24 | AL12: =COUNTIF(G12:AH12,"No") -> 0 | AM12: =COUNTIF(G12:AH12,"Partial") -> 3 | AN12: =SUM(AK12:AM12) -> 27 | AO12: =IFERROR(AK12/$AN12,0) -> 0.88888889 | AP12: =IFERROR(AL12/$AN12,0) -> 0 | AQ12: =IFERROR(AM12/$AN12,0) -> 0.11111111
C13: 16113000 | F13: Assistant to the President | H13: Partial | K13: Yes | L13: No | P13: Yes | Q13: Yes | V13: Yes | Z13: yes | AC13: Yes | AI13: Yes | AK13: =COUNTIF(G13:AH13,"Yes") -> 6 | AL13: =COUNTIF(G13:AH13,"No") -> 1 | AM13: =COUNTIF(G13:AH13,"Partial") -> 1 | AN13: =SUM(AK13:AM13) -> 8 | AO13: =IFERROR(AK13/$AN13,0) -> 0.75 | AP13: =IFERROR(AL13/$AN13,0) -> 0.125 | AQ13: =IFERROR(AM13/$AN13,0) -> 0.125
C14: 16114000 | F14: Executive Vice President/Vice President(s) | H14: Partial | I14: yes | K14: Yes | L14: Yes | M14: Yes | O14: Yes | P14: Yes | Q14: Yes | R14: Partial | S14: Partial | T14: Partial | U14: Partial | W14: Yes | X14: Yes | Z14: yes | AB14: Yes | AC14: Yes | AD14: Partial | AE14: Yes | AF14: Yes | AG14: Partial | AH14: Yes | AI14: Yes | AK14: =COUNTIF(G14:AH14,"Yes") -> 15 | AL14: =COUNTIF(G14:AH14,"No") -> 0 | AM14: =COUNTIF(G14:AH14,"Partial") -> 7 | AN14: =SUM(AK14:AM14) -> 22 | AO14: =IFERROR(AK14/$AN14,0) -> 0.68181818 | AP14: =IFERROR(AL14/$AN14,0) -> 0 | AQ14: =IFERROR(AM14/$AN14,0) -> 0.31818182
C15: 16115000 | F15: Chief Campus Administrators in Multi-Campus Colleges | G15: Partial | H15: Partial | I15: no | L15: No | M15: No | P15: No | S15: No | T15: Partial | U15: No | Y15: No | AA15: No | AB15: No | AD15: No | AH15: No | AI15: No | AK15: =COUNTIF(G15:AH15,"Yes") -> 0 | AL15: =COUNTIF(G15:AH15,"No") -> 11 | AM15: =COUNTIF(G15:AH15,"Partial") -> 3 | AN15: =SUM(AK15:AM15) -> 14 | AO15: =IFERROR(AK15/$AN15,0) -> 0 | AP15: =IFERROR(AL15/$AN15,0) -> 0.78571429 | AQ15: =IFERROR(AM15/$AN15,0) -> 0.21428571
C16: 16116000 | F16: Equal Access, Equal Opportunity, Equal Employment Officer | K16: Yes | P16: Yes | T16: Partial | U16: Yes | W16: No | Z16: yes | AA16: Yes | AC16: Yes | AD16: No | AE16: Yes | AI16: Yes | AK16: =COUNTIF(G16:AH16,"Yes") -> 7 | AL16: =COUNTIF(G16:AH16,"No") -> 2 | AM16: =COUNTIF(G16:AH16,"Partial") -> 1 | AN16: =SUM(AK16:AM16) -> 10 | AO16: =IFERROR(AK16/$AN16,0) -> 0.7 | AP16: =IFERROR(AL16/$AN16,0) -> 0.2 | AQ16: =IFERROR(AM16/$AN16,0) -> 0.1
C17: 16117000 | F17: Internal Auditing | T17: Yes | AH17: Yes | AI17: Yes | AK17: =COUNTIF(G17:AH17,"Yes") -> 2 | AL17: =COUNTIF(G17:AH17,"No") -> 0 | AM17: =COUNTIF(G17:AH17,"Partial") -> 0 | AN17: =SUM(AK17:AM17) -> 2 | AO17: =IFERROR(AK17/$AN17,0) -> 1 | AP17: =IFERROR(AL17/$AN17,0) -> 0 | AQ17: =IFERROR(AM17/$AN17,0) -> 0
C18: 16120000 | F18: Educational Planning and Development | K18: No | M18: No | O18: No | T18: No | U18: Yes | V18: No | AE18: No | AI18: No | AK18: =COUNTIF(G18:AH18,"Yes") -> 1 | AL18: =COUNTIF(G18:AH18,"No") -> 6 | AM18: =COUNTIF(G18:AH18,"Partial") -> 0 | AN18: =SUM(AK18:AM18) -> 7 | AO18: =IFERROR(AK18/$AN18,0) -> 0.14285714 | AP18: =IFERROR(AL18/$AN18,0) -> 0.85714286 | AQ18: =IFERROR(AM18/$AN18,0) -> 0
C19: 16121000 | F19: Institutional Research | G19: No | H19: Partial | I19: no | K19: No | L19: No | M19: No | N19: No | P19: Yes | R19: No | T19: No | U19: No | V19: No | W19: Yes | X19: No | Y19: No | Z19: yes | AA19: No | AB19: No | AC19: No | AD19: No | AE19: No | AF19: No | AG19: No | AH19: No | AI19: No | AK19: =COUNTIF(G19:AH19,"Yes") -> 3 | AL19: =COUNTIF(G19:AH19,"No") -> 20 | AM19: =COUNTIF(G19:AH19,"Partial") -> 1 | AN19: =SUM(AK19:AM19) -> 24 | AO19: =IFERROR(AK19/$AN19,0) -> 0.125 | AP19: =IFERROR(AL19/$AN19,0) -> 0.83333333 | AQ19: =IFERROR(AM19/$AN19,0) -> 0.041666667
C20: 16122000 | F20: Analytical Studies | H20: Yes | P20: Yes | S20: No | U20: No | Y20: No | AB20: Yes | AI20: Yes | AK20: =COUNTIF(G20:AH20,"Yes") -> 3 | AL20: =COUNTIF(G20:AH20,"No") -> 3 | AM20: =COUNTIF(G20:AH20,"Partial") -> 0 | AN20: =SUM(AK20:AM20) -> 6 | AO20: =IFERROR(AK20/$AN20,0) -> 0.5 | AP20: =IFERROR(AL20/$AN20,0) -> 0.5 | AQ20: =IFERROR(AM20/$AN20,0) -> 0
C21: 16130000 | F21: Legal Services | G21: Yes | H21: Partial | I21: yes | K21: Yes | L21: Yes | M21: Yes | O21: Yes | P21: Yes | Q21: Yes | R21: No | S21: Yes | T21: Yes | U21: Yes | W21: Yes | X21: No | Y21: Yes | Z21: yes | AB21: Yes | AC21: Yes | AD21: Yes | AE21: Yes | AF21: Yes | AH21: Yes | AI21: Yes | AK21: =COUNTIF(G21:AH21,"Yes") -> 20 | AL21: =COUNTIF(G21:AH21,"No") -> 2 | AM21: =COUNTIF(G21:AH21,"Partial") -> 1 | AN21: =SUM(AK21:AM21) -> 23 | AO21: =IFERROR(AK21/$AN21,0) -> 0.86956522 | AP21: =IFERROR(AL21/$AN21,0) -> 0.086956522 | AQ21: =IFERROR(AM21/$AN21,0) -> 0.043478261
C22: 16140000 | F22: College-Wide Planning and Management Committees, Council or Task Forces | K22: Yes | R22: No | S22: No | T22: No | U22: Yes | AD22: No | AG22: No | AI22: No | AK22: =COUNTIF(G22:AH22,"Yes") -> 2 | AL22: =COUNTIF(G22:AH22,"No") -> 5 | AM22: =COUNTIF(G22:AH22,"Partial") -> 0 | AN22: =SUM(AK22:AM22) -> 7 | AO22: =IFERROR(AK22/$AN22,0) -> 0.28571429 | AP22: =IFERROR(AL22/$AN22,0) -> 0.71428571 | AQ22: =IFERROR(AM22/$AN22,0) -> 0
C23: 16141000 | F23: Faculty Senates | T23: No | AC23: No | AG23: No | AH23: No | AI23: No | AK23: =COUNTIF(G23:AH23,"Yes") -> 0 | AL23: =COUNTIF(G23:AH23,"No") -> 4 | AM23: =COUNTIF(G23:AH23,"Partial") -> 0 | AN23: =SUM(AK23:AM23) -> 4 | AO23: =IFERROR(AK23/$AN23,0) -> 0 | AP23: =IFERROR(AL23/$AN23,0) -> 1 | AQ23: =IFERROR(AM23/$AN23,0) -> 0
C24: 16142000 | F24: Planning Committees | T24: No | X24: No | Z24: no | AF24: Yes | AG24: No | AI24: Yes | AK24: =COUNTIF(G24:AH24,"Yes") -> 1 | AL24: =COUNTIF(G24:AH24,"No") -> 4 | AM24: =COUNTIF(G24:AH24,"Partial") -> 0 | AN24: =SUM(AK24:AM24) -> 5 | AO24: =IFERROR(AK24/$AN24,0) -> 0.2 | AP24: =IFERROR(AL24/$AN24,0) -> 0.8 | AQ24: =IFERROR(AM24/$AN24,0) -> 0
C25: 16143000 | F25: Administrative Councils | M25: No | U25: Yes | AC25: Yes | AI25: Yes | AK25: =COUNTIF(G25:AH25,"Yes") -> 2 | AL25: =COUNTIF(G25:AH25,"No") -> 1 | AM25: =COUNTIF(G25:AH25,"Partial") -> 0 | AN25: =SUM(AK25:AM25) -> 3 | AO25: =IFERROR(AK25/$AN25,0) -> 0.66666667 | AP25: =IFERROR(AL25/$AN25,0) -> 0.33333333 | AQ25: =IFERROR(AM25/$AN25,0) -> 0
B26: 16200000 | E26: Fiscal Operations Control | AK26: =COUNTIF(G26:AH26,"Yes") -> 0 | AL26: =COUNTIF(G26:AH26,"No") -> 0 | AM26: =COUNTIF(G26:AH26,"Partial") -> 0 | AN26: =SUM(AK26:AM26) -> 0 | AO26: =IFERROR(AK26/$AN26,0) -> 0 | AP26: =IFERROR(AL26/$AN26,0) -> 0 | AQ26: =IFERROR(AM26/$AN26,0) -> 0
C27: 16210000 | F27: Fiscal Control | R27: Partial | W27: Partial | Y27: Yes | AA27: Yes | AB27: Partial | AD27: Partial | AE27: Yes | AI27: Partial | AK27: =COUNTIF(G27:AH27,"Yes") -> 3 | AL27: =COUNTIF(G27:AH27,"No") -> 0 | AM27: =COUNTIF(G27:AH27,"Partial") -> 4 | AN27: =SUM(AK27:AM27) -> 7 | AO27: =IFERROR(AK27/$AN27,0) -> 0.42857143 | AP27: =IFERROR(AL27/$AN27,0) -> 0 | AQ27: =IFERROR(AM27/$AN27,0) -> 0.57142857
C28: 16211000 | F28: Business Officer (Financial Duties) | G28: Yes | H28: Partial | K28: Yes | N28: Yes | V28: Partial | AF28: Yes | AI28: Yes | AK28: =COUNTIF(G28:AH28,"Yes") -> 4 | AL28: =COUNTIF(G28:AH28,"No") -> 0 | AM28: =COUNTIF(G28:AH28,"Partial") -> 2 | AN28: =SUM(AK28:AM28) -> 6 | AO28: =IFERROR(AK28/$AN28,0) -> 0.66666667 | AP28: =IFERROR(AL28/$AN28,0) -> 0 | AQ28: =IFERROR(AM28/$AN28,0) -> 0.33333333
C29: 16212000 | F29: Comptroller | G29: Yes | H29: Yes | L29: Partial | O29: Yes | P29: Yes | Q29: Yes | R29: Partial | T29: Yes | U29: Yes | V29: No | X29: Partial | Z29: Partial | AC29: Yes | AH29: Yes | AI29: Yes | AK29: =COUNTIF(G29:AH29,"Yes") -> 9 | AL29: =COUNTIF(G29:AH29,"No") -> 1 | AM29: =COUNTIF(G29:AH29,"Partial") -> 4 | AN29: =SUM(AK29:AM29) -> 14 | AO29: =IFERROR(AK29/$AN29,0) -> 0.64285714 | AP29: =IFERROR(AL29/$AN29,0) -> 0.071428571 | AQ29: =IFERROR(AM29/$AN29,0) -> 0.28571429
C30: 16213000 | F30: Budget Administration and Control | G30: Yes | H30: Partial | K30: Yes | O30: Yes | Q30: Yes | U30: Partial | X30: Yes | AC30: Yes | AH30: Yes | AI30: Yes | AK30: =COUNTIF(G30:AH30,"Yes") -> 7 | AL30: =COUNTIF(G30:AH30,"No") -> 0 | AM30: =COUNTIF(G30:AH30,"Partial") -> 2 | AN30: =SUM(AK30:AM30) -> 9 | AO30: =IFERROR(AK30/$AN30,0) -> 0.77777778 | AP30: =IFERROR(AL30/$AN30,0) -> 0 | AQ30: =IFERROR(AM30/$AN30,0) -> 0.22222222
C31: 16220000 | F31: Financial Operations | G31: No | I31: yes | J31: Partial | M31: Partial | N31: Partial | O31: Yes | P31: Partial | Q31: Partial | R31: Partial | S31: Partial | T31: Partial | U31: Yes | V31: No | Y31: Partial | AA31: Partial | AE31: Partial | AG31: Yes | AI31: Partial | AK31: =COUNTIF(G31:AH31,"Yes") -> 4 | AL31: =COUNTIF(G31:AH31,"No") -> 2 | AM31: =COUNTIF(G31:AH31,"Partial") -> 11 | AN31: =SUM(AK31:AM31) -> 17 | AO31: =IFERROR(AK31/$AN31,0) -> 0.23529412 | AP31: =IFERROR(AL31/$AN31,0) -> 0.11764706 | AQ31: =IFERROR(AM31/$AN31,0) -> 0.64705882
C32: 16221000 | F32: Payroll Operation | G32: Yes | H32: Partial | K32: Yes | O32: Yes | Q32: Yes | R32: Partial | S32: Yes | U32: Yes | V32: No | X32: Yes | Y32: Yes | Z32: yes | AC32: Yes | AE32: Yes | AI32: Yes | AK32: =COUNTIF(G32:AH32,"Yes") -> 11 | AL32: =COUNTIF(G32:AH32,"No") -> 1 | AM32: =COUNTIF(G32:AH32,"Partial") -> 2 | AN32: =SUM(AK32:AM32) -> 14 | AO32: =IFERROR(AK32/$AN32,0) -> 0.78571429 | AP32: =IFERROR(AL32/$AN32,0) -> 0.071428571 | AQ32: =IFERROR(AM32/$AN32,0) -> 0.14285714
C33: 16222000 | F33: Bursar | G33: No | H33: Partial | K33: Partial | Q33: No | R33: No | T33: Partial | U33: No | W33: Partial | X33: No | Y33: No | Z33: no | AC33: Yes | AE33: No | AH33: No | AI33: No | AK33: =COUNTIF(G33:AH33,"Yes") -> 1 | AL33: =COUNTIF(G33:AH33,"No") -> 9 | AM33: =COUNTIF(G33:AH33,"Partial") -> 4 | AN33: =SUM(AK33:AM33) -> 14 | AO33: =IFERROR(AK33/$AN33,0) -> 0.071428571 | AP33: =IFERROR(AL33/$AN33,0) -> 0.64285714 | AQ33: =IFERROR(AM33/$AN33,0) -> 0.28571429
C34: 16223000 | F34: Cashier | G34: No | M34: No | O34: Yes | Q34: No | R34: No | V34: No | AC34: Partial | AE34: No | AF34: No | AG34: No | AH34: No | AI34: No | AK34: =COUNTIF(G34:AH34,"Yes") -> 1 | AL34: =COUNTIF(G34:AH34,"No") -> 9 | AM34: =COUNTIF(G34:AH34,"Partial") -> 1 | AN34: =SUM(AK34:AM34) -> 11 | AO34: =IFERROR(AK34/$AN34,0) -> 0.090909091 | AP34: =IFERROR(AL34/$AN34,0) -> 0.81818182 | AQ34: =IFERROR(AM34/$AN34,0) -> 0.090909091
C35: 16224000 | F35: Disbursement | G35: Yes | H35: Partial | K35: Yes | O35: Yes | Q35: Yes | U35: Yes | AI35: Yes | AK35: =COUNTIF(G35:AH35,"Yes") -> 5 | AL35: =COUNTIF(G35:AH35,"No") -> 0 | AM35: =COUNTIF(G35:AH35,"Partial") -> 1 | AN35: =SUM(AK35:AM35) -> 6 | AO35: =IFERROR(AK35/$AN35,0) -> 0.83333333 | AP35: =IFERROR(AL35/$AN35,0) -> 0 | AQ35: =IFERROR(AM35/$AN35,0) -> 0.16666667
C36: 16225000 | F36: Accounting | H36: Partial | K36: Partial | Q36: Yes | U36: Partial | V36: No | X36: Yes | AC36: Yes | AI36: Partial | AK36: =COUNTIF(G36:AH36,"Yes") -> 3 | AL36: =COUNTIF(G36:AH36,"No") -> 1 | AM36: =COUNTIF(G36:AH36,"Partial") -> 3 | AN36: =SUM(AK36:AM36) -> 7 | AO36: =IFERROR(AK36/$AN36,0) -> 0.42857143 | AP36: =IFERROR(AL36/$AN36,0) -> 0.14285714 | AQ36: =IFERROR(AM36/$AN36,0) -> 0.42857143
C37: 16230000 | F37: Investment Management | L37: Yes | U37: Yes | AI37: Yes | AK37: =COUNTIF(G37:AH37,"Yes") -> 2 | AL37: =COUNTIF(G37:AH37,"No") -> 0 | AM37: =COUNTIF(G37:AH37,"Partial") -> 0 | AN37: =SUM(AK37:AM37) -> 2 | AO37: =IFERROR(AK37/$AN37,0) -> 1 | AP37: =IFERROR(AL37/$AN37,0) -> 0 | AQ37: =IFERROR(AM37/$AN37,0) -> 0
C38: 16231000 | F38: Cash Flow Management | H38: Yes | AH38: No | AI38: Yes | AK38: =COUNTIF(G38:AH38,"Yes") -> 1 | AL38: =COUNTIF(G38:AH38,"No") -> 1 | AM38: =COUNTIF(G38:AH38,"Partial") -> 0 | AN38: =SUM(AK38:AM38) -> 2 | AO38: =IFERROR(AK38/$AN38,0) -> 0.5 | AP38: =IFERROR(AL38/$AN38,0) -> 0.5 | AQ38: =IFERROR(AM38/$AN38,0) -> 0
C39: 16232000 | F39: Endowment Management | AK39: =COUNTIF(G39:AH39,"Yes") -> 0 | AL39: =COUNTIF(G39:AH39,"No") -> 0 | AM39: =COUNTIF(G39:AH39,"Partial") -> 0 | AN39: =SUM(AK39:AM39) -> 0 | AO39: =IFERROR(AK39/$AN39,0) -> 0 | AP39: =IFERROR(AL39/$AN39,0) -> 0 | AQ39: =IFERROR(AM39/$AN39,0) -> 0
C40: 16240000 | F40: Grants and Contracts Financial Management | I40: no | AI40: No | AK40: =COUNTIF(G40:AH40,"Yes") -> 0 | AL40: =COUNTIF(G40:AH40,"No") -> 1 | AM40: =COUNTIF(G40:AH40,"Partial") -> 0 | AN40: =SUM(AK40:AM40) -> 1 | AO40: =IFERROR(AK40/$AN40,0) -> 0 | AP40: =IFERROR(AL40/$AN40,0) -> 1 | AQ40: =IFERROR(AM40/$AN40,0) -> 0
C41: 16241000 | F41: Grants Management | L41: No | N41: No | Q41: No | R41: No | S41: No | W41: No | X41: No | AA41: No | AC41: Yes | AE41: No | AH41: No | AI41: No | AK41: =COUNTIF(G41:AH41,"Yes") -> 1 | AL41: =COUNTIF(G41:AH41,"No") -> 10 | AM41: =COUNTIF(G41:AH41,"Partial") -> 0 | AN41: =SUM(AK41:AM41) -> 11 | AO41: =IFERROR(AK41/$AN41,0) -> 0.090909091 | AP41: =IFERROR(AL41/$AN41,0) -> 0.90909091 | AQ41: =IFERROR(AM41/$AN41,0) -> 0
...

Sheet Chart Data
B1: THE FLORIDA COLLEGE SYSTEM
B2: 2017-2018
B3: ADMINISTRATIVE COST REPORT ANALYTICS
C5: *Sort all groupings by orange shaded columns after any changes to data
B6: COLLEGE | C6: % OF INSTITUTIONAL SUPPORT EXCLUDED | E6: COLLEGE | F6: ADMINISTRATIVE COST % OVER COST ANALYSIS TOTAL EXPENDITURES EXCLUDING TRANSFERS | G6: ADMINISTRATIVE COST PER FUNDABLE FTE | I6: COLLEGE | J6: ADMINISTRATIVE COST % OVER COST ANALYSIS TOTAL EXPENDITURES EXCLUDING TRANSFERS | K6: CHANGE OVER PRIOR YEAR
A7: 23 | B7: St. Petersburg College | C7: ='Summary Analytics'!D29 -> 0.20036218 | D7: 18 | E7: Palm Beach State College | F7: ='Summary Analytics'!E24 -> 0.039590555 | G7: ='Summary Analytics'!G24 -> 244.3999 | H7: 18 | I7: Palm Beach State College | J7: ='PALM BEACH'!J83 -> 0.039590555 | K7: ='Summary Analytics'!J24 -> 0.00093586973
A8: 22 | B8: St. Johns River State College | C8: ='Summary Analytics'!D28 -> 0.43269639 | D8: 11 | E8: Indian River State College | F8: ='Summary Analytics'!E17 -> 0.040127281 | G8: ='Summary Analytics'!G17 -> 254.0856 | H8: 11 | I8: Indian River State College | J8: ='INDIAN RIVER'!J83 -> 0.040127281 | K8: ='Summary Analytics'!J17 -> -0.00036569018
A9: 1 | B9: Eastern Florida State College | C9: ='Summary Analytics'!D7 -> 0.43854842 | D9: 19 | E9: Pasco-Hernando State College | F9: ='Summary Analytics'!E25 -> 0.059289145 | G9: ='Summary Analytics'!G25 -> 364.64303 | H9: 7 | I9: Florida State College at Jacksonville | J9: ='FSC JAX'!J83 -> 0.051017755 | K9: ='Summary Analytics'!J13 -> -0.0078220839
A10: 26 | B10: South Florida State College | C10: ='Summary Analytics'!D32 -> 0.45927362 | D10: 27 | E10: Tallahassee Community College | F10: ='Summary Analytics'!E33 -> 0.058047484 | G10: ='Summary Analytics'!G33 -> 390.02572 | H10: 27 | I10: Tallahassee Community College | J10: =TALLAHASSEE!J83 -> 0.058047484 | K10: ='Summary Analytics'!J33 -> -0.0073376073
A11: 5 | B11: Daytona State College | C11: ='Summary Analytics'!D11 -> 0.46952058 | D11: 7 | E11: Florida State College at Jacksonville | F11: ='Summary Analytics'!E13 -> 0.051017755 | G11: ='Summary Analytics'!G13 -> 417.41889 | H11: 19 | I11: Pasco-Hernando State College | J11: =PASCO!J83 -> 0.059289145 | K11: ='Summary Analytics'!J25 -> -0.0017105877
A12: 28 | B12: Valencia College | C12: ='Summary Analytics'!D34 -> 0.50459869 | D12: 24 | E12: Santa Fe College | F12: ='Summary Analytics'!E30 -> 0.063887981 | G12: ='Summary Analytics'!G30 -> 443.21897 | H12: 16 | I12: North Florida Community College | J12: ='NORTH FLORIDA'!J83 -> 0.060685765 | K12: ='Summary Analytics'!J22 -> -0.019177643
A13: 15 | B13: Miami Dade College | C13: ='Summary Analytics'!D21 -> 0.50932374 | D13: 3 | E13: College of Central Florida | F13: ='Summary Analytics'!E9 -> 0.061777969 | G13: ='Summary Analytics'!G9 -> 468.44845 | H13: 3 | I13: College of Central Florida | J13: =CENTRAL!J83 -> 0.061777969 | K13: ='Summary Analytics'!J9 -> 0.0012909786
A14: 10 | B14: Hillsborough Community College | C14: ='Summary Analytics'!D16 -> 0.52029982 | D14: 6 | E14: Florida SouthWestern State College | F14: ='Summary Analytics'!E12 -> 0.083288247 | G14: ='Summary Analytics'!G12 -> 498.59235 | H14: 24 | I14: Santa Fe College | J14: ='SANTA FE'!J83 -> 0.063887981 | K14: ='Summary Analytics'!J30 -> 0.0034001726
A15: 6 | B15: Florida SouthWestern State College | C15: ='Summary Analytics'!D12 -> 0.52576026 | D15: 2 | E15: Broward College | F15: ='Summary Analytics'!E8 -> 0.081855422 | G15: ='Summary Analytics'!G8 -> 506.11315 | H15: 21 | I15: Polk State College | J15: =POLK!J83 -> 0.079301329 | K15: ='Summary Analytics'!J27 -> 0.00062348037
A16: 25 | B16: Seminole State College of Florida | C16: ='Summary Analytics'!D31 -> 0.5386368 | D16: 10 | E16: Hillsborough Community College | F16: ='Summary Analytics'!E16 -> 0.089501358 | G16: ='Summary Analytics'!G16 -> 508.58186 | H16: 28 | I16: Valencia College | J16: =VALENCIA!J83 -> 0.081002853 | K16: ='Summary Analytics'!J34 -> 0.0022469732
B17: FCS | C17: ='Summary Analytics'!D35 -> 0.54332004 | D17: 28 | E17: Valencia College | F17: ='Summary Analytics'!E34 -> 0.081002853 | G17: ='Summary Analytics'!G34 -> 519.62726 | H17: 2 | I17: Broward College | J17: =BROWARD!J83 -> 0.081855422 | K17: ='Summary Analytics'!J8 -> -0.025185097
A18: 20 | B18: Pensacola State College | C18: ='Summary Analytics'!D26 -> 0.54661095 | E18: FCS | F18: ='Summary Analytics'!E35 -> 0.082119118 | G18: ='Summary Analytics'!G35 -> 553.90343 | I18: FCS | J18: ='System Summary'!I83 -> 0.082119118 | K18: ='Summary Analytics'!J35 -> 0.00035342026
A19: 11 | B19: Indian River State College | C19: ='Summary Analytics'!D17 -> 0.54821798 | D19: 25 | E19: Seminole State College of Florida | F19: ='Summary Analytics'!E31 -> 0.091723644 | G19: ='Summary Analytics'!G31 -> 600.06024 | H19: 6 | I19: Florida SouthWestern State College | J19: =SOUTHWESTERN!J83 -> 0.083288247 | K19: ='Summary Analytics'!J12 -> -0.0018436293
A20: 2 | B20: Broward College | C20: ='Summary Analytics'!D8 -> 0.55366097 | D20: 21 | E20: Polk State College | F20: ='Summary Analytics'!E27 -> 0.079301329 | G20: ='Summary Analytics'!G27 -> 601.43851 | H20: 9 | I20: Gulf Coast State College | J20: ='GULF COAST'!J83 -> 0.085248478 | K20: ='Summary Analytics'!J15 -> 0.0011897289
A21: 9 | B21: Gulf Coast State College | C21: ='Summary Analytics'!D15 -> 0.55518784 | D21: 5 | E21: Daytona State College | F21: ='Summary Analytics'!E11 -> 0.093421964 | G21: ='Summary Analytics'!G11 -> 639.317 | H21: 10 | I21: Hillsborough Community College | J21: =HILLSBOROUGH!J83 -> 0.089501358 | K21: ='Summary Analytics'!J16 -> -0.00072706575
A22: 4 | B22: Chipola College | C22: ='Summary Analytics'!D10 -> 0.56582069 | D22: 1 | E22: Eastern Florida State College | F22: ='Summary Analytics'!E7 -> 0.093224938 | G22: ='Summary Analytics'!G7 -> 641.84534 | H22: 25 | I22: Seminole State College of Florida | J22: =SEMINOLE!J83 -> 0.091723644 | K22: ='Summary Analytics'!J31 -> 0.0060771289
A23: 8 | B23: Florida Keys Community College | C23: ='Summary Analytics'!D14 -> 0.57815672 | D23: 15 | E23: Miami Dade College | F23: ='Summary Analytics'!E21 -> 0.1003913 | G23: ='Summary Analytics'!G21 -> 648.23013 | H23: 1 | I23: Eastern Florida State College | J23: =EASTERN!J83 -> 0.093224938 | K23: ='Summary Analytics'!J7 -> 0.00528016
A24: 21 | B24: Polk State College | C24: ='Summary Analytics'!D27 -> 0.57852207 | D24: 16 | E24: North Florida Community College | F24: ='Summary Analytics'!E22 -> 0.060685765 | G24: ='Summary Analytics'!G22 -> 669.54362 | H24: 5 | I24: Daytona State College | J24: =DAYTONA!J83 -> 0.093421964 | K24: ='Summary Analytics'!J11 -> -0.00081291361
A25: 13 | B25: Lake-Sumter State College | C25: ='Summary Analytics'!D19 -> 0.57973731 | D25: 14 | E25: State College of Florida, Manatee-Sarasota | F25: ='Summary Analytics'!E20 -> 0.10863062 | G25: ='Summary Analytics'!G20 -> 700.30147 | H25: 12 | I25: Florida Gateway College | J25: =GATEWAY!J83 -> 0.094855711 | K25: ='Summary Analytics'!J18 -> -0.0091509691
A26: 12 | B26: Florida Gateway College | C26: ='Summary Analytics'!D18 -> 0.59582776 | D26: 20 | E26: Pensacola State College | F26: ='Summary Analytics'!E26 -> 0.10021911 | G26: ='Summary Analytics'!G26 -> 725.48972 | H26: 17 | I26: Northwest Florida State College | J26: ='NORTHWEST FLORIDA'!J83 -> 0.09720963 | K26: ='Summary Analytics'!J23 -> 0.01371737
A27: 14 | B27: State College of Florida, Manatee-Sarasota | C27: ='Summary Analytics'!D20 -> 0.60107411 | D27: 13 | E27: Lake-Sumter State College | F27: ='Summary Analytics'!E19 -> 0.10158617 | G27: ='Summary Analytics'!G19 -> 732.23926 | H27: 20 | I27: Pensacola State College | J27: =PENSACOLA!J83 -> 0.10021911 | K27: ='Summary Analytics'!J26 -> 0.0089320591
A28: 17 | B28: Northwest Florida State College | C28: ='Summary Analytics'!D23 -> 0.62493667 | D28: 9 | E28: Gulf Coast State College | F28: ='Summary Analytics'!E15 -> 0.085248478 | G28: ='Summary Analytics'!G15 -> 767.2846 | H28: 15 | I28: Miami Dade College | J28: =MIAMI!J83 -> 0.1003913 | K28: ='Summary Analytics'!J21 -> 0.023832902
A29: 19 | B29: Pasco-Hernando State College | C29: ='Summary Analytics'!D25 -> 0.6256887 | D29: 23 | E29: St. Petersburg College | F29: ='Summary Analytics'!E29 -> 0.1059769 | G29: ='Summary Analytics'!G29 -> 788.44849 | H29: 13 | I29: Lake-Sumter State College | J29: ='LAKE SUMTER'!J83 -> 0.10158617 | K29: ='Summary Analytics'!J19 -> 0.0016027394
A30: 3 | B30: College of Central Florida | C30: ='Summary Analytics'!D9 -> 0.65370019 | D30: 12 | E30: Florida Gateway College | F30: ='Summary Analytics'!E18 -> 0.094855711 | G30: ='Summary Analytics'!G18 -> 789.3428 | H30: 4 | I30: Chipola College | J30: =CHIPOLA!J83 -> 0.10441444 | K30: ='Summary Analytics'!J10 -> 0.0029480678
A31: 18 | B31: Palm Beach State College | C31: ='Summary Analytics'!D24 -> 0.66255679 | D31: 17 | E31: Northwest Florida State College | F31: ='Summary Analytics'!E23 -> 0.09720963 | G31: ='Summary Analytics'!G23 -> 797.36484 | H31: 23 | I31: St. Petersburg College | J31: ='ST PETE'!J83 -> 0.1059769 | K31: ='Summary Analytics'!J29 -> -0.0054222555
A32: 24 | B32: Santa Fe College | C32: ='Summary Analytics'!D30 -> 0.6647069 | D32: 22 | E32: St. Johns River State College | F32: ='Summary Analytics'!E28 -> 0.13390394 | G32: ='Summary Analytics'!G28 -> 952.58531 | H32: 14 | I32: State College of Florida, Manatee-Sarasota | J32: ='SCF MANATEE'!J83 -> 0.10863062 | K32: ='Summary Analytics'!J20 -> 0.00013627582
A33: 7 | B33: Florida State College at Jacksonville | C33: ='Summary Analytics'!D13 -> 0.70399809 | D33: 26 | E33: South Florida State College | F33: ='Summary Analytics'!E32 -> 0.11181672 | G33: ='Summary Analytics'!G32 -> 1078.0592 | H33: 8 | I33: Florida Keys Community College | J33: ='FL KEYS'!J83 -> 0.10938229 | K33: ='Summary Analytics'!J14 -> -0.12646006
A34: 27 | B34: Tallahassee Community College | C34: ='Summary Analytics'!D33 -> 0.70915896 | D34: 4 | E34: Chipola College | F34: ='Summary Analytics'!E10 -> 0.10441444 | G34: ='Summary Analytics'!G10 -> 1083.5078 | H34: 26 | I34: South Florida State College | J34: ='SOUTH FLORIDA'!J83 -> 0.11181672 | K34: ='Summary Analytics'!J32 -> 0.0092339405
A35: 16 | B35: North Florida Community College | C35: ='Summary Analytics'!D22 -> 0.71509075 | D35: 8 | E35: Florida Keys Community College | F35: ='Summary Analytics'!E14 -> 0.10938229 | G35: ='Summary Analytics'!G14 -> 1560.1841 | H35: 22 | I35: St. Johns River State College | J35: ='ST JOHNS'!J83 -> 0.13390394 | K35: ='Summary Analytics'!J28 -> 0.0063708391

Sheet System Summary
A1: The Florida College System
A2: Data Collection for Administrative Cost Report
A3: COLLEGE NAME:
A4: Florida College System
A6: Account | D6: Name | G6: FY 2017-18 | H6: Administration? | I6: Administrative Amount | J6: Excluded Amount | K6: Data Validation | L6: Comments
A7: 16000000 | D7: Institutional Support Control (Administrative)
B8: 16100000 | E8: Executive Management Control | G8: 86206900 | I8: 51910979 | J8: 34295921 | K8: 0
C9: 16110000 | F9: College-Wide Management | G9: 673635 | I9: 426239 | J9: 247396 | K9: 673635
C10: 16111000 | F10: District Board of Trustees | G10: 829040 | I10: 485690 | J10: 343350 | K10: 829040
C11: 16112000 | F11: President | G11: 17767301 | I11: 17353000 | J11: 414300 | K11: 17767301
C12: 16113000 | F12: Assistant to the President | G12: 2396902 | I12: 1984758 | J12: 412144 | K12: 2396902
C13: 16114000 | F13: Executive Vice President/Vice President(s) | G13: 21839220 | I13: 19433377 | J13: 2405843 | K13: 21839220
C14: 16115000 | F14: Chief Campus Administrators in Multi-Campus Colleges | G14: 20038686 | I14: 1014681 | J14: 19024005 | K14: 20038686
C15: 16116000 | F15: Equal Access, Equal Opportunity, Equal Employment Officer | G15: 1364546 | I15: 1255632 | J15: 108915 | K15: 1364546
C16: 16117000 | F16: Internal Auditing | G16: 167201 | I16: 167201 | J16: 0 | K16: 167201
C17: 16120000 | F17: Educational Planning and Development | G17: 1653848 | I17: 1082994 | J17: 570854 | K17: 1653848
C18: 16121000 | F18: Institutional Research | G18: 11168826 | I18: 1502231 | J18: 9666595 | K18: 11168826
C19: 16122000 | F19: Analytical Studies | G19: 523994 | I19: 447780 | J19: 76215 | K19: 523994
C20: 16130000 | F20: Legal Services | G20: 6609398 | I20: 6052478 | J20: 556920 | K20: 6609398
... C24: 16143000 | F24: Administrative Councils | G24: 20798 | I24: 20156 | J24: 642 | K24: 20798
B25: 16200000 | E25: Fiscal Operations Control | G25: 67795738 | I25: 40658204 | J25: 27137534 | K25: 0
C26: 16210000 | F26: Fiscal Control | G26: 5568679 | I26: 4204067 | J26: 1364612 | K26: 5568679
C27: 16211000 | F27: Business Officer (Financial Duties) | G27: 2870325 | I27: 2329888 | J27: 540438 | K27: 2870325
C28: 16212000 | F28: Comptroller | G28: 10269265 | I28: 8445464 | J28: 1823801 | K28: 10269265
C29: 16213000 | F29: Budget Administration and Control | G29: 8810913 | I29: 5010986 | J29: 3799927 | K29: 8810913
C30: 16220000 | F30: Financial Operations | G30: 13983755 | I30: 8660756 | J30: 5322999 | K30: 13983755
C31: 16221000 | F31: Payroll Operation | G31: 3331166 | I31: 3038172 | J31: 292994 | K31: 3331166
C32: 16222000 | F32: Bursar | G32: 6914689 | I32: 708331 | J32: 6206358 | K32: 6914689
C33: 16223000 | F33: Cashier | G33: 2354903 | I33: 516508 | J33: 1838395 | K33: 2354903
C34: 16224000 | F34: Disbursement | G34: 1751018 | I34: 1502398 | J34: 248620 | K34: 1751018
C35: 16225000 | F35: Accounting | G35: 4815973 | I35: 3172348 | J35: 1643625 | K35: 4815973
C36: 16230000 | F36: Investment Management | G36: 332919 | I36: 332919 | J36: 0 | K36: 332919
C37: 16231000 | F37: Cash Flow Management | G37: 2382086 | I37: 1489689 | J37: 892397 | K37: 2382086
... C41: 16242000 | F41: Grants Accounting | G41: 1688135 | I41: 264555 | J41: 1423580 | K41: 1688135
B42: 16300000 | E42: General Administrative and Logistical Services Control | G42: 179278904 | I42: 58568335 | J42: 120710569 | K42: 0
C43: 16310000 | F43: Administrative Data/Telecommunication Services | G43: 51302821 | I43: 2224068 | J43: 49078753 | K43: 51302821
C44: 16310100 | F44: Computing | G44: 33448281 | I44: 7028503 | J44: 26419778 | K44: 33448281
C45: 16310200 | F45: Telecommunications | G45: 4661532 | I45: 868761 | J45: 3792771 | K45: 4661532
C46: 16310300 | F46: Networking | G46: 6323631 | I46: 12611 | J46: 6311021 | K46: 6323631
C47: 16320000 | F47: Human Resources | G47: 30805777 | I47: 29263547 | J47: 1542230 | K47: 30805777
...

Sheet EASTERN
A1: The Florida College System
A2: Data Collection for the Administrative Cost Report
A3: COLLEGE NAME:
A4: Eastern Florida State College
A6: Account | D6: Name | G6: FY 2017-18 | H6: Administration? | I6: Administrative Amount | J6: Excluded Amount | K6: Data Validation | L6: Comments / Additional Details
A7: 16000000 | D7: Institutional Support Control (Administrative)
B8: 16100000 | E8: Executive Management Control | G8: 2386959.5 | I8: 1070590 | J8: 1316369.5
C9: 16110000 | F9: College-Wide Management | G9: 3631.7183 | H9: Yes | I9: 3631.7183 | K9: 3631.7183
C10: 16111000 | F10: District Board of Trustees | K10: 0
C11: 16112000 | F11: President | G11: 955217.35 | H11: Yes | I11: 955217.35 | K11: 955217.35
C12: 16113000 | F12: Assistant to the President | K12: 0
C13: 16114000 | F13: Executive Vice President/Vice President(s) | K13: 0
C14: 16115000 | F14: Chief Campus Administrators in Multi-Campus Colleges | G14: 659969.85 | H14: Partial | I14: 18237.489 | J14: 641732.36 | K14: 659969.85 | L14: Campus Provosts tab1.2(18)
C15: 16116000 | F15: Equal Access, Equal Opportunity, Equal Employment Officer | K15: 0
C16: 16117000 | F16: Internal Auditing | K16: 0
C17: 16120000 | F17: Educational Planning and Development | K17: 0
C18: 16121000 | F18: Institutional Research | G18: 674637.17 | H18: No | J18: 674637.17 | K18: 674637.17
C19: 16122000 | F19: Analytical Studies | K19: 0
C20: 16130000 | F20: Legal Services | G20: 93503.459 | H20: Yes | I20: 93503.459 | K20: 93503.459
C21: 16140000 | F21: College-Wide Planning and Management Committees, Council or Task Forces | K21: 0
C22: 16141000 | F22: Faculty Senates | K22: 0
C23: 16142000 | F23: Planning Committees | K23: 0
C24: 16143000 | F24: Administrative Councils | K24: 0
B25: 16200000 | E25: Fiscal Operations Control | G25: 2140102.8 | I25: 1514601.6 | J25: 625501.2
C26: 16210000 | F26: Fiscal Control | K26: 0
C27: 16211000 | F27: Business Officer (Financial Duties) | G27: 428033.39 | H27: Yes | I27: 428033.39 | K27: 428033.39
C28: 16212000 | F28: Comptroller | G28: 495754.23 | H28: Yes | I28: 495754.23 | K28: 495754.23
C29: 16213000 | F29: Budget Administration and Control | G29: 52557.927 | H29: Yes | I29: 52557.927 | K29: 52557.927
C30: 16220000 | F30: Financial Operations | G30: 216043.51 | H30: No | J30: 216043.51 | K30: 216043.51
C31: 16221000 | F31: Payroll Operation | G31: 174420.4 | H31: Yes | I31: 174420.4 | K31: 174420.4
C32: 16222000 | F32: Bursar | G32: 283370.37 | H32: No | J32: 283370.37 | K32: 283370.37
C33: 16223000 | F33: Cashier | G33: 126087.33 | H33: No | J33: 126087.33 | K33: 126087.33
C34: 16224000 | F34: Disbursement | G34: 280576.72 | H34: Yes | I34: 280576.72 | K34: 280576.72
C35: 16225000 | F35: Accounting | K35: 0
C36: 16230000 | F36: Investment Management | K36: 0
C37: 16231000 | F37: Cash Flow Management | K37: 0
C38: 16232000 | F38: Endowment Management | K38: 0
C39: 16240000 | F39: Grants and Contracts Financial Management | K39: 0
C40: 16241000 | F40: Grants Management | K40: 0
C41: 16242000 | F41: Grants Accounting | G41: 83258.974 | H41: Yes | I41: 83258.974 | K41: 83258.974
...

Sheet BROWARD
A1: The Florida College System
A2: Data Collection for the Administrative Cost Report
A3: COLLEGE NAME:
A4: Broward College
A6: Account | D6: Name | G6: FY 2017-18 | H6: Administration? | I6: Administrative Amount | J6: Excluded Amount | K6: Data Validation | L6: Comments / Additional Details
A7: 16000000 | D7: Institutional Support Control (Administrative)
B8: 16100000 | E8: Executive Management Control | G8: 6826368 | I8: 5144204 | J8: 1682164
C9: 16110000 | F9: College-Wide Management | G9: 0 | I9: 0 | J9: 0 | K9: 0
C10: 16111000 | F10: District Board of Trustees | G10: 0 | I10: 0 | J10: 0 | K10: 0
C11: 16112000 | F11: President | G11: 618278 | H11: Partial | I11: 578901 | J11: 39377 | K11: 618278
C12: 16113000 | F12: Assistant to the President | G12: 595568 | H12: Partial | I12: 337395 | J12: 258173 | K12: 595568
C13: 16114000 | F13: Executive Vice President/Vice President(s) | G13: 2216746 | H13: Partial | I13: 2026662 | J13: 190084 | K13: 2216746
C14: 16115000 | F14: Chief Campus Administrators in Multi-Campus Colleges | G14: 1174009 | H14: Partial | I14: 951356 | J14: 222653 | K14: 1174009
C15: 16116000 | F15: Equal Access, Equal Opportunity, Equal Employment Officer | I15: 0 | J15: 0 | K15: 0
C16: 16117000 | F16: Internal Auditing | G16: 0 | I16: 0 | J16: 0 | K16: 0
C17: 16120000 | F17: Educational Planning and Development | G17: 0 | I17: 0 | J17: 0 | K17: 0
C18: 16121000 | F18: Institutional Research | G18: 1349701 | H18: Partial | I18: 525962 | J18: 823739 | K18: 1349701
C19: 16122000 | F19: Analytical Studies | G19: 92600 | H19: Yes | I19: 92600 | J19: 0 | K19: 92600
C20: 16130000 | F20: Legal Services | G20: 779466 | H20: Partial | I20: 631328 | J20: 148138 | K20: 779466
C21: 16140000 | F21: College-Wide Planning and Management Committees, Council or Task Forces | G21: 0 | I21: 0 | J21: 0 | K21: 0
C22: 16141000 | F22: Faculty Senates | G22: 0 | I22: 0 | J22: 0 | K22: 0
C23: 16142000 | F23: Planning Committees | G23: 0 | I23: 0 | J23: 0 | K23: 0
C24: 16143000 | F24: Administrative Councils | I24: 0 | J24: 0 | K24: 0
B25: 16200000 | E25: Fiscal Operations Control | G25: 6335248 | I25: 4030289 | J25: 2304959
C26: 16210000 | F26: Fiscal Control | G26: 0 | I26: 0 | J26: 0 | K26: 0
C27: 16211000 | F27: Business Officer (Financial Duties) | G27: 1264609 | H27: Partial | I27: 784534 | J27: 480075 | K27: 1264609
C28: 16212000 | F28: Comptroller | G28: 434 | H28: Yes | I28: 434 | J28: 0 | K28: 434
C29: 16213000 | F29: Budget Administration and Control | G29: 464567 | H29: Partial | I29: 203854 | J29: 260713 | K29: 464567
C30: 16220000 | F30: Financial Operations | G30: 0 | I30: 0 | J30: 0 | K30: 0
C31: 16221000 | F31: Payroll Operation | G31: 386440 | H31: Partial | I31: 147255 | J31: 239185 | K31: 386440
C32: 16222000 | F32: Bursar | G32: 1288262 | H32: Partial | I32: 345044 | J32: 943218 | K32: 1288262
C33: 16223000 | F33: Cashier | G33: 0 | I33: 0 | J33: 0 | K33: 0
C34: 16224000 | F34: Disbursement | G34: 392836 | H34: Partial | I34: 144216 | J34: 248620 | K34: 392836
C35: 16225000 | F35: Accounting | G35: 914377 | H35: Partial | I35: 858859 | J35: 55518 | K35: 914377
C36: 16230000 | F36: Investment Management | G36: 0 | I36: 0 | J36: 0 | K36: 0
C37: 16231000 | F37: Cash Flow Management | G37: 1489689 | H37: Yes | I37: 1489689 | J37: 0 | K37: 1489689
C38: 16232000 | F38: Endowment Management | G38: 0 | I38: 0 | J38: 0 | K38: 0
C39: 16240000 | F39: Grants and Contracts Financial Management | G39: 0 | I39: 0 | J39: 0 | K39: 0
C40: 16241000 | F40: Grants Management | G40: 0 | I40: 0 | J40: 0 | K40: 0
C41: 16242000 | F41: Grants Accounting | G41: 134034 | H41: Partial | I41: 56404 | J41: 77630 | K41: 134034
...

Sheet CENTRAL
A1: The Florida College System
A2: Data Collection for the Administrative Cost Report
A3: COLLEGE NAME:
A4: College of Central Florida
A6: Account | D6: Name | G6: FY 2017-18 | H6: Administration? | I6: Administrative Amount | J6: Excluded Amount | K6: Data Validation | L6: Comments / Additional Details
A7: 16000000 | D7: Institutional Support Control (Administrative)
B8: 16100000 | E8: Executive Management Control | G8: 1242898.7 | I8: 970449.44 | J8: 272449.28
C9: 16110000 | F9: College-Wide Management | K9: 0
C10: 16111000 | F10: District Board of Trustees | G10: 9040.71 | H10: yes | I10: 9040.71 | K10: 9040.71
C11: 16112000 | F11: President | G11: 535124.2 | H11: yes | I11: 535124.2 | K11: 535124.2
C12: 16113000 | F12: Assistant to the President | K12: 0
C13: 16114000 | F13: Executive Vice President/Vice President(s) | G13: 308732.74 | H13: yes | I13: 308732.74 | K13: 308732.74
C14: 16115000 | F14: Chief Campus Administrators in Multi-Campus Colleges | G14: 55947.31 | H14: no | J14: 55947.31 | K14: 55947.31 | L14: college wide
C15: 16116000 | F15: Equal Access, Equal Opportunity, Equal Employment Officer | K15: 0
C16: 16117000 | F16: Internal Auditing | K16: 0
C17: 16120000 | F17: Educational Planning and Development | K17: 0
C18: 16121000 | F18: Institutional Research | G18: 216501.97 | H18: no | J18: 216501.97 | K18: 216501.97 | L18: Student based reporting
C19: 16122000 | F19: Analytical Studies | K19: 0
C20: 16130000 | F20: Legal Services | G20: 117551.79 | H20: yes | I20: 117551.79 | K20: 117551.79
C21: 16140000 | F21: College-Wide Planning and Management Committees, Council or Task Forces | K21: 0
C22: 16141000 | F22: Faculty Senates | K22: 0
C23: 16142000 | F23: Planning Committees | K23: 0
C24: 16143000 | F24: Administrative Councils | K24: 0
B25: 16200000 | E25: Fiscal Operations Control | G25: 639234.25 | I25: 539967.77 | J25: 99266.48
C26: 16210000 | F26: Fiscal Control | K26: 0
C27: 16211000 | F27: Business Officer (Financial Duties) | K27: 0
C28: 16212000 | F28: Comptroller | K28: 0
C29: 16213000 | F29: Budget Administration and Control | K29: 0
C30: 16220000 | F30: Financial Operations | G30: 539967.77 | H30: yes | I30: 539967.77 | K30: 539967.77
C31: 16221000 | F31: Payroll Operation | K31: 0
C32: 16222000 | F32: Bursar | K32: 0
C33: 16223000 | F33: Cashier | K33: 0
C34: 16224000 | F34: Disbursement | K34: 0
C35: 16225000 | F35: Accounting | K35: 0
C36: 16230000 | F36: Investment Management | K36: 0
C37: 16231000 | F37: Cash Flow Management | K37: 0
C38: 16232000 | F38: Endowment Management | K38: 0
C39: 16240000 | F39: Grants and Contracts Financial Management | G39: 99266.48 | H39: no | J39: 99266.48 | K39: 99266.48 | L39: Support for Faculty pursuing grant funding
C40: 16241000 | F40: Grants Management | K40: 0
C41: 16242000 | F41: Grants Accounting | K41: 0
...

Sheet CHIPOLA
A1: The Florida College System
A2: Data Collection for the Administrative Cost Report
A3: COLLEGE NAME:
A4: Chipola College
A6: Account | D6: Name | G6: FY 2017-18 | H6: Administration? | I6: Administrative Amount | J6: Excluded Amount | K6: Data Validation | L6: Comments / Additional Details
A7: 16000000 | D7: Institutional Support Control (Administrative)
B8: 16100000 | E8: Executive Management Control | G8: 640492 | I8: 640492 | J8: 0
C9: 16110000 | F9: College-Wide Management | K9: 0
C10: 16111000 | F10: District Board of Trustees | G10: 11960 | I10: 11960 | K10: 11960
C11: 16112000 | F11: President | G11: 368104 | I11: 368104 | K11: 368104
C12: 16113000 | F12: Assistant to the President | K12: 0
C13: 16114000 | F13: Executive Vice President/Vice President(s) | K13: 0
C14: 16115000 | F14: Chief Campus Administrators in Multi-Campus Colleges | K14: 0
C15: 16116000 | F15: Equal Access, Equal Opportunity, Equal Employment Officer | K15: 0
C16: 16117000 | F16: Internal Auditing | K16: 0
C17: 16120000 | F17: Educational Planning and Development | G17: 260428 | I17: 260428 | K17: 260428
C18: 16121000 | F18: Institutional Research | K18: 0
C19: 16122000 | F19: Analytical Studies | K19: 0
C20: 16130000 | F20: Legal Services | K20: 0
C21: 16140000 | F21: College-Wide Planning and Management Committees, Council or Task Forces | K21: 0
C22: 16141000 | F22: Faculty Senates | K22: 0
C23: 16142000 | F23: Planning Committees | K23: 0
C24: 16143000 | F24: Administrative Councils | K24: 0
B25: 16200000 | E25: Fiscal Operations Control | G25: 500257 | I25: 397479 | J25: 102778
C26: 16210000 | F26: Fiscal Control | K26: 0
C27: 16211000 | F27: Business Officer (Financial Duties) | K27: 0
C28: 16212000 | F28: Comptroller | K28: 0
C29: 16213000 | F29: Budget Administration and Control | K29: 0
C30: 16220000 | F30: Financial Operations | G30: 500257 | H30: Partial | I30: 397479 | J30: 102778 | K30: 500257 | L30: Excludes cashiers & merchant service fees
C31: 16221000 | F31: Payroll Operation | K31: 0
C32: 16222000 | F32: Bursar | K32: 0
C33: 16223000 | F33: Cashier | K33: 0
C34: 16224000 | F34: Disbursement | K34: 0
C35: 16225000 | F35: Accounting | K35: 0
C36: 16230000 | F36: Investment Management | K36: 0
C37: 16231000 | F37: Cash Flow Management | K37: 0
C38: 16232000 | F38: Endowment Management | K38: 0
C39: 16240000 | F39: Grants and Contracts Financial Management | K39: 0
C40: 16241000 | F40: Grants Management | K40: 0
C41: 16242000 | F41: Grants Accounting | K41: 0
...

Sheet DAYTONA
A1: The Florida College System
A2: Data Collection for the Administrative Cost Report
A3: COLLEGE NAME:
A4: Daytona State College
A6: Account | D6: Name | G6: FY 2017-18 | H6: Administration? | I6: Administrative Amount | J6: Excluded Amount | K6: Data Validation | L6: Comments / Additional Details
A7: 16000000 | D7: Institutional Support Control (Administrative)
B8: 16100000 | E8: Executive Management Control | G8: 2010227.5 | I8: 1600697.4 | J8: 409530.1
C9: 16110000 | F9: College-Wide Management | K9: 0
C10: 16111000 | F10: District Board of Trustees | G10: 12841.79 | H10: Yes | I10: 12841.79 | K10: 12841.79
C11: 16112000 | F11: President | G11: 654726 | H11: Yes | I11: 654726 | K11: 654726
C12: 16113000 | F12: Assistant to the President | G12: 25297.34 | H12: Yes | I12: 25297.34 | K12: 25297.34
C13: 16114000 | F13: Executive Vice President/Vice President(s) | G13: 768250.5 | H13: Yes | I13: 768250.5 | K13: 768250.5
C14: 16115000 | F14: Chief Campus Administrators in Multi-Campus Colleges | K14: 0
C15: 16116000 | F15: Equal Access, Equal Opportunity, Equal Employment Officer | G15: 89143.34 | H15: Yes | I15: 89143.34 | K15: 89143.34
C16: 16117000 | F16: Internal Auditing | K16: 0
C17: 16120000 | F17: Educational Planning and Development | G17: 125809.44 | H17: No | J17: 125809.44 | K17: 125809.44
C18: 16121000 | F18: Institutional Research | G18: 283720.66 | H18: No | J18: 283720.66 | K18: 283720.66
C19: 16122000 | F19: Analytical Studies | K19: 0
C20: 16130000 | F20: Legal Services | G20: 50395.05 | H20: Yes | I20: 50395.05 | K20: 50395.05
C21: 16140000 | F21: College-Wide Planning and Management Committees, Council or Task Forces | G21: 43.39 | H21: Yes | I21: 43.39 | K21: 43.39
C22: 16141000 | F22: Faculty Senates | K22: 0
C23: 16142000 | F23: Planning Committees | K23: 0
C24: 16143000 | F24: Administrative Councils | K24: 0
B25: 16200000 | E25: Fiscal Operations Control | G25: 2367111.8 | I25: 1762841.9 | J25: 604269.97
C26: 16210000 | F26: Fiscal Control | K26: 0
C27: 16211000 | F27: Business Officer (Financial Duties) | G27: 266808.22 | H27: Yes | I27: 266808.22 | K27: 266808.22
C28: 16212000 | F28: Comptroller | K28: 0
C29: 16213000 | F29: Budget Administration and Control | G29: 151340.08 | H29: Yes | I29: 151340.08 | K29: 151340.08
C30: 16220000 | F30: Financial Operations | K30: 0
C31: 16221000 | F31: Payroll Operation | G31: 465428.85 | H31: Yes | I31: 465428.85 | K31: 465428.85
C32: 16222000 | F32: Bursar | G32: 453754 | H32: Partial | I32: 66664.37 | J32: 387089.63 | K32: 453754 | L32: Removed Cashiers and all Operating costs. Kept Bursar Salary and Benefits
C33: 16223000 | F33: Cashier | K33: 0
C34: 16224000 | F34: Disbursement | G34: 179041.67 | H34: Yes | I34: 179041.67 | K34: 179041.67
C35: 16225000 | F35: Accounting | G35: 850739.02 | H35: Partial | I35: 633558.68 | J35: 217180.34 | K35: 850739.02 | L35: Excluded Banking Fees
C36: 16230000 | F36: Investment Management | K36: 0
C37: 16231000 | F37: Cash Flow Management | K37: 0
C38: 16232000 | F38: Endowment Management | K38: 0
C39: 16240000 | F39: Grants and Contracts Financial Management | K39: 0
C40: 16241000 | F40: Grants Management | K40: 0
C41: 16242000 | F41: Grants Accounting | K41: 0
...

Sheet SOUTHWESTERN
A1: The Florida College System
A2: Data Collection for the Administrative Cost Report
A3: COLLEGE NAME:
A4: Florida SouthWestern State College
A6: Account | D6: Name | G6: FY 2017-18 | H6: Administration? | I6: Administrative Amount | J6: Excluded Amount | K6: Data Validation | L6: Comments / Additional Details
A7: 16000000 | D7: Institutional Support Control (Administrative)
B8: 16100000 | E8: Executive Management Control | G8: 3549428 | I8: 2016010 | J8: 1533418
C9: 16110000 | F9: College-Wide Management | K9: 0
C10: 16111000 | F10: District Board of Trustees | G10: 2682 | H10: Yes | I10: 2682 | K10: 2682
C11: 16112000 | F11: President | G11: 1128851 | H11: Yes | I11: 1128851 | K11: 1128851
C12: 16113000 | F12: Assistant to the President | G12: 153971 | H12: No | J12: 153971 | K12: 153971 | L12: Director, Governmental Relations
C13: 16114000 | F13: Executive Vice President/Vice President(s) | G13: 448527 | H13: Yes | I13: 448527 | K13: 448527
C14: 16115000 | F14: Chief Campus Administrators in Multi-Campus Colleges | G14: 919585 | H14: No | J14: 919585 | K14: 919585 | L14: Regional Vice Presidents
C15: 16116000 | F15: Equal Access, Equal Opportunity, Equal Employment Officer | K15: 0
C16: 16117000 | F16: Internal Auditing | K16: 0
C17: 16120000 | F17: Educational Planning and Development | K17: 0
C18: 16121000 | F18: Institutional Research | G18: 459862 | H18: No | J18: 459862 | K18: 459862 | L18: Institutional Research & Assessment Department
C19: 16122000 | F19: Analytical Studies | K19: 0
C20: 16130000 | F20: Legal Services | G20: 435950 | H20: Yes | I20: 435950 | K20: 435950
C21: 16140000 | F21: College-Wide Planning and Management Committees, Council or Task Forces | K21: 0
C22: 16141000 | F22: Faculty Senates | K22: 0
C23: 16142000 | F23: Planning Committees | K23: 0
C24: 16143000 | F24: Administrative Councils | K24: 0
B25: 16200000 | E25: Fiscal Operations Control | G25: 2696514 | I25: 1108503 | J25: 1588011
C26: 16210000 | F26: Fiscal Control | K26: 0
C27: 16211000 | F27: Business Officer (Financial Duties) | K27: 0
C28: 16212000 | F28: Comptroller | G28: 2621134 | H28: Partial | I28: 1095337 | J28: 1525797 | K28: 2621134 | L28: Excluded Bursar, Collection Services, Bad Debt Expenses, Bank Fees
C29: 16213000 | F29: Budget Administration and Control | K29: 0
C30: 16220000 | F30: Financial Operations | K30: 0
C31: 16221000 | F31: Payroll Operation | K31: 0
C32: 16222000 | F32: Bursar | K32: 0
C33: 16223000 | F33: Cashier | K33: 0
C34: 16224000 | F34: Disbursement | K34: 0
C35: 16225000 | F35: Accounting | K35: 0
C36: 16230000 | F36: Investment Management | G36: 13166 | H36: Yes | I36: 13166 | K36: 13166
C37: 16231000 | F37: Cash Flow Management | K37: 0
C38: 16232000 | F38: Endowment Management | K38: 0
C39: 16240000 | F39: Grants and Contracts Financial Management | K39: 0
C40: 16241000 | F40: Grants Management | G40: 62214 | H40: No | J40: 62214 | K40: 62214 | L40: Manager, Grants Administration and Development
C41: 16242000 | F41: Grants Accounting | K41: 0
...

Sheet FSC JAX
A1: The Florida College System
A2: Data Collection for the Administrative Cost Report
A3: COLLEGE NAME:
A4: Florida State College at Jacksonville
A6: Account | D6: Name | G6: FY 2017-18 | H6: Administration? | I6: Administrative Amount | J6: Excluded Amount | K6: Data Validation | L6: Comments / Additional Details
A7: 16000000 | D7: Institutional Support Control (Administrative)
B8: 16100000 | E8: Executive Management Control | G8: 5626002.3 | I8: 2354637.4 | J8: 3271364.9
C9: 16110000 | F9: College-Wide Management | K9: 0
C10: 16111000 | F10: District Board of Trustees | G10: 9093.87 | H10: Yes | I10: 9093.87 | K10: 9093.87
C11: 16112000 | F11: President | G11: 749727.01 | H11: Yes | I11: 749727.01 | K11: 749727.01
C12: 16113000 | F12: Assistant to the President | G12: 0 | K12: 0
C13: 16114000 | F13: Executive Vice President/Vice President(s) | G13: 977324.33 | H13: Yes | I13: 977324.33 | K13: 977324.33
C14: 16115000 | F14: Chief Campus Administrators in Multi-Campus Colleges | G14: 1637321.6 | H14: No | J14: 1637321.6 | K14: 1637321.6
C15: 16116000 | F15: Equal Access, Equal Opportunity, Equal Employment Officer | G15: 0 | K15: 0
C16: 16117000 | F16: Internal Auditing | G16: 0 | K16: 0
C17: 16120000 | F17: Educational Planning and Development | G17: 160984.88 | H17: No | J17: 160984.88 | K17: 160984.88
C18: 16121000 | F18: Institutional Research | G18: 1472416.5 | H18: No | J18: 1472416.5 | K18: 1472416.5
C19: 16122000 | F19: Analytical Studies | G19: 0 | K19: 0
C20: 16130000 | F20: Legal Services | G20: 618492.16 | H20: Yes | I20: 618492.16 | K20: 618492.16
C21: 16140000 | F21: College-Wide Planning and Management Committees, Council or Task Forces | G21: 0 | K21: 0
C22: 16141000 | F22: Faculty Senates | G22: 0 | K22: 0
C23: 16142000 | F23: Planning Committees | G23: 0 | K23: 0
C24: 16143000 | F24: Administrative Councils | G24: 641.94 | H24: No | J24: 641.94 | K24: 641.94
B25: 16200000 | E25: Fiscal Operations Control | G25: 4849440.5 | I25: 2144212.8 | J25: 2705227.7
C26: 16210000 | F26: Fiscal Control | K26: 0
C27: 16211000 | F27: Business Officer (Financial Duties) | G27: 0 | K27: 0
C28: 16212000 | F28: Comptroller | G28: 0 | K28: 0
C29: 16213000 | F29: Budget Administration and Control | G29: 0 | K29: 0
C30: 16220000 | F30: Financial Operations | G30: 4838832.2 | H30: Partial | I30: 2144212.8 | J30: 2694619.4 | K30: 4838832.2 | L30: Exclude Bad Debt Expense and Credit Card Costs: Exclude AR Staff
C31: 16221000 | F31: Payroll Operation | G31: 0 | K31: 0
C32: 16222000 | F32: Bursar | G32: 0 | K32: 0
C33: 16223000 | F33: Cashier | G33: 10608.3 | H33: No | J33: 10608.3 | K33: 10608.3
C34: 16224000 | F34: Disbursement | G34: 0 | K34: 0
C35: 16225000 | F35: Accounting | G35: 0 | K35: 0
C36: 16230000 | F36: Investment Management | G36: 0 | K36: 0
C37: 16231000 | F37: Cash Flow Management | G37: 0 | K37: 0
C38: 16232000 | F38: Endowment Management | G38: 0 | K38: 0
C39: 16240000 | F39: Grants and Contracts Financial Management | G39: 0 | K39: 0
C40: 16241000 | F40: Grants Management | G40: 0 | K40: 0
C41: 16242000 | F41: Grants Accounting | G41: 0 | K41: 0
...

Sheet FL KEYS
A1: The Florida College System
A2: Data Collection for the Administrative Cost Report
A3: COLLEGE NAME:
A4: Florida Keys Community College
A6: Account | D6: Name | G6: FY 2017-18 | H6: Administration? | I6: Administrative Amount | J6: Excluded Amount | K6: Data Validation | L6: Comments / Additional Details
A7: 16000000 | D7: Institutional Support Control (Administrative)
B8: 16100000 | E8: Executive Management Control | G8: 396573.54 | I8: 26184.92 | J8: 370388.62
C9: 16110000 | F9: College-Wide Management | K9: 0
C10: 16111000 | F10: District Board of Trustees | G10: 3398.73 | H10: Yes | I10: 3398.73 | K10: 3398.73
C11: 16112000 | F11: President | G11: 381611.45 | H11: Partial | I11: 22786.19 | J11: 358825.26 | K11: 381611.45
C12: 16113000 | F12: Assistant to the President | G12: 0 | K12: 0
C13: 16114000 | F13: Executive Vice President/Vice President(s) | G13: 0 | K13: 0
C14: 16115000 | F14: Chief Campus Administrators in Multi-Campus Colleges | G14: 0 | K14: 0
C15: 16116000 | F15: Equal Access, Equal Opportunity, Equal Employment Officer | G15: 0 | K15: 0
C16: 16117000 | F16: Internal Auditing | G16: 0 | K16: 0
C17: 16120000 | F17: Educational Planning and Development | G17: 0 | K17: 0
C18: 16121000 | F18: Institutional Research | G18: 11563.36 | H18: No | J18: 11563.36 | K18: 11563.36
C19: 16122000 | F19: Analytical Studies | G19: 0 | K19: 0
C20: 16130000 | F20: Legal Services | G20: 0 | K20: 0
C21: 16140000 | F21: College-Wide Planning and Management Committees, Council or Task Forces | G21: 0 | K21: 0
C22: 16141000 | F22: Faculty Senates | G22: 0 | K22: 0
C23: 16142000 | F23: Planning Committees | G23: 0 | K23: 0
C24: 16143000 | F24: Administrative Councils | G24: 0 | K24: 0
B25: 16200000 | E25: Fiscal Operations Control | G25: 544207.44 | I25: 452364 | J25: 91843.44
C26: 16210000 | F26: Fiscal Control | K26: 0
C27: 16211000 | F27: Business Officer (Financial Duties) | G27: 230774.63 | H27: Yes | I27: 230774.63 | K27: 230774.63
C28: 16212000 | F28: Comptroller | G28: 0 | K28: 0
C29: 16213000 | F29: Budget Administration and Control | G29: 0 | K29: 0
C30: 16220000 | F30: Financial Operations | G30: 243106.21 | H30: Partial | I30: 221589.37 | J30: 21516.84 | K30: 243106.21
C31: 16221000 | F31: Payroll Operation | G31: 0 | K31: 0
C32: 16222000 | F32: Bursar | G32: 0 | K32: 0
C33: 16223000 | F33: Cashier | G33: 0 | K33: 0
C34: 16224000 | F34: Disbursement | G34: 0 | K34: 0
C35: 16225000 | F35: Accounting | G35: 0 | K35: 0
C36: 16230000 | F36: Investment Management | G36: 0 | K36: 0
C37: 16231000 | F37: Cash Flow Management | G37: 0 | K37: 0
C38: 16232000 | F38: Endowment Management | G38: 0 | K38: 0
C39: 16240000 | F39: Grants and Contracts Financial Management | G39: 0 | K39: 0
C40: 16241000 | F40: Grants Management | G40: 70326.6 | H40: No | J40: 70326.6 | K40: 70326.6
C41: 16242000 | F41: Grants Accounting | K41: 0
...

Sheet GULF COAST
A1: The Florida College System
A2: Data Collection for the Administrative Cost Report
A3: COLLEGE NAME:
A4: Gulf Coast State College
A6: Account | D6: Name | G6: FY 2017-18 | H6: Administration? | I6: Administrative Amount | J6: Excluded Amount | K6: Data Validation | L6: Comments / Additional Details
A7: 16000000 | D7: Institutional Support Control (Administrative)
B8: 16100000 | E8: Executive Management Control | G8: 1413191 | I8: 1139732.4 | J8: 273458.56
C9: 16110000 | F9: College-Wide Management | G9: 664359.21 | H9: Partial | I9: 416963.02 | J9: 247396.19 | K9: 664359.21
C10: 16111000 | F10: District Board of Trustees | G10: 3261.1 | H10: Yes | I10: 3261.1 | K10: 3261.1
C11: 16112000 | F11: President | G11: 462297.3 | H11: Yes | I11: 462297.3 | K11: 462297.3
C12: 16113000 | F12: Assistant to the President | K12: 0
C13: 16114000 | F13: Executive Vice President/Vice President(s) | G13: 209117.02 | H13: Yes | I13: 209117.02 | K13: 209117.02
C14: 16115000 | F14: Chief Campus Administrators in Multi-Campus Colleges | K14: 0
C15: 16116000 | F15: Equal Access, Equal Opportunity, Equal Employment Officer | K15: 0
C16: 16117000 | F16: Internal Auditing | K16: 0
C17: 16120000 | F17: Educational Planning and Development | G17: 26062.37 | H17: No | J17: 26062.37 | K17: 26062.37
C18: 16121000 | F18: Institutional Research | K18: 0
C19: 16122000 | F19: Analytical Studies | K19: 0
C20: 16130000 | F20: Legal Services | G20: 48094 | H20: Yes | I20: 48094 | K20: 48094
C21: 16140000 | F21: College-Wide Planning and Management Committees, Council or Task Forces | K21: 0
C22: 16141000 | F22: Faculty Senates | K22: 0
C23: 16142000 | F23: Planning Committees | K23: 0
C24: 16143000 | F24: Administrative Councils | K24: 0
B25: 16200000 | E25: Fiscal Operations Control | G25: 966517 | I25: 966517 | J25: 0
C26: 16210000 | F26: Fiscal Control | K26: 0
C27: 16211000 | F27: Business Officer (Financial Duties) | K27: 0
C28: 16212000 | F28: Comptroller | G28: 107102.43 | H28: Yes | I28: 107102.43 | K28: 107102.43
C29: 16213000 | F29: Budget Administration and Control | G29: 177309.85 | H29: Yes | I29: 177309.85 | K29: 177309.85
C30: 16220000 | F30: Financial Operations | G30: 77577.34 | H30: Yes | I30: 77577.34 | K30: 77577.34
C31: 16221000 | F31: Payroll Operation | G31: 48564.62 | H31: Yes | I31: 48564.62 | K31: 48564.62
C32: 16222000 | F32: Bursar | K32: 0
