Workbook

Sheet Summary Analytics
B1: THE FLORIDA COLLEGE SYSTEM
B2: 2015-2016
B3: ADMINISTRATIVE COST REPORT SUMMARY ANALYTICS
I5: Prior Year's Data:
B6: COLLEGE | C6: ADMINISTRATIVE COST | D6: % OF INSTITUTIONAL SUPPORT EXCLUDED | E6: ADMINISTRATIVE COST % OVER COST ANALYSIS TOTAL EXPENDITURES EXCLUDING TRANSFERS | F6: 2015-16 FTE-3 | G6: ADMINISTRATIVE COST PER FUNDABLE FTE | I6: 2014-15 ADMINISTRATIVE COST % OVER COST ANALYSIS TOTAL EXPENDITURES EXCLUDING TRANSFERS | J6: AMOUNT CHANGE
A7: 1 | B7: Eastern Florida State College | C7: 6645860.6 | D7: 0.42084852 | E7: 0.091097209 | F7: 10535.4 | G7: 630.81237 | I7: 0.099096389 | J7: -0.0079991801
A8: 2 | B8: Broward College | C8: 12221050 | D8: 0.60989997 | E8: 0.071165313 | F8: 30052.7 | G8: 406.65398 | I8: 0.070855722 | J8: 0.00030959107
A9: 3 | B9: College of Central Florida | C9: 2208591.8 | D9: 0.65463874 | E9: 0.060940697 | F9: 5285.5 | G9: 417.85863 | I9: 0.061545268 | J9: -0.00060457108
A10: 4 | B10: Chipola College | C10: 1647377.3 | D10: 0.50703646 | E10: 0.10508414 | F10: 1446.1 | G10: 1139.1863 | I10: 0.10213221 | J10: 0.0029519264
A11: 5 | B11: Daytona State College | C11: 7114123.7 | D11: 0.46262341 | E11: 0.090268123 | F11: 11753.6 | G11: 605.27189 | I11: 0.094663087 | J11: -0.004394964
A12: 6 | B12: Florida SouthWestern State College | C12: 6272713 | D12: 0.47181615 | E12: 0.096166639 | F12: 10352.9 | G12: 605.88946 | I12: 0.074116622 | J12: 0.022050018
A13: 7 | B13: Florida State College at Jacksonville | C13: 7814152 | D13: 0.66787665 | E13: 0.058275279 | F13: 19630.7 | G13: 398.05774 | I13: 0.060196814 | J13: -0.0019215355
A14: 8 | B14: Florida Keys Community College | C14: 917824.37 | D14: 0.60415544 | E14: 0.093457465 | F14: 714.5 | G14: 1284.5687 | I14: 0.11956801 | J14: -0.026110542
A15: 9 | B15: Gulf Coast State College | C15: 2515978.9 | D15: 0.49973418 | E15: 0.080804906 | F15: 3854.1 | G15: 652.80581 | I15: 0.079187714 | J15: 0.0016171914
A16: 10 | B16: Hillsborough Community College | C16: 9667982.5 | D16: 0.57065648 | E16: 0.085699962 | F16: 20045.7 | G16: 482.29708 | I16: 0.083898322 | J16: 0.0018016408
A17: 11 | B17: Indian River State College | C17: 3620391.7 | D17: 0.51532327 | E17: 0.044443578 | F17: 13725 | G17: 263.78082 | I17: 0.044754482 | J17: -0.0003109038
A18: 12 | B18: Florida Gateway College | C18: 1892650.9 | D18: 0.58901688 | E18: 0.10018668 | F18: 1980.9 | G18: 955.44999 | I18: 0.1084135 | J18: -0.0082268231
... A34: 28 | B34: Valencia College | C34: 14487621 | D34: 0.52141231 | E34: 0.080361055 | F34: 30127 | G34: 480.88496 | I34: 0.075009592 | J34: 0.0053514623
B35: FCS | C35: 1.6260856e+08 | D35: 0.5637517 | E35: 0.078184005 | F35: 327991.7 | G35: 495.77036 | I35: 0.076785191 | J35: 0.0013988139
B37: Highest: | D37: 0.69271096 | E37: 0.14434884 | F37: 51526 | G37: 1284.5687 | I37: 0.13038714
B38: Lowest: | D38: 0.2117625 | E38: 0.040313725 | F38: 714.5 | G38: 234.18701 | I38: 0.038829684
B39: Range: | D39: 0.48094846 | E39: 0.10403512 | F39: 50811.5 | G39: 1050.3817 | I39: 0.09155746

Sheet Comparative Matrices
E1: THE FLORIDA COLLEGE SYSTEM
E2: 2015-2016
E3: ADMINISTRATIVE COST REPORT COMPARATIVE MATRICES
AD5: *Determined by reporting preponderance.
F6: YES / NO / PARTIAL MATRIX (Yes means it is administrative) | AK6: Count of | AL6: Count of | AM6: Count of | AN6: Total | AO6: % of | AP6: % of | AQ6: % of
F7: COLLEGE | G7: Eastern Florida State College | H7: Broward College | I7: College of Central Florida | J7: Chipola College | K7: Daytona State College | L7: Florida SouthWestern State College | M7: Florida State College at Jacksonville | N7: Florida Keys Community College | O7: Gulf Coast State College | P7: Hillsborough Community College | Q7: Indian River State College | R7: Florida Gateway College | S7: Lake-Sumter Community College | T7: State College of Florida, Manatee-Sarasota | U7: Miami Dade College | V7: North Florida Community College | W7: Northwest Florida State College | X7: Palm Beach State College | Y7: Pasco-Hernando State College | Z7: Pensacola State College | AA7: Polk State College | AB7: St. Johns River State College | AC7: St. Petersburg College | AD7: Santa Fe College | AE7: Seminole State College of Florida | AF7: South Florida State College | AG7: Tallahassee Community College | AH7: Valencia College | AI7: FCS* | AK7: Yes | AL7: No | AM7: Partial | AO7: Yes | AP7: No | AQ7: Partial
A8: 16000000 | D8: Institutional Support Control (Administrative)
B9: 16100000 | E9: Executive Management Control
C10: 16110000 | F10: College-Wide Management | L10: Yes | O10: Partial | AI10: Yes | AK10: =COUNTIF(G10:AH10,"Yes") -> 1 | AL10: =COUNTIF(G10:AH10,"No") -> 0 | AM10: =COUNTIF(G10:AH10,"Partial") -> 1 | AN10: =SUM(AK10:AM10) -> 2 | AO10: =IFERROR(AK10/$AN10,0) -> 0.5 | AP10: =IFERROR(AL10/$AN10,0) -> 0 | AQ10: =IFERROR(AM10/$AN10,0) -> 0.5
C11: 16111000 | F11: District Board of Trustees | H11: Yes | I11: Yes | J11: Partial | K11: Yes | M11: Yes | N11: Yes | O11: Yes | P11: Yes | Q11: Yes | R11: Yes | S11: Yes | T11: Yes | U11: Yes | V11: Yes | W11: Yes | X11: Yes | Y11: Yes | Z11: Yes | AA11: Yes | AB11: Yes | AC11: Yes | AD11: Yes | AE11: Yes | AF11: Yes | AG11: Yes | AH11: Yes | AI11: Yes | AK11: =COUNTIF(G11:AH11,"Yes") -> 25 | AL11: =COUNTIF(G11:AH11,"No") -> 0 | AM11: =COUNTIF(G11:AH11,"Partial") -> 1 | AN11: =SUM(AK11:AM11) -> 26 | AO11: =IFERROR(AK11/$AN11,0) -> 0.96153846 | AP11: =IFERROR(AL11/$AN11,0) -> 0 | AQ11: =IFERROR(AM11/$AN11,0) -> 0.038461538
C12: 16112000 | F12: President | G12: Yes | H12: Partial | I12: Yes | J12: Yes | K12: Yes | L12: Yes | M12: Yes | N12: Partial | O12: Yes | P12: Yes | Q12: Yes | R12: Yes | S12: Yes | T12: Partial | U12: Yes | V12: Partial | W12: Yes | X12: Yes | Y12: Yes | Z12: Yes | AA12: Yes | AB12: Yes | AC12: Yes | AD12: Yes | AE12: Yes | AF12: Yes | AG12: Yes | AH12: Yes | AI12: Yes | AK12: =COUNTIF(G12:AH12,"Yes") -> 24 | AL12: =COUNTIF(G12:AH12,"No") -> 0 | AM12: =COUNTIF(G12:AH12,"Partial") -> 4 | AN12: =SUM(AK12:AM12) -> 28 | AO12: =IFERROR(AK12/$AN12,0) -> 0.85714286 | AP12: =IFERROR(AL12/$AN12,0) -> 0 | AQ12: =IFERROR(AM12/$AN12,0) -> 0.14285714
C13: 16113000 | F13: Assistant to the President | H13: Partial | K13: Yes | L13: No | Q13: Yes | V13: Yes | Z13: Yes | AC13: Yes | AI13: Yes | AK13: =COUNTIF(G13:AH13,"Yes") -> 5 | AL13: =COUNTIF(G13:AH13,"No") -> 1 | AM13: =COUNTIF(G13:AH13,"Partial") -> 1 | AN13: =SUM(AK13:AM13) -> 7 | AO13: =IFERROR(AK13/$AN13,0) -> 0.71428571 | AP13: =IFERROR(AL13/$AN13,0) -> 0.14285714 | AQ13: =IFERROR(AM13/$AN13,0) -> 0.14285714
C14: 16114000 | F14: Executive Vice President/Vice President(s) | G14: Yes | H14: Partial | I14: Yes | K14: Yes | L14: Yes | M14: Yes | O14: Yes | P14: Yes | Q14: Yes | R14: Partial | S14: Partial | T14: Partial | U14: Partial | W14: Yes | X14: Yes | Z14: Yes | AB14: Yes | AC14: Yes | AD14: Partial | AE14: Yes | AF14: Yes | AG14: Yes | AH14: Yes | AI14: Yes | AK14: =COUNTIF(G14:AH14,"Yes") -> 17 | AL14: =COUNTIF(G14:AH14,"No") -> 0 | AM14: =COUNTIF(G14:AH14,"Partial") -> 6 | AN14: =SUM(AK14:AM14) -> 23 | AO14: =IFERROR(AK14/$AN14,0) -> 0.73913043 | AP14: =IFERROR(AL14/$AN14,0) -> 0 | AQ14: =IFERROR(AM14/$AN14,0) -> 0.26086957
C15: 16115000 | F15: Chief Campus Administrators in Multi-Campus Colleges | G15: Partial | H15: Partial | L15: No | M15: No | P15: No | S15: No | T15: Partial | U15: No | Y15: No | AA15: No | AB15: No | AD15: No | AH15: No | AI15: No | AK15: =COUNTIF(G15:AH15,"Yes") -> 0 | AL15: =COUNTIF(G15:AH15,"No") -> 10 | AM15: =COUNTIF(G15:AH15,"Partial") -> 3 | AN15: =SUM(AK15:AM15) -> 13 | AO15: =IFERROR(AK15/$AN15,0) -> 0 | AP15: =IFERROR(AL15/$AN15,0) -> 0.76923077 | AQ15: =IFERROR(AM15/$AN15,0) -> 0.23076923
C16: 16116000 | F16: Equal Access, Equal Opportunity, Equal Employment Officer | K16: Yes | P16: Yes | T16: Partial | U16: Yes | W16: No | Z16: Partial | AA16: Yes | AC16: Yes | AD16: Yes | AE16: Yes | AI16: Yes | AK16: =COUNTIF(G16:AH16,"Yes") -> 7 | AL16: =COUNTIF(G16:AH16,"No") -> 1 | AM16: =COUNTIF(G16:AH16,"Partial") -> 2 | AN16: =SUM(AK16:AM16) -> 10 | AO16: =IFERROR(AK16/$AN16,0) -> 0.7 | AP16: =IFERROR(AL16/$AN16,0) -> 0.1 | AQ16: =IFERROR(AM16/$AN16,0) -> 0.2
C17: 16117000 | F17: Internal Auditing | H17: Yes | L17: Yes | T17: Yes | AH17: Yes | AI17: Yes | AK17: =COUNTIF(G17:AH17,"Yes") -> 4 | AL17: =COUNTIF(G17:AH17,"No") -> 0 | AM17: =COUNTIF(G17:AH17,"Partial") -> 0 | AN17: =SUM(AK17:AM17) -> 4 | AO17: =IFERROR(AK17/$AN17,0) -> 1 | AP17: =IFERROR(AL17/$AN17,0) -> 0 | AQ17: =IFERROR(AM17/$AN17,0) -> 0
C18: 16120000 | F18: Educational Planning and Development | J18: Yes | K18: No | M18: No | O18: No | T18: No | U18: Yes | AE18: No | AI18: No | AK18: =COUNTIF(G18:AH18,"Yes") -> 2 | AL18: =COUNTIF(G18:AH18,"No") -> 5 | AM18: =COUNTIF(G18:AH18,"Partial") -> 0 | AN18: =SUM(AK18:AM18) -> 7 | AO18: =IFERROR(AK18/$AN18,0) -> 0.28571429 | AP18: =IFERROR(AL18/$AN18,0) -> 0.71428571 | AQ18: =IFERROR(AM18/$AN18,0) -> 0
C19: 16121000 | F19: Institutional Research | G19: No | H19: Partial | I19: No | K19: No | L19: No | M19: No | N19: No | O19: No | P19: No | R19: No | S19: No | T19: No | U19: No | V19: Partial | W19: Yes | X19: No | Y19: No | Z19: No | AA19: No | AB19: No | AC19: No | AD19: No | AE19: No | AF19: No | AG19: No | AH19: No | AI19: No | AK19: =COUNTIF(G19:AH19,"Yes") -> 1 | AL19: =COUNTIF(G19:AH19,"No") -> 23 | AM19: =COUNTIF(G19:AH19,"Partial") -> 2 | AN19: =SUM(AK19:AM19) -> 26 | AO19: =IFERROR(AK19/$AN19,0) -> 0.038461538 | AP19: =IFERROR(AL19/$AN19,0) -> 0.88461538 | AQ19: =IFERROR(AM19/$AN19,0) -> 0.076923077
C20: 16122000 | F20: Analytical Studies | H20: Partial | P20: Yes | S20: Yes | U20: Yes | Y20: No | AB20: Yes | AI20: Yes | AK20: =COUNTIF(G20:AH20,"Yes") -> 4 | AL20: =COUNTIF(G20:AH20,"No") -> 1 | AM20: =COUNTIF(G20:AH20,"Partial") -> 1 | AN20: =SUM(AK20:AM20) -> 6 | AO20: =IFERROR(AK20/$AN20,0) -> 0.66666667 | AP20: =IFERROR(AL20/$AN20,0) -> 0.16666667 | AQ20: =IFERROR(AM20/$AN20,0) -> 0.16666667
C21: 16130000 | F21: Legal Services | G21: Yes | H21: Partial | I21: Yes | K21: Yes | L21: Yes | M21: Yes | O21: Yes | P21: Yes | Q21: Yes | R21: No | S21: Yes | T21: Yes | U21: Yes | V21: Yes | X21: No | Y21: Yes | Z21: Yes | AB21: Yes | AC21: Yes | AD21: Yes | AE21: Yes | AF21: Yes | AH21: Yes | AI21: Yes | AK21: =COUNTIF(G21:AH21,"Yes") -> 20 | AL21: =COUNTIF(G21:AH21,"No") -> 2 | AM21: =COUNTIF(G21:AH21,"Partial") -> 1 | AN21: =SUM(AK21:AM21) -> 23 | AO21: =IFERROR(AK21/$AN21,0) -> 0.86956522 | AP21: =IFERROR(AL21/$AN21,0) -> 0.086956522 | AQ21: =IFERROR(AM21/$AN21,0) -> 0.043478261
C22: 16140000 | F22: College-Wide Planning and Management Committees, Council or Task Forces | H22: Yes | R22: No | S22: No | T22: No | U22: Yes | AD22: No | AG22: Yes | AI22: No | AK22: =COUNTIF(G22:AH22,"Yes") -> 3 | AL22: =COUNTIF(G22:AH22,"No") -> 4 | AM22: =COUNTIF(G22:AH22,"Partial") -> 0 | AN22: =SUM(AK22:AM22) -> 7 | AO22: =IFERROR(AK22/$AN22,0) -> 0.42857143 | AP22: =IFERROR(AL22/$AN22,0) -> 0.57142857 | AQ22: =IFERROR(AM22/$AN22,0) -> 0
C23: 16141000 | F23: Faculty Senates | H23: Yes | T23: No | AC23: No | AG23: Yes | AH23: No | AI23: No | AK23: =COUNTIF(G23:AH23,"Yes") -> 2 | AL23: =COUNTIF(G23:AH23,"No") -> 3 | AM23: =COUNTIF(G23:AH23,"Partial") -> 0 | AN23: =SUM(AK23:AM23) -> 5 | AO23: =IFERROR(AK23/$AN23,0) -> 0.4 | AP23: =IFERROR(AL23/$AN23,0) -> 0.6 | AQ23: =IFERROR(AM23/$AN23,0) -> 0
C24: 16142000 | F24: Planning Committees | T24: No | Z24: No | AF24: Yes | AG24: Yes | AI24: Yes | AK24: =COUNTIF(G24:AH24,"Yes") -> 2 | AL24: =COUNTIF(G24:AH24,"No") -> 2 | AM24: =COUNTIF(G24:AH24,"Partial") -> 0 | AN24: =SUM(AK24:AM24) -> 4 | AO24: =IFERROR(AK24/$AN24,0) -> 0.5 | AP24: =IFERROR(AL24/$AN24,0) -> 0.5 | AQ24: =IFERROR(AM24/$AN24,0) -> 0
C25: 16143000 | F25: Administrative Councils | K25: No | M25: No | U25: Yes | AC25: Yes | AI25: Yes | AK25: =COUNTIF(G25:AH25,"Yes") -> 2 | AL25: =COUNTIF(G25:AH25,"No") -> 2 | AM25: =COUNTIF(G25:AH25,"Partial") -> 0 | AN25: =SUM(AK25:AM25) -> 4 | AO25: =IFERROR(AK25/$AN25,0) -> 0.5 | AP25: =IFERROR(AL25/$AN25,0) -> 0.5 | AQ25: =IFERROR(AM25/$AN25,0) -> 0
B26: 16200000 | E26: Fiscal Operations Control | AK26: =COUNTIF(G26:AH26,"Yes") -> 0 | AL26: =COUNTIF(G26:AH26,"No") -> 0 | AM26: =COUNTIF(G26:AH26,"Partial") -> 0 | AN26: =SUM(AK26:AM26) -> 0 | AO26: =IFERROR(AK26/$AN26,0) -> 0 | AP26: =IFERROR(AL26/$AN26,0) -> 0 | AQ26: =IFERROR(AM26/$AN26,0) -> 0
C27: 16210000 | F27: Fiscal Control | U27: No | W27: Partial | Y27: Yes | AA27: Yes | AB27: Partial | AD27: Partial | AI27: Partial | AK27: =COUNTIF(G27:AH27,"Yes") -> 2 | AL27: =COUNTIF(G27:AH27,"No") -> 1 | AM27: =COUNTIF(G27:AH27,"Partial") -> 3 | AN27: =SUM(AK27:AM27) -> 6 | AO27: =IFERROR(AK27/$AN27,0) -> 0.33333333 | AP27: =IFERROR(AL27/$AN27,0) -> 0.16666667 | AQ27: =IFERROR(AM27/$AN27,0) -> 0.5
C28: 16211000 | F28: Business Officer (Financial Duties) | G28: Yes | H28: Partial | K28: Yes | N28: Yes | V28: Yes | AF28: Yes | AI28: Yes | AK28: =COUNTIF(G28:AH28,"Yes") -> 5 | AL28: =COUNTIF(G28:AH28,"No") -> 0 | AM28: =COUNTIF(G28:AH28,"Partial") -> 1 | AN28: =SUM(AK28:AM28) -> 6 | AO28: =IFERROR(AK28/$AN28,0) -> 0.83333333 | AP28: =IFERROR(AL28/$AN28,0) -> 0 | AQ28: =IFERROR(AM28/$AN28,0) -> 0.16666667
C29: 16212000 | F29: Comptroller | H29: Yes | L29: Partial | O29: Yes | P29: Yes | Q29: Yes | R29: Partial | T29: Yes | U29: Yes | X29: Partial | Z29: Partial | AC29: Yes | AH29: Yes | AI29: Yes | AK29: =COUNTIF(G29:AH29,"Yes") -> 8 | AL29: =COUNTIF(G29:AH29,"No") -> 0 | AM29: =COUNTIF(G29:AH29,"Partial") -> 4 | AN29: =SUM(AK29:AM29) -> 12 | AO29: =IFERROR(AK29/$AN29,0) -> 0.66666667 | AP29: =IFERROR(AL29/$AN29,0) -> 0 | AQ29: =IFERROR(AM29/$AN29,0) -> 0.33333333
C30: 16213000 | F30: Budget Administration and Control | H30: Partial | K30: Yes | O30: Yes | Q30: Yes | U30: Partial | V30: No | X30: Yes | AC30: Yes | AH30: Yes | AI30: Yes | AK30: =COUNTIF(G30:AH30,"Yes") -> 6 | AL30: =COUNTIF(G30:AH30,"No") -> 1 | AM30: =COUNTIF(G30:AH30,"Partial") -> 2 | AN30: =SUM(AK30:AM30) -> 9 | AO30: =IFERROR(AK30/$AN30,0) -> 0.66666667 | AP30: =IFERROR(AL30/$AN30,0) -> 0.11111111 | AQ30: =IFERROR(AM30/$AN30,0) -> 0.22222222
C31: 16220000 | F31: Financial Operations | I31: Yes | J31: Partial | M31: Partial | N31: Partial | O31: Yes | P31: Partial | Q31: Partial | R31: Partial | S31: Partial | T31: Partial | U31: Yes | V31: No | W31: Partial | Y31: Partial | AA31: Partial | AE31: Partial | AI31: Partial | AK31: =COUNTIF(G31:AH31,"Yes") -> 3 | AL31: =COUNTIF(G31:AH31,"No") -> 1 | AM31: =COUNTIF(G31:AH31,"Partial") -> 12 | AN31: =SUM(AK31:AM31) -> 16 | AO31: =IFERROR(AK31/$AN31,0) -> 0.1875 | AP31: =IFERROR(AL31/$AN31,0) -> 0.0625 | AQ31: =IFERROR(AM31/$AN31,0) -> 0.75
C32: 16221000 | F32: Payroll Operation | H32: Partial | K32: Yes | O32: Yes | Q32: Yes | R32: Partial | S32: Yes | U32: Yes | V32: No | X32: Yes | Y32: Yes | Z32: Yes | AC32: Yes | AE32: Yes | AG32: Yes | AI32: Yes | AK32: =COUNTIF(G32:AH32,"Yes") -> 11 | AL32: =COUNTIF(G32:AH32,"No") -> 1 | AM32: =COUNTIF(G32:AH32,"Partial") -> 2 | AN32: =SUM(AK32:AM32) -> 14 | AO32: =IFERROR(AK32/$AN32,0) -> 0.78571429 | AP32: =IFERROR(AL32/$AN32,0) -> 0.071428571 | AQ32: =IFERROR(AM32/$AN32,0) -> 0.14285714
C33: 16222000 | F33: Bursar | G33: Partial | H33: Partial | K33: Partial | O33: Yes | Q33: No | R33: No | T33: No | U33: No | X33: No | Y33: No | Z33: No | AC33: Yes | AH33: No | AI33: No | AK33: =COUNTIF(G33:AH33,"Yes") -> 2 | AL33: =COUNTIF(G33:AH33,"No") -> 8 | AM33: =COUNTIF(G33:AH33,"Partial") -> 3 | AN33: =SUM(AK33:AM33) -> 13 | AO33: =IFERROR(AK33/$AN33,0) -> 0.15384615 | AP33: =IFERROR(AL33/$AN33,0) -> 0.61538462 | AQ33: =IFERROR(AM33/$AN33,0) -> 0.23076923
C34: 16223000 | F34: Cashier | M34: Partial | O34: Yes | Q34: No | R34: No | V34: No | AC34: Partial | AE34: No | AF34: No | AG34: No | AH34: No | AI34: No | AK34: =COUNTIF(G34:AH34,"Yes") -> 1 | AL34: =COUNTIF(G34:AH34,"No") -> 7 | AM34: =COUNTIF(G34:AH34,"Partial") -> 2 | AN34: =SUM(AK34:AM34) -> 10 | AO34: =IFERROR(AK34/$AN34,0) -> 0.1 | AP34: =IFERROR(AL34/$AN34,0) -> 0.7 | AQ34: =IFERROR(AM34/$AN34,0) -> 0.2
C35: 16224000 | F35: Disbursement | H35: Partial | K35: Yes | Q35: Yes | U35: Yes | AI35: Yes | AK35: =COUNTIF(G35:AH35,"Yes") -> 3 | AL35: =COUNTIF(G35:AH35,"No") -> 0 | AM35: =COUNTIF(G35:AH35,"Partial") -> 1 | AN35: =SUM(AK35:AM35) -> 4 | AO35: =IFERROR(AK35/$AN35,0) -> 0.75 | AP35: =IFERROR(AL35/$AN35,0) -> 0 | AQ35: =IFERROR(AM35/$AN35,0) -> 0.25
C36: 16225000 | F36: Accounting | H36: Partial | K36: Partial | Q36: Yes | R36: Partial | U36: Partial | X36: Yes | AC36: Partial | AI36: Partial | AK36: =COUNTIF(G36:AH36,"Yes") -> 2 | AL36: =COUNTIF(G36:AH36,"No") -> 0 | AM36: =COUNTIF(G36:AH36,"Partial") -> 5 | AN36: =SUM(AK36:AM36) -> 7 | AO36: =IFERROR(AK36/$AN36,0) -> 0.28571429 | AP36: =IFERROR(AL36/$AN36,0) -> 0 | AQ36: =IFERROR(AM36/$AN36,0) -> 0.71428571
C37: 16230000 | F37: Investment Management | L37: Yes | U37: Yes | AI37: Yes | AK37: =COUNTIF(G37:AH37,"Yes") -> 2 | AL37: =COUNTIF(G37:AH37,"No") -> 0 | AM37: =COUNTIF(G37:AH37,"Partial") -> 0 | AN37: =SUM(AK37:AM37) -> 2 | AO37: =IFERROR(AK37/$AN37,0) -> 1 | AP37: =IFERROR(AL37/$AN37,0) -> 0 | AQ37: =IFERROR(AM37/$AN37,0) -> 0
C38: 16231000 | F38: Cash Flow Management | H38: Yes | AH38: No | AI38: Yes | AK38: =COUNTIF(G38:AH38,"Yes") -> 1 | AL38: =COUNTIF(G38:AH38,"No") -> 1 | AM38: =COUNTIF(G38:AH38,"Partial") -> 0 | AN38: =SUM(AK38:AM38) -> 2 | AO38: =IFERROR(AK38/$AN38,0) -> 0.5 | AP38: =IFERROR(AL38/$AN38,0) -> 0.5 | AQ38: =IFERROR(AM38/$AN38,0) -> 0
C39: 16232000 | F39: Endowment Management | AK39: =COUNTIF(G39:AH39,"Yes") -> 0 | AL39: =COUNTIF(G39:AH39,"No") -> 0 | AM39: =COUNTIF(G39:AH39,"Partial") -> 0 | AN39: =SUM(AK39:AM39) -> 0 | AO39: =IFERROR(AK39/$AN39,0) -> 0 | AP39: =IFERROR(AL39/$AN39,0) -> 0 | AQ39: =IFERROR(AM39/$AN39,0) -> 0
C40: 16240000 | F40: Grants and Contracts Financial Management | I40: No | AI40: No | AK40: =COUNTIF(G40:AH40,"Yes") -> 0 | AL40: =COUNTIF(G40:AH40,"No") -> 1 | AM40: =COUNTIF(G40:AH40,"Partial") -> 0 | AN40: =SUM(AK40:AM40) -> 1 | AO40: =IFERROR(AK40/$AN40,0) -> 0 | AP40: =IFERROR(AL40/$AN40,0) -> 1 | AQ40: =IFERROR(AM40/$AN40,0) -> 0
C41: 16241000 | F41: Grants Management | L41: No | P41: No | Q41: No | R41: No | S41: No | W41: No | X41: No | AA41: No | AC41: Partial | AE41: No | AH41: No | AI41: No | AK41: =COUNTIF(G41:AH41,"Yes") -> 0 | AL41: =COUNTIF(G41:AH41,"No") -> 10 | AM41: =COUNTIF(G41:AH41,"Partial") -> 1 | AN41: =SUM(AK41:AM41) -> 11 | AO41: =IFERROR(AK41/$AN41,0) -> 0 | AP41: =IFERROR(AL41/$AN41,0) -> 0.90909091 | AQ41: =IFERROR(AM41/$AN41,0) -> 0.090909091
...

Sheet Chart Data
B1: THE FLORIDA COLLEGE SYSTEM
B2: 2015-2016
B3: ADMINISTRATIVE COST REPORT ANALYTICS
C5: *Sort all groupings by orange shaded columns after any changes to data
B6: COLLEGE | C6: % OF INSTITUTIONAL SUPPORT EXCLUDED | E6: COLLEGE | F6: ADMINISTRATIVE COST % OVER COST ANALYSIS TOTAL EXPENDITURES EXCLUDING TRANSFERS | G6: ADMINISTRATIVE COST PER FUNDABLE FTE | I6: COLLEGE | J6: ADMINISTRATIVE COST % OVER COST ANALYSIS TOTAL EXPENDITURES EXCLUDING TRANSFERS | K6: CHANGE OVER PRIOR YEAR
A7: 23 | B7: St. Petersburg College | C7: ='Summary Analytics'!D29 -> 0.2117625 | D7: 18 | E7: Palm Beach State College | F7: ='Summary Analytics'!E24 -> 0.040313725 | G7: ='Summary Analytics'!G24 -> 234.18701 | H7: 18 | I7: Palm Beach State College | J7: ='PALM BEACH'!J83 -> 0.040313725 | K7: ='Summary Analytics'!J24 -> 0.0014840411
A8: 22 | B8: St. Johns River State College | C8: ='Summary Analytics'!D28 -> 0.40258088 | D8: 11 | E8: Indian River State College | F8: ='Summary Analytics'!E17 -> 0.044443578 | G8: ='Summary Analytics'!G17 -> 263.78082 | H8: 11 | I8: Indian River State College | J8: ='INDIAN RIVER'!J83 -> 0.044443578 | K8: ='Summary Analytics'!J17 -> -0.0003109038
A9: 1 | B9: Eastern Florida State College | C9: ='Summary Analytics'!D7 -> 0.42084852 | D9: 19 | E9: Pasco-Hernando State College | F9: ='Summary Analytics'!E25 -> 0.060386737 | G9: ='Summary Analytics'!G25 -> 355.733 | H9: 24 | I9: Santa Fe College | J9: ='SANTA FE'!J83 -> 0.057654763 | K9: ='Summary Analytics'!J30 -> -0.0043985605
A10: 26 | B10: South Florida State College | C10: ='Summary Analytics'!D32 -> 0.45915329 | D10: 24 | E10: Santa Fe College | F10: ='Summary Analytics'!E30 -> 0.057654763 | G10: ='Summary Analytics'!G30 -> 376.4621 | H10: 7 | I10: Florida State College at Jacksonville | J10: ='FSC JAX'!J83 -> 0.058275279 | K10: ='Summary Analytics'!J13 -> -0.0019215355
A11: 5 | B11: Daytona State College | C11: ='Summary Analytics'!D11 -> 0.46262341 | D11: 7 | E11: Florida State College at Jacksonville | F11: ='Summary Analytics'!E13 -> 0.058275279 | G11: ='Summary Analytics'!G13 -> 398.05774 | H11: 19 | I11: Pasco-Hernando State College | J11: =PASCO!J83 -> 0.060386737 | K11: ='Summary Analytics'!J25 -> -0.0012105913
A12: 6 | B12: Florida SouthWestern State College | C12: ='Summary Analytics'!D12 -> 0.47181615 | D12: 2 | E12: Broward College | F12: ='Summary Analytics'!E8 -> 0.071165313 | G12: ='Summary Analytics'!G8 -> 406.65398 | H12: 3 | I12: College of Central Florida | J12: =CENTRAL!J83 -> 0.060940697 | K12: ='Summary Analytics'!J9 -> -0.00060457108
A13: 9 | B13: Gulf Coast State College | C13: ='Summary Analytics'!D15 -> 0.49973418 | D13: 15 | E13: Miami Dade College | F13: ='Summary Analytics'!E21 -> 0.072163358 | G13: ='Summary Analytics'!G21 -> 412.20691 | H13: 2 | I13: Broward College | J13: =BROWARD!J83 -> 0.071165313 | K13: ='Summary Analytics'!J8 -> 0.00030959107
A14: 4 | B14: Chipola College | C14: ='Summary Analytics'!D10 -> 0.50703646 | D14: 3 | E14: College of Central Florida | F14: ='Summary Analytics'!E9 -> 0.060940697 | G14: ='Summary Analytics'!G9 -> 417.85863 | H14: 15 | I14: Miami Dade College | J14: =MIAMI!J83 -> 0.072163358 | K14: ='Summary Analytics'!J21 -> -0.0032240343
A15: 11 | B15: Indian River State College | C15: ='Summary Analytics'!D17 -> 0.51532327 | D15: 28 | E15: Valencia College | F15: ='Summary Analytics'!E34 -> 0.080361055 | G15: ='Summary Analytics'!G34 -> 480.88496 | H15: 20 | I15: Pensacola State College | J15: =PENSACOLA!J83 -> 0.072883024 | K15: ='Summary Analytics'!J26 -> 0.0060207616
A16: 28 | B16: Valencia College | C16: ='Summary Analytics'!D34 -> 0.52141231 | D16: 10 | E16: Hillsborough Community College | F16: ='Summary Analytics'!E16 -> 0.085699962 | G16: ='Summary Analytics'!G16 -> 482.29708 | H16: 27 | I16: Tallahassee Community College | J16: =TALLAHASSEE!J83 -> 0.076024524 | K16: ='Summary Analytics'!J33 -> -0.0019366094
A17: 25 | B17: Seminole State College of Florida | C17: ='Summary Analytics'!D31 -> 0.55533687 | D17: 27 | E17: Tallahassee Community College | F17: ='Summary Analytics'!E33 -> 0.076024524 | G17: ='Summary Analytics'!G33 -> 485.53556 | H17: 21 | I17: Polk State College | J17: =POLK!J83 -> 0.077471229 | K17: ='Summary Analytics'!J27 -> -0.00028581166
B18: FCS | C18: ='Summary Analytics'!D35 -> 0.5637517 | E18: FCS | F18: ='Summary Analytics'!E35 -> 0.078184005 | G18: ='Summary Analytics'!G35 -> 495.77036 | I18: FCS | J18: ='System Summary'!I83 -> 0.078184005 | K18: ='Summary Analytics'!J35 -> 0.0013988139
A19: 10 | B19: Hillsborough Community College | C19: ='Summary Analytics'!D16 -> 0.57065648 | D19: 21 | E19: Polk State College | F19: ='Summary Analytics'!E27 -> 0.077471229 | G19: ='Summary Analytics'!G27 -> 523.24365 | H19: 28 | I19: Valencia College | J19: =VALENCIA!J83 -> 0.080361055 | K19: ='Summary Analytics'!J34 -> 0.0053514623
A20: 14 | B20: State College of Florida, Manatee-Sarasota | C20: ='Summary Analytics'!D20 -> 0.57275945 | D20: 25 | E20: Seminole State College of Florida | F20: ='Summary Analytics'!E31 -> 0.087119732 | G20: ='Summary Analytics'!G31 -> 526.57125 | H20: 9 | I20: Gulf Coast State College | J20: ='GULF COAST'!J83 -> 0.080804906 | K20: ='Summary Analytics'!J15 -> 0.0016171914
A21: 16 | B21: North Florida Community College | C21: ='Summary Analytics'!D22 -> 0.5768995 | D21: 20 | E21: Pensacola State College | F21: ='Summary Analytics'!E26 -> 0.072883024 | G21: ='Summary Analytics'!G26 -> 527.5437 | H21: 10 | I21: Hillsborough Community College | J21: =HILLSBOROUGH!J83 -> 0.085699962 | K21: ='Summary Analytics'!J16 -> 0.0018016408
A22: 13 | B22: Lake-Sumter State College | C22: ='Summary Analytics'!D19 -> 0.5862858 | D22: 5 | E22: Daytona State College | F22: ='Summary Analytics'!E11 -> 0.090268123 | G22: ='Summary Analytics'!G11 -> 605.27189 | H22: 16 | I22: North Florida Community College | J22: ='NORTH FLORIDA'!J83 -> 0.086847851 | K22: ='Summary Analytics'!J22 -> -0.0040286807
A23: 12 | B23: Florida Gateway College | C23: ='Summary Analytics'!D18 -> 0.58901688 | D23: 6 | E23: Florida SouthWestern State College | F23: ='Summary Analytics'!E12 -> 0.096166639 | G23: ='Summary Analytics'!G12 -> 605.88946 | H23: 25 | I23: Seminole State College of Florida | J23: =SEMINOLE!J83 -> 0.087119732 | K23: ='Summary Analytics'!J31 -> -0.0010659265
A24: 8 | B24: Florida Keys Community College | C24: ='Summary Analytics'!D14 -> 0.60415544 | D24: 1 | E24: Eastern Florida State College | F24: ='Summary Analytics'!E7 -> 0.091097209 | G24: ='Summary Analytics'!G7 -> 630.81237 | H24: 17 | I24: Northwest Florida State College | J24: ='NORTHWEST FLORIDA'!J83 -> 0.0871198 | K24: ='Summary Analytics'!J23 -> -0.018327353
A25: 2 | B25: Broward College | C25: ='Summary Analytics'!D8 -> 0.60989997 | D25: 14 | E25: State College of Florida, Manatee-Sarasota | F25: ='Summary Analytics'!E20 -> 0.11139765 | G25: ='Summary Analytics'!G20 -> 647.91362 | H25: 5 | I25: Daytona State College | J25: =DAYTONA!J83 -> 0.090268123 | K25: ='Summary Analytics'!J11 -> -0.004394964
A26: 17 | B26: Northwest Florida State College | C26: ='Summary Analytics'!D23 -> 0.60997449 | D26: 17 | E26: Northwest Florida State College | F26: ='Summary Analytics'!E23 -> 0.0871198 | G26: ='Summary Analytics'!G23 -> 648.18863 | H26: 1 | I26: Eastern Florida State College | J26: =EASTERN!J83 -> 0.091097209 | K26: ='Summary Analytics'!J7 -> -0.0079991801
A27: 21 | B27: Polk State College | C27: ='Summary Analytics'!D27 -> 0.61149664 | D27: 9 | E27: Gulf Coast State College | F27: ='Summary Analytics'!E15 -> 0.080804906 | G27: ='Summary Analytics'!G15 -> 652.80581 | H27: 8 | I27: Florida Keys Community College | J27: ='FL KEYS'!J83 -> 0.093457465 | K27: ='Summary Analytics'!J14 -> -0.026110542
A28: 15 | B28: Miami Dade College | C28: ='Summary Analytics'!D21 -> 0.62940848 | D28: 23 | E28: St. Petersburg College | F28: ='Summary Analytics'!E29 -> 0.11164027 | G28: ='Summary Analytics'!G29 -> 817.95186 | H28: 6 | I28: Florida SouthWestern State College | J28: =SOUTHWESTERN!J83 -> 0.096166639 | K28: ='Summary Analytics'!J12 -> 0.022050018
A29: 19 | B29: Pasco-Hernando State College | C29: ='Summary Analytics'!D25 -> 0.63517638 | D29: 13 | E29: Lake-Sumter State College | F29: ='Summary Analytics'!E19 -> 0.10773226 | G29: ='Summary Analytics'!G19 -> 884.05395 | H29: 12 | I29: Florida Gateway College | J29: =GATEWAY!J83 -> 0.10018668 | K29: ='Summary Analytics'!J18 -> -0.0082268231
A30: 20 | B30: Pensacola State College | C30: ='Summary Analytics'!D26 -> 0.64577307 | D30: 12 | E30: Florida Gateway College | F30: ='Summary Analytics'!E18 -> 0.10018668 | G30: ='Summary Analytics'!G18 -> 955.44999 | H30: 26 | I30: South Florida State College | J30: ='SOUTH FLORIDA'!J83 -> 0.10344338 | K30: ='Summary Analytics'!J32 -> -0.0032344569
A31: 18 | B31: Palm Beach State College | C31: ='Summary Analytics'!D24 -> 0.64882914 | D31: 26 | E31: South Florida State College | F31: ='Summary Analytics'!E32 -> 0.10344338 | G31: ='Summary Analytics'!G32 -> 986.55616 | H31: 4 | I31: Chipola College | J31: =CHIPOLA!J83 -> 0.10508414 | K31: ='Summary Analytics'!J10 -> 0.0029519264
A32: 3 | B32: College of Central Florida | C32: ='Summary Analytics'!D9 -> 0.65463874 | D32: 16 | E32: North Florida Community College | F32: ='Summary Analytics'!E22 -> 0.086847851 | G32: ='Summary Analytics'!G22 -> 1002.0796 | H32: 13 | I32: Lake-Sumter State College | J32: ='LAKE SUMTER'!J83 -> 0.10773226 | K32: ='Summary Analytics'!J19 -> 0.0051031288
A33: 7 | B33: Florida State College at Jacksonville | C33: ='Summary Analytics'!D13 -> 0.66787665 | D33: 22 | E33: St. Johns River State College | F33: ='Summary Analytics'!E28 -> 0.14434884 | G33: ='Summary Analytics'!G28 -> 1030.5365 | H33: 14 | I33: State College of Florida, Manatee-Sarasota | J33: ='SCF MANATEE'!J83 -> 0.11139765 | K33: ='Summary Analytics'!J20 -> 0.043601445
A34: 27 | B34: Tallahassee Community College | C34: ='Summary Analytics'!D33 -> 0.66834221 | D34: 4 | E34: Chipola College | F34: ='Summary Analytics'!E10 -> 0.10508414 | G34: ='Summary Analytics'!G10 -> 1139.1863 | H34: 23 | I34: St. Petersburg College | J34: ='ST PETE'!J83 -> 0.11164027 | K34: ='Summary Analytics'!J29 -> 0.0059494976
A35: 24 | B35: Santa Fe College | C35: ='Summary Analytics'!D30 -> 0.69271096 | D35: 8 | E35: Florida Keys Community College | F35: ='Summary Analytics'!E14 -> 0.093457465 | G35: ='Summary Analytics'!G14 -> 1284.5687 | H35: 22 | I35: St. Johns River State College | J35: ='ST JOHNS'!J83 -> 0.14434884 | K35: ='Summary Analytics'!J28 -> 0.013961698

Sheet System Summary
A1: The Florida College System
A2: Data Collection for Administrative Cost Report
A3: COLLEGE NAME:
A4: Florida College System
A6: Account | D6: Name | G6: FY 2015-16 | H6: Administration? | I6: Administrative Amount | J6: Excluded Amount | K6: Data Validation | L6: Comments
A7: 16000000 | D7: Institutional Support Control (Administrative)
B8: 16100000 | E8: Executive Management Control | G8: 82574357 | I8: 49167674 | J8: 33406683 | K8: 0
C9: 16110000 | F9: College-Wide Management | G9: 537186 | I9: 400684 | J9: 136502 | K9: 537186
C10: 16111000 | F10: District Board of Trustees | G10: 844204 | I10: 837174 | J10: 7030 | K10: 844204
C11: 16112000 | F11: President | G11: 18044553 | I11: 17638028 | J11: 406525 | K11: 18044553
C12: 16113000 | F12: Assistant to the President | G12: 1223432 | I12: 1045921 | J12: 177511 | K12: 1223432
C13: 16114000 | F13: Executive Vice President/Vice President(s) | G13: 19117230 | I13: 17139188 | J13: 1978041 | K13: 19117230
C14: 16115000 | F14: Chief Campus Administrators in Multi-Campus Colleges | G14: 20353436 | I14: 1993789 | J14: 18359647 | K14: 20353436
C15: 16116000 | F15: Equal Access, Equal Opportunity, Equal Employment Officer | G15: 1407097 | I15: 1337757 | J15: 69340 | K15: 1407097
C16: 16117000 | F16: Internal Auditing | G16: 99212 | I16: 99212 | J16: 0 | K16: 99212
C17: 16120000 | F17: Educational Planning and Development | G17: 1550549 | I17: 1155047 | J17: 395503 | K17: 1550549
C18: 16121000 | F18: Institutional Research | G18: 11228188 | I18: 472439 | J18: 10755749 | K18: 11228188
C19: 16122000 | F19: Analytical Studies | G19: 1052288 | I19: 684357 | J19: 367931 | K19: 1052288
C20: 16130000 | F20: Legal Services | G20: 6210365 | I20: 5818507 | J20: 391858 | K20: 6210365
... C24: 16143000 | F24: Administrative Councils | G24: 45894 | I24: 19076 | J24: 26817 | K24: 45894
B25: 16200000 | E25: Fiscal Operations Control | G25: 63925203 | I25: 36131118 | J25: 27794085 | K25: 0
C26: 16210000 | F26: Fiscal Control | G26: 5536581 | I26: 4360060 | J26: 1176520 | K26: 5536581
C27: 16211000 | F27: Business Officer (Financial Duties) | G27: 2485149 | I27: 2220162 | J27: 264987 | K27: 2485149
C28: 16212000 | F28: Comptroller | G28: 9000513 | I28: 7227918 | J28: 1772595 | K28: 9000513
C29: 16213000 | F29: Budget Administration and Control | G29: 5361063 | I29: 1960607 | J29: 3400457 | K29: 5361063
C30: 16220000 | F30: Financial Operations | G30: 13139322 | I30: 8516116 | J30: 4623206 | K30: 13139322
C31: 16221000 | F31: Payroll Operation | G31: 3512575 | I31: 3211309 | J31: 301266 | K31: 3512575
C32: 16222000 | F32: Bursar | G32: 7605002 | I32: 1508884 | J32: 6096118 | K32: 7605002
C33: 16223000 | F33: Cashier | G33: 3985238 | I33: 979597 | J33: 3005641 | K33: 3985238
C34: 16224000 | F34: Disbursement | G34: 1294322 | I34: 1006725 | J34: 287596 | K34: 1294322
C35: 16225000 | F35: Accounting | G35: 5509440 | I35: 3447805 | J35: 2061635 | K35: 5509440
C36: 16230000 | F36: Investment Management | G36: 373609 | I36: 373609 | J36: 0 | K36: 373609
C37: 16231000 | F37: Cash Flow Management | G37: 1682151 | I37: 876295 | J37: 805855 | K37: 1682151
... C41: 16242000 | F41: Grants Accounting | G41: 1585056 | I41: 59376 | J41: 1525681 | K41: 1585056
B42: 16300000 | E42: General Administrative and Logistical Services Control | G42: 175437976 | I42: 52041954 | J42: 123396022 | K42: 0
C43: 16310000 | F43: Administrative Data/Telecommunication Services | G43: 45136405 | I43: 1926748 | J43: 43209657 | K43: 45136405
C44: 16310100 | F44: Computing | G44: 31039951 | I44: 8204114 | J44: 22835837 | K44: 31039951
C45: 16310200 | F45: Telecommunications | G45: 8983492 | I45: 864296 | J45: 8119196 | K45: 8983492
C46: 16310300 | F46: Networking | G46: 5998090 | I46: 14740 | J46: 5983351 | K46: 5998090
C47: 16320000 | F47: Human Resources | G47: 27988533 | I47: 26519060 | J47: 1469472 | K47: 27988533
...

Sheet EASTERN
A1: The Florida College System
A2: Data Collection for the Administrative Cost Report
A3: COLLEGE NAME:
A4: Eastern Florida State College
A6: Account | D6: Name | G6: FY 2015-16 | H6: Administration? | I6: Administrative Amount | J6: Excluded Amount | K6: Data Validation | L6: Comments / Additional Details
A7: 16000000 | D7: Institutional Support Control (Administrative)
B8: 16100000 | E8: Executive Management Control | G8: 2784787.6 | I8: 1481650.2 | J8: 1303137.3
C9: 16110000 | F9: College-Wide Management | K9: 0
C10: 16111000 | F10: District Board of Trustees | K10: 0
C11: 16112000 | F11: President | G11: 283.02 | H11: Yes | I11: 283.02 | K11: 283.02
C12: 16113000 | F12: Assistant to the President | K12: 0
C13: 16114000 | F13: Executive Vice President/Vice President(s) | G13: 331089.89 | H13: Yes | I13: 331089.89 | K13: 331089.89
C14: 16115000 | F14: Chief Campus Administrators in Multi-Campus Colleges | G14: 2214846.8 | H14: Partial | I14: 1083115.5 | J14: 1131731.3 | K14: 2214846.8 | L14: Campus Provosts (Tab 1.2(16))
C15: 16116000 | F15: Equal Access, Equal Opportunity, Equal Employment Officer | K15: 0
C16: 16117000 | F16: Internal Auditing | K16: 0
C17: 16120000 | F17: Educational Planning and Development | K17: 0
C18: 16121000 | F18: Institutional Research | G18: 171406.04 | H18: No | J18: 171406.04 | K18: 171406.04
C19: 16122000 | F19: Analytical Studies | K19: 0
C20: 16130000 | F20: Legal Services | G20: 67161.77 | H20: Yes | I20: 67161.77 | K20: 67161.77
C21: 16140000 | F21: College-Wide Planning and Management Committees, Council or Task Forces | K21: 0
C22: 16141000 | F22: Faculty Senates | K22: 0
C23: 16142000 | F23: Planning Committees | K23: 0
C24: 16143000 | F24: Administrative Councils | K24: 0
B25: 16200000 | E25: Fiscal Operations Control | G25: 2072799.5 | I25: 1582401.9 | J25: 490397.53
C26: 16210000 | F26: Fiscal Control | K26: 0
C27: 16211000 | F27: Business Officer (Financial Duties) | G27: 472426.34 | H27: Yes | I27: 472426.34 | K27: 472426.34
C28: 16212000 | F28: Comptroller | K28: 0
C29: 16213000 | F29: Budget Administration and Control | K29: 0
C30: 16220000 | F30: Financial Operations | K30: 0
C31: 16221000 | F31: Payroll Operation | K31: 0
C32: 16222000 | F32: Bursar | G32: 1600373.1 | H32: Partial | I32: 1109975.6 | J32: 490397.53 | K32: 1600373.1 | L32: Bursar/Cashier/Collections salaries, DSO Acctg salaries
C33: 16223000 | F33: Cashier | K33: 0
C34: 16224000 | F34: Disbursement | K34: 0
C35: 16225000 | F35: Accounting | K35: 0
C36: 16230000 | F36: Investment Management | K36: 0
C37: 16231000 | F37: Cash Flow Management | K37: 0
C38: 16232000 | F38: Endowment Management | K38: 0
C39: 16240000 | F39: Grants and Contracts Financial Management | K39: 0
C40: 16241000 | F40: Grants Management | K40: 0
C41: 16242000 | F41: Grants Accounting | K41: 0
...

Sheet BROWARD
A1: The Florida College System
A2: Data Collection for the Administrative Cost Report
A3: COLLEGE NAME:
A4: Broward College
A6: Account | D6: Name | G6: FY 2015-16 | H6: Administration? | I6: Administrative Amount | J6: Excluded Amount | K6: Data Validation | L6: Comments / Additional Details
A7: 16000000 | D7: Institutional Support Control (Administrative)
B8: 16100000 | E8: Executive Management Control | G8: 6886286.9 | I8: 5475574.1 | J8: 1410712.8
C9: 16110000 | F9: College-Wide Management | K9: 0
C10: 16111000 | F10: District Board of Trustees | G10: 2007.35 | H10: Yes | I10: 2007.35 | K10: 2007.35
C11: 16112000 | F11: President | G11: 543940.3 | H11: Partial | I11: 493354.73 | J11: 50585.57 | K11: 543940.3
C12: 16113000 | F12: Assistant to the President | G12: 534776.17 | H12: Partial | I12: 504022.87 | J12: 30753.3 | K12: 534776.17
C13: 16114000 | F13: Executive Vice President/Vice President(s) | G13: 2733437.8 | H13: Partial | I13: 2370179.9 | J13: 363257.85 | K13: 2733437.8
C14: 16115000 | F14: Chief Campus Administrators in Multi-Campus Colleges | G14: 1151314.8 | H14: Partial | I14: 892417.3 | J14: 258897.5 | K14: 1151314.8
C15: 16116000 | F15: Equal Access, Equal Opportunity, Equal Employment Officer | K15: 0
C16: 16117000 | F16: Internal Auditing | G16: 2112.67 | H16: Yes | I16: 2112.67 | K16: 2112.67
C17: 16120000 | F17: Educational Planning and Development | K17: 0
C18: 16121000 | F18: Institutional Research | G18: 492950.38 | H18: Partial | I18: 247743.34 | J18: 245207.04 | K18: 492950.38
C19: 16122000 | F19: Analytical Studies | G19: 560320.69 | H19: Partial | I19: 218845.36 | J19: 341475.33 | K19: 560320.69
C20: 16130000 | F20: Legal Services | G20: 861239.19 | H20: Partial | I20: 740702.94 | J20: 120536.25 | K20: 861239.19
C21: 16140000 | F21: College-Wide Planning and Management Committees, Council or Task Forces | G21: 3943.48 | H21: Yes | I21: 3943.48 | K21: 3943.48
C22: 16141000 | F22: Faculty Senates | G22: 244.16 | H22: Yes | I22: 244.16 | K22: 244.16
C23: 16142000 | F23: Planning Committees | K23: 0
C24: 16143000 | F24: Administrative Councils | K24: 0
B25: 16200000 | E25: Fiscal Operations Control | G25: 5016227.7 | I25: 2447532.1 | J25: 2568695.5
C26: 16210000 | F26: Fiscal Control | K26: 0
C27: 16211000 | F27: Business Officer (Financial Duties) | G27: 964764 | H27: Partial | I27: 699777 | J27: 264987 | K27: 964764
C28: 16212000 | F28: Comptroller | G28: 10735.1 | H28: Yes | I28: 10735.1 | K28: 10735.1
C29: 16213000 | F29: Budget Administration and Control | G29: 575725.27 | H29: Partial | I29: 248510.15 | J29: 327215.12 | K29: 575725.27
C30: 16220000 | F30: Financial Operations | G30: 0 | K30: 0
C31: 16221000 | F31: Payroll Operation | G31: 391885.14 | H31: Partial | I31: 158916.48 | J31: 232968.66 | K31: 391885.14
C32: 16222000 | F32: Bursar | G32: 1117686.4 | H32: Partial | I32: 75225.62 | J32: 1042460.8 | K32: 1117686.4
C33: 16223000 | F33: Cashier | G33: 0 | K33: 0
C34: 16224000 | F34: Disbursement | G34: 396461.9 | H34: Partial | I34: 108865.48 | J34: 287596.42 | K34: 396461.9
C35: 16225000 | F35: Accounting | G35: 550953.98 | H35: Partial | I35: 209831.33 | J35: 341122.65 | K35: 550953.98
C36: 16230000 | F36: Investment Management | G36: 0 | K36: 0
C37: 16231000 | F37: Cash Flow Management | G37: 876295.43 | H37: Yes | I37: 876295.43 | K37: 876295.43
C38: 16232000 | F38: Endowment Management | G38: 0 | K38: 0
C39: 16240000 | F39: Grants and Contracts Financial Management | G39: 0 | K39: 0
C40: 16241000 | F40: Grants Management | G40: 0 | K40: 0
C41: 16242000 | F41: Grants Accounting | G41: 131720.42 | H41: Partial | I41: 59375.53 | J41: 72344.89 | K41: 131720.42
...

Sheet CENTRAL
A1: The Florida College System
A2: Data Collection for the Administrative Cost Report
A3: COLLEGE NAME:
A4: College of Central Florida
A6: Account | D6: Name | G6: FY 2015-16 | H6: Administration? | I6: Administrative Amount | J6: Excluded Amount | K6: Data Validation | L6: Comments / Additional Details
A7: 16000000 | D7: Institutional Support Control (Administrative)
B8: 16100000 | E8: Executive Management Control | G8: 1189595.2 | I8: 957101.92 | J8: 232493.32
C9: 16110000 | F9: College-Wide Management | K9: 0
C10: 16111000 | F10: District Board of Trustees | G10: 12911.6 | H10: Yes | I10: 12911.6 | K10: 12911.6
C11: 16112000 | F11: President | G11: 464622.14 | H11: Yes | I11: 464622.14 | K11: 464622.14
C12: 16113000 | F12: Assistant to the President | K12: 0
C13: 16114000 | F13: Executive Vice President/Vice President(s) | G13: 290631.71 | H13: Yes | I13: 290631.71 | K13: 290631.71
C14: 16115000 | F14: Chief Campus Administrators in Multi-Campus Colleges | G14: 0 | K14: 0
C15: 16116000 | F15: Equal Access, Equal Opportunity, Equal Employment Officer | K15: 0
C16: 16117000 | F16: Internal Auditing | K16: 0
C17: 16120000 | F17: Educational Planning and Development | K17: 0
C18: 16121000 | F18: Institutional Research | G18: 232493.32 | H18: No | J18: 232493.32 | K18: 232493.32 | L18: Student Based Reporting
C19: 16122000 | F19: Analytical Studies | K19: 0
C20: 16130000 | F20: Legal Services | G20: 188936.47 | H20: Yes | I20: 188936.47 | K20: 188936.47
C21: 16140000 | F21: College-Wide Planning and Management Committees, Council or Task Forces | K21: 0
C22: 16141000 | F22: Faculty Senates | K22: 0
C23: 16142000 | F23: Planning Committees | K23: 0
C24: 16143000 | F24: Administrative Councils | K24: 0
B25: 16200000 | E25: Fiscal Operations Control | G25: 653826.54 | I25: 583961.57 | J25: 69864.97
C26: 16210000 | F26: Fiscal Control | K26: 0
C27: 16211000 | F27: Business Officer (Financial Duties) | K27: 0
C28: 16212000 | F28: Comptroller | K28: 0
C29: 16213000 | F29: Budget Administration and Control | K29: 0
C30: 16220000 | F30: Financial Operations | G30: 583961.57 | H30: Yes | I30: 583961.57 | K30: 583961.57
C31: 16221000 | F31: Payroll Operation | K31: 0
C32: 16222000 | F32: Bursar | K32: 0
C33: 16223000 | F33: Cashier | K33: 0
C34: 16224000 | F34: Disbursement | K34: 0
C35: 16225000 | F35: Accounting | K35: 0
C36: 16230000 | F36: Investment Management | K36: 0
C37: 16231000 | F37: Cash Flow Management | K37: 0
C38: 16232000 | F38: Endowment Management | K38: 0
C39: 16240000 | F39: Grants and Contracts Financial Management | G39: 69864.97 | H39: No | J39: 69864.97 | K39: 69864.97 | L39: Excluded: Support for Faculty purusing grant funding
C40: 16241000 | F40: Grants Management | K40: 0
C41: 16242000 | F41: Grants Accounting | K41: 0
...

Sheet CHIPOLA
A1: The Florida College System
A2: Data Collection for the Administrative Cost Report
A3: COLLEGE NAME:
A4: Chipola College
A6: Account | D6: Name | G6: FY 2015-16 | H6: Administration? | I6: Administrative Amount | J6: Excluded Amount | K6: Data Validation | L6: Comments / Additional Details
A7: 16000000 | D7: Institutional Support Control (Administrative)
B8: 16100000 | E8: Executive Management Control | G8: 615200.41 | I8: 608170.91 | J8: 7029.5
C9: 16110000 | F9: College-Wide Management | K9: 0
C10: 16111000 | F10: District Board of Trustees | G10: 29447.08 | H10: Partial | I10: 22417.58 | J10: 7029.5 | K10: 29447.08 | L10: Capital Outlay
C11: 16112000 | F11: President | G11: 363515.83 | H11: Yes | I11: 363515.83 | K11: 363515.83
C12: 16113000 | F12: Assistant to the President | K12: 0
C13: 16114000 | F13: Executive Vice President/Vice President(s) | K13: 0
C14: 16115000 | F14: Chief Campus Administrators in Multi-Campus Colleges | K14: 0
C15: 16116000 | F15: Equal Access, Equal Opportunity, Equal Employment Officer | K15: 0
C16: 16117000 | F16: Internal Auditing | K16: 0
C17: 16120000 | F17: Educational Planning and Development | G17: 222237.5 | H17: Yes | I17: 222237.5 | K17: 222237.5
C18: 16121000 | F18: Institutional Research | K18: 0
C19: 16122000 | F19: Analytical Studies | K19: 0
C20: 16130000 | F20: Legal Services | K20: 0
C21: 16140000 | F21: College-Wide Planning and Management Committees, Council or Task Forces | K21: 0
C22: 16141000 | F22: Faculty Senates | K22: 0
C23: 16142000 | F23: Planning Committees | K23: 0
C24: 16143000 | F24: Administrative Councils | K24: 0
B25: 16200000 | E25: Fiscal Operations Control | G25: 509241.81 | I25: 412583.05 | J25: 96658.76
C26: 16210000 | F26: Fiscal Control | K26: 0
C27: 16211000 | F27: Business Officer (Financial Duties) | K27: 0
C28: 16212000 | F28: Comptroller | K28: 0
C29: 16213000 | F29: Budget Administration and Control | K29: 0
C30: 16220000 | F30: Financial Operations | G30: 509241.81 | H30: Partial | I30: 412583.05 | J30: 96658.76 | K30: 509241.81 | L30: Excluded cashiers and Merchant Service Fees
C31: 16221000 | F31: Payroll Operation | K31: 0
C32: 16222000 | F32: Bursar | K32: 0
C33: 16223000 | F33: Cashier | K33: 0
C34: 16224000 | F34: Disbursement | K34: 0
C35: 16225000 | F35: Accounting | K35: 0
C36: 16230000 | F36: Investment Management | K36: 0
C37: 16231000 | F37: Cash Flow Management | K37: 0
C38: 16232000 | F38: Endowment Management | K38: 0
C39: 16240000 | F39: Grants and Contracts Financial Management | K39: 0
C40: 16241000 | F40: Grants Management | K40: 0
C41: 16242000 | F41: Grants Accounting | K41: 0
...

Sheet DAYTONA
A1: The Florida College System
A2: Data Collection for the Administrative Cost Report
A3: COLLEGE NAME:
A4: Daytona State College
A6: Account | D6: Name | G6: FY 2015-16 | H6: Administration? | I6: Administrative Amount | J6: Excluded Amount | K6: Data Validation | L6: Comments / Additional Details
A7: 16000000 | D7: Institutional Support Control (Administrative)
B8: 16100000 | E8: Executive Management Control | G8: 1901277.3 | I8: 1482009.2 | J8: 419268.11
C9: 16110000 | F9: College-Wide Management | G9: 0 | K9: 0
C10: 16111000 | F10: District Board of Trustees | G10: 13372.2 | H10: Yes | I10: 13372.2 | K10: 13372.2
C11: 16112000 | F11: President | G11: 669480.54 | H11: Yes | I11: 669480.54 | K11: 669480.54
C12: 16113000 | F12: Assistant to the President | G12: 24679.83 | H12: Yes | I12: 24679.83 | K12: 24679.83
C13: 16114000 | F13: Executive Vice President/Vice President(s) | G13: 599150.46 | H13: Yes | I13: 599150.46 | K13: 599150.46
C14: 16115000 | F14: Chief Campus Administrators in Multi-Campus Colleges | K14: 0
C15: 16116000 | F15: Equal Access, Equal Opportunity, Equal Employment Officer | G15: 96187.64 | H15: Yes | I15: 96187.64 | K15: 96187.64
C16: 16117000 | F16: Internal Auditing | K16: 0
C17: 16120000 | F17: Educational Planning and Development | G17: 179106.28 | H17: No | J17: 179106.28 | K17: 179106.28
C18: 16121000 | F18: Institutional Research | G18: 239697.76 | H18: No | J18: 239697.76 | K18: 239697.76
C19: 16122000 | F19: Analytical Studies | K19: 0
C20: 16130000 | F20: Legal Services | G20: 79138.5 | H20: Yes | I20: 79138.5 | K20: 79138.5
C21: 16140000 | F21: College-Wide Planning and Management Committees, Council or Task Forces | K21: 0
C22: 16141000 | F22: Faculty Senates | K22: 0
C23: 16142000 | F23: Planning Committees | K23: 0
C24: 16143000 | F24: Administrative Councils | G24: 464.07 | H24: No | J24: 464.07 | K24: 464.07
B25: 16200000 | E25: Fiscal Operations Control | G25: 2177761.8 | I25: 1686676.3 | J25: 491085.47
C26: 16210000 | F26: Fiscal Control | G26: 0 | K26: 0
C27: 16211000 | F27: Business Officer (Financial Duties) | G27: 257887.74 | H27: Yes | I27: 257887.74 | K27: 257887.74
C28: 16212000 | F28: Comptroller | K28: 0
C29: 16213000 | F29: Budget Administration and Control | G29: 118924.94 | H29: Yes | I29: 118924.94 | K29: 118924.94
C30: 16220000 | F30: Financial Operations | G30: 0 | K30: 0
C31: 16221000 | F31: Payroll Operation | G31: 450807.99 | H31: Yes | I31: 450807.99 | K31: 450807.99
C32: 16222000 | F32: Bursar | G32: 408166.07 | H32: Partial | I32: 103039.45 | J32: 305126.62 | K32: 408166.07 | L32: Removed cashiers and all operating costs. Kept Bursar Salary and Benefits
C33: 16223000 | F33: Cashier | K33: 0
C34: 16224000 | F34: Disbursement | G34: 166124.76 | H34: Yes | I34: 166124.76 | K34: 166124.76
C35: 16225000 | F35: Accounting | G35: 775850.27 | H35: Partial | I35: 589891.42 | J35: 185958.85 | K35: 775850.27 | L35: Excluded Banking Fees
C36: 16230000 | F36: Investment Management | K36: 0
C37: 16231000 | F37: Cash Flow Management | K37: 0
C38: 16232000 | F38: Endowment Management | K38: 0
C39: 16240000 | F39: Grants and Contracts Financial Management | K39: 0
C40: 16241000 | F40: Grants Management | K40: 0
C41: 16242000 | F41: Grants Accounting | K41: 0
...

Sheet SOUTHWESTERN
A1: The Florida College System
A2: Data Collection for the Administrative Cost Report
A3: COLLEGE NAME:
A4: Florida SouthWestern State College
A6: Account | D6: Name | G6: FY 2015-16 | H6: Administration? | I6: Administrative Amount | J6: Excluded Amount | K6: Data Validation | L6: Comments / Additional Details
A7: 16000000 | D7: Institutional Support Control (Administrative)
B8: 16100000 | E8: Executive Management Control | G8: 3875722 | I8: 2065232 | J8: 1810490
C9: 16110000 | F9: College-Wide Management | G9: 5477 | H9: Yes | I9: 5477 | K9: 5477
C10: 16111000 | F10: District Board of Trustees | K10: 0
C11: 16112000 | F11: President | G11: 1225424 | H11: Yes | I11: 1225424 | K11: 1225424
C12: 16113000 | F12: Assistant to the President | G12: 146758 | H12: No | J12: 146758 | K12: 146758 | L12: Director, Governmental Relations
C13: 16114000 | F13: Executive Vice President/Vice President(s) | G13: 392961 | H13: Yes | I13: 392961 | K13: 392961
C14: 16115000 | F14: Chief Campus Administrators in Multi-Campus Colleges | G14: 803184 | H14: No | J14: 803184 | K14: 803184 | L14: Regional Vice-Presidents
C15: 16116000 | F15: Equal Access, Equal Opportunity, Equal Employment Officer | K15: 0
C16: 16117000 | F16: Internal Auditing | G16: 3580 | H16: Yes | I16: 3580 | K16: 3580
C17: 16120000 | F17: Educational Planning and Development | K17: 0
C18: 16121000 | F18: Institutional Research | G18: 860548 | H18: No | J18: 860548 | K18: 860548 | L18: Institutional Research and Effectiveness Department
C19: 16122000 | F19: Analytical Studies | K19: 0
C20: 16130000 | F20: Legal Services | G20: 437790 | H20: Yes | I20: 437790 | K20: 437790
C21: 16140000 | F21: College-Wide Planning and Management Committees, Council or Task Forces | K21: 0
C22: 16141000 | F22: Faculty Senates | K22: 0
C23: 16142000 | F23: Planning Committees | K23: 0
C24: 16143000 | F24: Administrative Councils | K24: 0
B25: 16200000 | E25: Fiscal Operations Control | G25: 2733078 | I25: 1238821 | J25: 1494257
C26: 16210000 | F26: Fiscal Control | K26: 0
C27: 16211000 | F27: Business Officer (Financial Duties) | K27: 0
C28: 16212000 | F28: Comptroller | G28: 2667817 | H28: Partial | I28: 1234165 | J28: 1433652 | K28: 2667817 | L28: Excluded bad debt expenses, bank fees, collection services, bursar
C29: 16213000 | F29: Budget Administration and Control | K29: 0
C30: 16220000 | F30: Financial Operations | K30: 0
C31: 16221000 | F31: Payroll Operation | K31: 0
C32: 16222000 | F32: Bursar | K32: 0
C33: 16223000 | F33: Cashier | K33: 0
C34: 16224000 | F34: Disbursement | K34: 0
C35: 16225000 | F35: Accounting | K35: 0
C36: 16230000 | F36: Investment Management | G36: 4656 | H36: Yes | I36: 4656 | K36: 4656
C37: 16231000 | F37: Cash Flow Management | K37: 0
C38: 16232000 | F38: Endowment Management | K38: 0
C39: 16240000 | F39: Grants and Contracts Financial Management | K39: 0
C40: 16241000 | F40: Grants Management | G40: 60605 | H40: No | J40: 60605 | K40: 60605 | L40: Grants Development Manager
C41: 16242000 | F41: Grants Accounting | K41: 0
...

Sheet FSC JAX
A1: The Florida College System
A2: Data Collection for the Administrative Cost Report
A3: COLLEGE NAME:
A4: Florida State College at Jacksonville
A6: Account | D6: Name | G6: FY 2015-16 | H6: Administration? | I6: Administrative Amount | J6: Excluded Amount | K6: Data Validation | L6: Comments / Additional Details
A7: 16000000 | D7: Institutional Support Control (Administrative)
B8: 16100000 | E8: Executive Management Control | G8: 6191078.9 | I8: 2138347.7 | J8: 4052731.2
C9: 16110000 | F9: College-Wide Management | K9: 0
C10: 16111000 | F10: District Board of Trustees | G10: 8693.56 | H10: Yes | I10: 8693.56 | K10: 8693.56
C11: 16112000 | F11: President | G11: 636465.43 | H11: Yes | I11: 636465.43 | K11: 636465.43
C12: 16113000 | F12: Assistant to the President | K12: 0
C13: 16114000 | F13: Executive Vice President/Vice President(s) | G13: 1024518.9 | H13: Yes | I13: 1024518.9 | K13: 1024518.9
C14: 16115000 | F14: Chief Campus Administrators in Multi-Campus Colleges | G14: 1858279.7 | H14: No | J14: 1858279.7 | K14: 1858279.7
C15: 16116000 | F15: Equal Access, Equal Opportunity, Equal Employment Officer | K15: 0
C16: 16117000 | F16: Internal Auditing | K16: 0
C17: 16120000 | F17: Educational Planning and Development | G17: 62278.33 | H17: No | J17: 62278.33 | K17: 62278.33
C18: 16121000 | F18: Institutional Research | G18: 2105820.2 | H18: No | J18: 2105820.2 | K18: 2105820.2
C19: 16122000 | F19: Analytical Studies | K19: 0
C20: 16130000 | F20: Legal Services | G20: 468669.81 | H20: Yes | I20: 468669.81 | K20: 468669.81
C21: 16140000 | F21: College-Wide Planning and Management Committees, Council or Task Forces | K21: 0
C22: 16141000 | F22: Faculty Senates | K22: 0
C23: 16142000 | F23: Planning Committees | K23: 0
C24: 16143000 | F24: Administrative Councils | G24: 26352.98 | H24: No | J24: 26352.98 | K24: 26352.98
B25: 16200000 | E25: Fiscal Operations Control | G25: 5081563 | I25: 2806633.2 | J25: 2274929.8
C26: 16210000 | F26: Fiscal Control | K26: 0
C27: 16211000 | F27: Business Officer (Financial Duties) | K27: 0
C28: 16212000 | F28: Comptroller | K28: 0
C29: 16213000 | F29: Budget Administration and Control | K29: 0
C30: 16220000 | F30: Financial Operations | G30: 3072697.5 | H30: Partial | I30: 1943912.1 | J30: 1128785.5 | K30: 3072697.5 | L30: Exclude Bad Debt Expense and Collection Costs
C31: 16221000 | F31: Payroll Operation | K31: 0
C32: 16222000 | F32: Bursar | K32: 0
C33: 16223000 | F33: Cashier | G33: 2008865.4 | H33: Partial | I33: 862721.11 | J33: 1146144.3 | K33: 2008865.4 | L33: Exclude A/R Staff
C34: 16224000 | F34: Disbursement | K34: 0
C35: 16225000 | F35: Accounting | K35: 0
C36: 16230000 | F36: Investment Management | K36: 0
C37: 16231000 | F37: Cash Flow Management | K37: 0
C38: 16232000 | F38: Endowment Management | K38: 0
C39: 16240000 | F39: Grants and Contracts Financial Management | K39: 0
C40: 16241000 | F40: Grants Management | K40: 0
C41: 16242000 | F41: Grants Accounting | K41: 0
...

Sheet FL KEYS
A1: The Florida College System
A2: Data Collection for the Administrative Cost Report
A3: COLLEGE NAME:
A4: Florida Keys Community College
A6: Account | D6: Name | G6: FY 2015-16 | H6: Administration? | I6: Administrative Amount | J6: Excluded Amount | K6: Data Validation | L6: Comments / Additional Details
A7: 16000000 | D7: Institutional Support Control (Administrative)
B8: 16100000 | E8: Executive Management Control | G8: 371774.6 | I8: 13908.06 | J8: 357866.54
C9: 16110000 | F9: College-Wide Management | K9: 0
C10: 16111000 | F10: District Board of Trustees | G10: 3574.39 | H10: Yes | I10: 3574.39 | K10: 3574.39
C11: 16112000 | F11: President | G11: 349189.53 | H11: Partial | I11: 10333.67 | J11: 338855.86 | K11: 349189.53
C12: 16113000 | F12: Assistant to the President | K12: 0
C13: 16114000 | F13: Executive Vice President/Vice President(s) | K13: 0
C14: 16115000 | F14: Chief Campus Administrators in Multi-Campus Colleges | K14: 0
C15: 16116000 | F15: Equal Access, Equal Opportunity, Equal Employment Officer | K15: 0
C16: 16117000 | F16: Internal Auditing | K16: 0
C17: 16120000 | F17: Educational Planning and Development | K17: 0
C18: 16121000 | F18: Institutional Research | G18: 19010.68 | H18: No | J18: 19010.68 | K18: 19010.68 | L18: Institutional Effectiveness
C19: 16122000 | F19: Analytical Studies | K19: 0
C20: 16130000 | F20: Legal Services | K20: 0
C21: 16140000 | F21: College-Wide Planning and Management Committees, Council or Task Forces | K21: 0
C22: 16141000 | F22: Faculty Senates | K22: 0
C23: 16142000 | F23: Planning Committees | K23: 0
C24: 16143000 | F24: Administrative Councils | K24: 0
B25: 16200000 | E25: Fiscal Operations Control | G25: 497642 | I25: 476757.69 | J25: 20884.31
C26: 16210000 | F26: Fiscal Control | K26: 0
C27: 16211000 | F27: Business Officer (Financial Duties) | G27: 217053.02 | H27: Yes | I27: 217053.02 | K27: 217053.02
C28: 16212000 | F28: Comptroller | K28: 0
C29: 16213000 | F29: Budget Administration and Control | K29: 0
C30: 16220000 | F30: Financial Operations | G30: 280588.98 | H30: Partial | I30: 259704.67 | J30: 20884.31 | K30: 280588.98 | L30: Excludes Cashiers
C31: 16221000 | F31: Payroll Operation | K31: 0
C32: 16222000 | F32: Bursar | K32: 0
C33: 16223000 | F33: Cashier | K33: 0
C34: 16224000 | F34: Disbursement | K34: 0
C35: 16225000 | F35: Accounting | K35: 0
C36: 16230000 | F36: Investment Management | K36: 0
C37: 16231000 | F37: Cash Flow Management | K37: 0
C38: 16232000 | F38: Endowment Management | K38: 0
C39: 16240000 | F39: Grants and Contracts Financial Management | K39: 0
C40: 16241000 | F40: Grants Management | K40: 0
C41: 16242000 | F41: Grants Accounting | K41: 0
...

Sheet GULF COAST
A1: The Florida College System
A2: Data Collection for the Administrative Cost Report
A3: COLLEGE NAME:
A4: Gulf Coast State College
A6: Account | D6: Name | G6: FY 2015-16 | H6: Administration? | I6: Administrative Amount | J6: Excluded Amount | K6: Data Validation | L6: Comments / Additional Details
A7: 16000000 | D7: Institutional Support Control (Administrative)
B8: 16100000 | E8: Executive Management Control | G8: 1429959.1 | I8: 1222766.3 | J8: 207192.84
C9: 16110000 | F9: College-Wide Management | G9: 531709.28 | H9: Partial | I9: 395207.35 | J9: 136501.93 | K9: 531709.28
C10: 16111000 | F10: District Board of Trustees | G10: 8032.9 | H10: Yes | I10: 8032.9 | K10: 8032.9
C11: 16112000 | F11: President | G11: 508373.02 | H11: Yes | I11: 508373.02 | K11: 508373.02
C12: 16113000 | F12: Assistant to the President | K12: 0
C13: 16114000 | F13: Executive Vice President/Vice President(s) | G13: 273125.66 | H13: Yes | I13: 273125.66 | K13: 273125.66
C14: 16115000 | F14: Chief Campus Administrators in Multi-Campus Colleges | K14: 0
C15: 16116000 | F15: Equal Access, Equal Opportunity, Equal Employment Officer | K15: 0
C16: 16117000 | F16: Internal Auditing | K16: 0
C17: 16120000 | F17: Educational Planning and Development | G17: 27536.29 | H17: No | J17: 27536.29 | K17: 27536.29
C18: 16121000 | F18: Institutional Research | G18: 43154.62 | H18: No | J18: 43154.62 | K18: 43154.62
C19: 16122000 | F19: Analytical Studies | K19: 0
C20: 16130000 | F20: Legal Services | G20: 38027.35 | H20: Yes | I20: 38027.35 | K20: 38027.35
C21: 16140000 | F21: College-Wide Planning and Management Committees, Council or Task Forces | K21: 0
C22: 16141000 | F22: Faculty Senates | K22: 0
C23: 16142000 | F23: Planning Committees | K23: 0
C24: 16143000 | F24: Administrative Councils | K24: 0
B25: 16200000 | E25: Fiscal Operations Control | G25: 644650.25 | I25: 598755.69 | J25: 45894.56
C26: 16210000 | F26: Fiscal Control | K26: 0
C27: 16211000 | F27: Business Officer (Financial Duties) | K27: 0
C28: 16212000 | F28: Comptroller | G28: 106188.78 | H28: Yes | I28: 106188.78 | K28: 106188.78
C29: 16213000 | F29: Budget Administration and Control | G29: 122417.31 | H29: Yes | I29: 122417.31 | K29: 122417.31
C30: 16220000 | F30: Financial Operations | G30: 73676.54 | H30: Yes | I30: 73676.54 | K30: 73676.54
C31: 16221000 | F31: Payroll Operation | G31: 47271.48 | H31: Yes | I31: 47271.48 | K31: 47271.48
C32: 16222000 | F32: Bursar | G32: 134309.83 | H32: Yes | I32: 134309.83 | K32: 134309.83
C33: 16223000 | F33: Cashier | G33: 114891.75 | H33: Yes | I33: 114891.75 | K33: 114891.75
C34: 16224000 | F34: Disbursement | K34: 0
C35: 16225000 | F35: Accounting | K35: 0
C36: 16230000 | F36: Investment Management | K36: 0
C37: 16231000 | F37: Cash Flow Management | K37: 0
C38: 16232000 | F38: Endowment Management | K38: 0
C39: 16240000 | F39: Grants and Contracts Financial Management | G39: 0 | K39: 0
